Workbook
Name April: [1]RawDataCliniclTtlPnt!$D$5:$D$454
Name Clinical: [1]RawDataCliniclTtlPnt!$F$5:$F$454
Name EpsYrLookup: '2.2a'!$B$9:$I$131
Name IncYrLookup: '2.2a'!$B$9:$H$131
Name PPP: '[2]£perPoint'!$B$2
Name SCO_2016_4CH: [3]Deaths_4Char!$A$79:$AH$111
Name SCO_2016_ALL: [3]Vital_Events_6.04!$A$1:$AJ$1778
Name Total: [1]RawDataCliniclTtlPnt!$E$5:$E$454
Name WAL_ADMISS_2005_06: [4]WAL_Admissions!$A$3:$E$116
Name WAL_ADMISS_2006_07: [4]WAL_Admissions!$A$117:$E$229
Name WAL_ADMISS_2007_08: [4]WAL_Admissions!$A$230:$E$343
Name WAL_ADMISS_2008_09: [4]WAL_Admissions!$A$344:$E$456
Name WAL_ADMISS_2009_10: [4]WAL_Admissions!$A$457:$E$569

Sheet CHAPTER 2
A11: Heart and Circulatory Disease Statistics 2018 - Chapter 2 - Morbidity
A12: This chapter reports on the morbidity of a number of heart and circulatory conditions, including cardiovascular disease (CVD), coronary heart disease (CHD), myocardial infarction (heart attack), heart failure, and stroke.
A13: Drawing on data from hospital episode and admissions statistics, GP registers and national health surveys, we present current estimates as well as trend data for incidence and prevalence of these conditions.
A14: Collecting accurate data is a challenge since the presence and onset of disease is not absolute. Individuals may not be aware that they have a disease or be able to accurately report its onset.
A15: Moreover, some diseases might be misdiagnosed by health professionals. As a result, the estimates of morbidity presented in this chapter should be interpreted with some caution.
A16: KEY: T=Table F=Figure(Graph/Pie Chart)
A18: INCIDENCE - HOSPITAL EPISODES
A19: T2.1 | C19: Inpatient episodes by main diagnosis in NHS hospitals, by gender, England, Scotland, Wales, Northern Ireland and United Kingdom 2017/18
A20: F2.1a-b | C20: Inpatient episodes by main diagnosis in NHS hospitals, by gender, United Kingdom 2017/18
A21: F2.1c-d | C21: Inpatient episodes by main diagnosis in NHS hospitals, by gender, England 2017/18
A22: F2.1e-f | C22: Inpatient episodes by main diagnosis in NHS hospitals, by gender, Scotland 2017/18
A23: F2.1g-h | C23: Inpatient episodes by main diagnosis in NHS hospitals, by gender, Wales 2017/18
A24: F2.1i-j | C24: Inpatient episodes by main diagnosis in NHS hospitals, by gender, Northern Ireland 2017/18
A26: TRENDS IN INCIDENCE - HOSPITAL EPISODES
A27: T2.2a | C27: All inpatient episodes by main diagnosis, England, Scotland, Wales, Northern Ireland and United Kingdom 2005/06 - 2017/18
A28: T2.2b | C28: Inpatient episodes by main diagnosis for men, England, Scotland, Wales, Northern Ireland and United Kingdom 2005/06 - 2017/18
A29: T2.2c | C29: Inpatient episodes by main diagnosis for women, England, Scotland, Wales, Northern Ireland and United Kingdom 2005/06 - 2017/18
A30: F2.2d | C30: All inpatient episodes by main diagnosis, England 2005/06 - 2017/18
A31: F2.2e | C31: All inpatient episodes by main diagnosis, Scotland 2009/10 - 2017/18
A32: F2.2f | C32: All inpatient episodes by main diagnosis, Wales 2005/06 - 2017/18
A33: F2.2g | C33: All inpatient episodes by main diagnosis, Northern Ireland 2010/11 - 2017/18
A35: INCIDENCE - HOSPITAL ADMISSIONS
A36: T2.3 | C36: Inpatient admissions by main diagnosis in NHS hospitals, by gender, England, Scotland, Wales, Northern Ireland and United Kingdom latest
A37: F2.3a-b | C37: Inpatient admissions by main diagnosis in NHS hospitals, by gender, United Kingdom latest
A38: F2.3c-d | C38: Inpatient admissions by main diagnosis in NHS hospitals, by gender, England 2017/18
A39: F2.3e-f | C39: Inpatient admissions by main diagnosis in NHS hospitals, by gender, Scotland 2017/18
A40: F2.3g-h | C40: Inpatient admissions by main diagnosis in NHS hospitals, by gender, Wales 2017/18
A41: F2.3i-j | C41: Inpatient admissions by main diagnosis in NHS hospitals, by gender, Northern Ireland 2017/18
A43: TRENDS IN INCIDENCE - HOSPITAL ADMISSIONS
A44: T2.4a | C44: All inpatient admissions by main diagnosis, England, Scotland, Wales, Northern Ireland and United Kingdom 2009/10 - 2017/18
A45: T2.4b | C45: Inpatient admissions by main diagnosis for men, England, Scotland, Wales, Northern Ireland and United Kingdom 2009/10 - 2017/18
A46: T2.4c | C46: Inpatient admissions by main diagnosis for women, England, Scotland, Wales, Northern Ireland and United Kingdom 2009/10 - 2017/18
A47: F2.4d | C47: All inpatient admissions by main diagnosis, England 2009/10 - 2017/18
A48: F2.4e | C48: All inpatient admissions by main diagnosis, Scotland 2009/10 - 2017/18
A49: F2.4f | C49: All inpatient admissions by main diagnosis, Wales 2009/10 - 2017/18
A50: F2.4g | C50: All inpatient admissions by main diagnosis, Northern Ireland 2010/11 - 2017/18
A52: PREVALENCE AND INCIDENCE
A53: T2.5 | C53: Prevalence of selected cardiovascular conditions by UK nation and English region, United Kingdom - 2017/18
A54: T2.6 | C54: Incidence of heart and circulatory diseases (CVD), coronary heart disease (CHD), and stroke (CBVD) by UK nation and English region, 2017
A55: T2.7 | C55: Prevalence of heart and circulatory diseases (CVD), coronary heart disease (CHD), and stroke (CBVD) by UK nation and English region, 2017
...

Sheet 2.1
A1: Table 2.1 Inpatient episodes by main diagnosis in National Health Service hospitals by gender, England, Scotland, Wales, Northern Ireland and United Kingdom 2014/15
B3: England | E3: Scotland | H3: Wales | K3: Northern Ireland | N3: United Kingdom
B4: Men | C4: Women | E4: Men | F4: Women | H4: Men | I4: Women | K4: Men | L4: Women | N4: Men | O4: Women
A6: All diagnoses | B6: 8359373 | C6: 10370257 | E6: 739771 | F6: 824565 | H6: 428886 | I6: 540120 | K6: 314279 | L6: 306185 | N6: 9842309 | O6: 12041127
A8: All diseases of the circulatory system (I00-I99) | B8: 804412 | C8: 618907 | E8: 88497 | F8: 69179 | H8: 46862 | I8: 36446 | K8: 25773 | L8: 18819 | N8: 965544 | O8: 743351
A9: Coronary heart disease (I20-I25) | B9: 260052 | C9: 133479 | E9: 31625 | F9: 16711 | H9: 15129 | I9: 7703 | K9: 10418 | L9: 4596 | N9: 317224 | O9: 162489
A10: Stroke (160-169) | B10: 98597 | C10: 99196 | E10: 13025 | F10: 13582 | H10: 6009 | I10: 6467 | K10: 1242 | L10: 1244 | N10: 118873 | O10: 120489
A11: Other cardiovascular disease | B11: 445763 | C11: 386232 | E11: 43847 | F11: 38886 | H11: 25724 | I11: 22276 | K11: 14113 | L11: 12979 | N11: 529447 | O11: 460373
A13: Specific conditions:-
A14: Angina pectoris (I20) | B14: 41697 | C14: 27761 | E14: 3877 | F14: 2781 | H14: 2093 | I14: 1352 | K14: 1726 | L14: 875 | N14: 49393 | O14: 32769
A15: Acute myocardial infarction (I21) | B15: 93729 | C15: 53382 | E15: 6295 | F15: 3671 | H15: 5584 | I15: 3043 | K15: 3468 | L15: 1846 | N15: 109076 | O15: 61942
A16: Heart failure (I50) | B16: 77031 | C16: 69116 | E16: 7241 | F16: 6301 | H16: 4758 | I16: 4296 | K16: 2382 | L16: 2349 | N16: 91412 | O16: 82062
A17: Diabetes (E10-E14) | B17: 40384 | C17: 33669 | E17: 4493 | F17: 4139 | H17: 2571 | I17: 1927 | K17: 1278 | L17: 1091 | N17: 48726 | O17: 40826
A18: Obesity (E66) | B18: 2921 | C18: 7505 | E18: 83 | F18: 191 | H18: 72 | I18: 80 | K18: 18 | L18: 27 | N18: 3094 | O18: 7803
A20: All cancer (C00-D48) | B20: 981108 | C20: 1019546 | E20: 97292 | F20: 109886 | H20: 37871 | I20: 34513 | K20: 34327 | L20: 36069 | N20: 1150598 | O20: 1200014
A21: Colo-rectal cancer (C18-C21) | B21: 132071 | C21: 94463 | E21: 11472 | F21: 8547 | H21: 3346 | I21: 2466 | K21: 3195 | L21: 2338 | N21: 150084 | O21: 107814
A22: Lung cancer (C33-C34) | B22: 102879 | C22: 87682 | E22: 9060 | F22: 8911 | H22: 2416 | I22: 2087 | K22: 2255 | L22: 1981 | N22: 116610 | O22: 100661
A23: Breast cancer (C50) | B23: 1789 | C23: 265149 | E23: 107 | F23: 21614 | H23: 28 | I23: 4170 | K23: 18 | L23: 7297 | N23: 1942 | O23: 298230
A24: Bladder cancer (C67) | B24: 78767 | C24: 24790 | E24: 3349 | F24: 1596 | H24: 2885 | I24: 939 | K24: 1951 | L24: 523 | N24: 86952 | O24: 27848
A26: All diseases of the nervous system (G00-G99) | B26: 191862 | C26: 232097 | E26: 16891 | F26: 20995 | H26: 9399 | I26: 12268 | K26: 4554 | L26: 6163 | N26: 222706 | O26: 271523
A27: All diseases of the respiratory system (J00-J99) | B27: 726653 | C27: 733534 | E27: 70626 | F27: 78529 | H27: 45147 | I27: 45266 | K27: 25490 | L27: 27372 | N27: 867916 | O27: 884701
... A31: All other diagnoses | B31: 3429726 | C31: 5151754 | E31: 266842 | F31: 321644 | H31: 172992 | I31: 280831 | K31: 91112 | L31: 97378 | N31: 3960672 | O31: 5851607
A33: Notes: | B33: Finished consultant episodes (FCE); ordinary admissions and day cases combined. Pregnancy cases not included. ICD-10 codes in parentheses.
B34: Differences between countries in the categorisation of episodes: in both England and Scotland, a FCE ends when the consultant changes. However, in Scotland a change of sub-specialty results in a new FCE, whereas in England it does not. E.g. if a patient goes from a cardiac ward to an ITU and is still under the care of the same consultant, in England this would be counted as 1 FCE and in Scotland it would be counted as 2 FCE.
A36: Source: | B36: Health & Social Care Information Centre (2015). Hospital Episode Statistics 2014/15. www.hscic.gov.uk/(accessed Jan 2016).
B37: Information Services Division Scotland (2015) Main diagnosis discharges from hospital 2014/15. www.isdscotland.org (accessed Jan 2016) and personal correspondence.
B38: NHS Wales Informatics Service (2015). The Patient Episode Database for Wales- 2014/15. www.infoandstats.wales.nhs.uk (accessed Jan 2016).
B39: Hospital Information Branch (2014). Northern Ireland Episode Based Inpatient and Day Case Activity Data (2014/15) www.dhsspsni.gov.uk (accessed Jan 2016).

Sheet 2.1(data)
A1: Table 2.1 Inpatient episodes by main diagnosis in National Health Service hospitals by gender, England, Scotland, Wales, Northern Ireland and United Kingdom 2017/18
A2: Back to Table of Contents
B3: England 2017/18 | D3: Scotland 2017/18 | F3: Wales 2017/18 | H3: Northern Ireland 2017/18 | J3: United Kingdom, 2017/18
B4: Men | C4: Women | D4: Men | E4: Women | F4: Men | G4: Women | H4: Men | I4: Women | J4: Men | K4: Women | L4: Both
A5: All diagnoses | B5: 9030954 | C5: 10997823 | D5: 787367 | E5: 859571 | F5: 457132 | G5: 579237 | H5: 330581 | I5: 324644 | J5: 10558438 | K5: 12726269 | L5: 23284707
A7: All heart and circulatory diseases (F01, I00-I99, Q20-Q28) | B7: 849991 | C7: 634904 | D7: 94218 | E7: 72959 | F7: 41986 | G7: 32348 | H7: 25376 | I7: 18277 | J7: 1005850 | K7: 754708 | L7: 1760558
A8: Coronary heart disease (I20-I25) | B8: 265359 | C8: 132267 | D8: 32448 | E8: 17488 | F8: 13537 | G8: 7224 | H8: 9863 | I8: 4295 | J8: 320384 | K8: 160497 | L8: 480881
A9: Angina pectoris (I20) | B9: 40515 | C9: 25640 | D9: 3820 | E9: 2555 | F9: 1797 | G9: 1166 | H9: 1351 | I9: 648 | J9: 47540 | K9: 30235 | L9: 77775
A10: Myocardial infarction (I21-I22) | B10: 105637 | C10: 57453 | D10: 16090 | E10: 9693 | F10: 6482 | G10: 3571 | H10: 4082 | I10: 1999 | J10: 132291 | K10: 72716 | L10: 205007
A11: Stroke (160-169) | B11: 106514 | C11: 104418 | D11: 14369 | E11: 15018 | F11: 5495 | G11: 5312 | H11: 1108 | I11: 1205 | J11: 126142 | K11: 124517 | L11: 250659
A12: Atrial fibrillation (I48) | B12: 81883 | C12: 67907 | D12: 7629 | E12: 7405 | F12: 4312 | G12: 3934 | H12: 2702 | I12: 2122 | J12: 88897 | K12: 73963 | L12: 162860
A13: Heart failure (I50) | B13: 97528 | C13: 83127 | D13: 9056 | E13: 7985 | F13: 4819 | G13: 4314 | H13: 2725 | I13: 2702 | J13: 112313 | K13: 96444 | L13: 208757
A14: Other cardiovascular disease | B14: 280044 | C14: 229809 | D14: 29369 | E14: 23805 | F14: 12864 | G14: 10563 | H14: 8634 | I14: 7660 | J14: 338148 | K14: 280617 | L14: 618765
A15: Congenital malformations of the circulatory system (Q20-Q28) | B15: 14596 | C15: 13259 | D15: 1002 | E15: 896 | F15: 548 | G15: 503 | H15: 296 | I15: 274 | J15: 15440 | K15: 14036 | L15: 29476
A16: Vascular dementia (F01) | B16: 4067 | C16: 4117 | D16: 345 | E16: 362 | F16: 411 | G16: 498 | H16: 48 | I16: 19 | J16: 4526 | K16: 4634 | L16: 9160
A18: Diabetes (E10-E14) | B18: 49206 | C18: 38447 | D18: 5289 | E18: 4697 | F18: 2681 | G18: 2255 | H18: 1673 | I18: 1532 | J18: 58053 | K18: 46373
A19: Obesity (E66) | B19: 3268 | C19: 8875 | D19: 146 | E19: 280 | F19: 64 | G19: 138 | H19: 31 | I19: 21 | J19: 3446 | K19: 9225
A21: All cancer (C00-D48) | B21: 1088228 | C21: 1111898 | D21: 100683 | E21: 114099 | F21: 32502 | G21: 29715 | H21: 37481 | I21: 40351 | J21: 1255503 | K21: 1291850
A22: All diseases of the nervous system (G00-G99) | B22: 208462 | C22: 249240 | D22: 18869 | E22: 22396 | F22: 8588 | G22: 11116 | H22: 4577 | I22: 6036 | J22: 238518 | K22: 287387
A23: All diseases of the respiratory system (J00-J99) | B23: 835741 | C23: 863314 | D23: 85152 | E23: 97683 | F23: 47512 | G23: 48724 | H23: 29448 | I23: 32445 | J23: 983327 | K23: 1023012
A24: All diseases of the digestive system (K00-K93) | B24: 1224378 | C24: 1251188 | D24: 97620 | E24: 99310 | F24: 54099 | G24: 56159 | H24: 39471 | I24: 39397 | J24: 1410414 | K24: 1444756
A25: All diseases of the genitourinary system (N00-N99) | B25: 476981 | C25: 648954 | D25: 44185 | E25: 58421 | F25: 26348 | G25: 35140 | H25: 70141 | I25: 58994 | J25: 615309 | K25: 801401
A26: Injury and poisoning (S00-T98) | B26: 632145 | C26: 651806 | D26: 69499 | E26: 72144 | F26: 30292 | G26: 31397 | H26: 21184 | I26: 21331 | J26: 744363 | K26: 768211
A27: All other diagnoses | B27: 3662554 | C27: 5539197 | D27: 271706 | E27: 317582 | F27: 213060 | G27: 332245 | H27: 101199 | I27: 106260 | J27: 4243655 | K27: 6299346
A29: Notes
A30: Finished consultant episodes (FCE); ordinary admissions and day cases combined. Pregnancy cases not included. ICD-10 codes in parentheses.
A31: Differences between countries in the categorisation of episodes: in both England and Scotland, an FCE ends when the consultant changes.
A32: However, in Scotland a change of sub-specialty results in a new FCE, whereas in England it does not, e.g. if a patient goes from a cardiac ward
A33: to an ITU and is still under the care of the same consultant, in England this would be counted as 1 FCE and in Scotland it would be counted as 2 FCE.
A35: Source
A36: NHS Digital (2018). Hospital Episode Statistics 2017/18. | B36: https://digital.nhs.uk/data-and-information/publications/statistical/hospital-admitted-patient-care-activity/2017-18
A37: Information Services Division Scotland (2019) Main diagnosis discharges from hospital 2017/18. Personal correspondence.
A38: NHS Wales Informatics Service (2018). The Patient Episode Database for Wales- 2017/18. | E38: www.infoandstats.wales.nhs.uk
A39: Hospital Information Branch (2018). Northern Ireland Episode Based Inpatient and Day Case Activity Data (2017/18) | E39: www.health-ni.gov.uk/publications/acute-episode-based-activity-201718

Sheet 2.1ab
A1: Back to Table of Contents

Sheet 2.1cd
A1: Back to Table of Contents

Sheet 2.1ef
A1: Back to Table of Contents

Sheet 2.1gh
A1: Back to Table of Contents

Sheet 2.1ij
A1: Back to Table of Contents

Sheet Data for Figs 2.1
A1: Episodes | D1: England | H1: Scotland | L1: Wales | P1: Northern Ireland | T1: United Kingdom
D2: Men | H2: Men | L2: Men | P2: Men | T2: Men
D3: 3 | H3: 5 | L3: 7 | P3: 9 | T3: 11
D4: Figure 2.1c | H4: Figure 2.1e | L4: Figure 2.1g | P4: Figure 2.1i | T4: Figure 2.1a
D5: 9030954 | H5: 787367 | L5: 457132 | P5: 330581 | T5: 10606034
A6: Total | C6: All diagnoses | D6: 9030954 | G6: All diagnoses | H6: 787367 | K6: All diagnoses | L6: 457132 | O6: All diagnoses | P6: 330581 | S6: All diagnoses | T6: 10606034
A8: I20-I25 | B8: Coronary heart disease | C8: Coronary heart disease 2.9% | D8: 265359 | E8: 0.029383274 | G8: Coronary heart disease 4.1% | H8: 32448 | I8: 0.04121077 | K8: Coronary heart disease 3.0% | L8: 13537 | M8: 0.029612891 | O8: Coronary heart disease 3.0% | P8: 9863 | Q8: 0.02983535 | S8: Coronary heart disease 3.0% | T8: 321207 | U8: 0.030285307
A9: I60-I69 | B9: Stroke | C9: Stroke 1.2% | D9: 106514 | E9: 0.011794324 | G9: Stroke 1.8% | H9: 14369 | I9: 0.018249431 | K9: Stroke 1.2% | L9: 5495 | M9: 0.012020598 | O9: Stroke 0.3% | P9: 1108 | Q9: 0.0033516748 | S9: Stroke 1.2% | T9: 127486 | U9: 0.012020139
A10: I48 | B10: Atrial fibrillation | C10: Atrial fibrillation 0.9% | D10: 81883 | E10: 0.0090669269 | G10: Atrial fibrillation 1.0% | H10: 7629 | I10: 0.0096892555 | K10: Atrial fibrillation 0.9% | L10: 4312 | M10: 0.009432724 | O10: Atrial fibrillation 0.8% | P10: 2702 | Q10: 0.0081734885 | S10: Atrial fibrillation 0.9% | T10: 96526 | U10: 0.0091010457
A11: I50 | B11: Heart failure | C11: Heart failure 1.1% | D11: 97528 | E11: 0.010799302 | G11: Heart failure 1.2% | H11: 9056 | I11: 0.011501625 | K11: Heart failure 1.1% | L11: 4819 | M11: 0.010541813 | O11: Heart failure 0.8% | P11: 2725 | Q11: 0.008243063 | S11: Heart failure 1.1% | T11: 114128 | U11: 0.010760667
A12: Other CVD | B12: Other cardiovascular diseases | C12: Other cardiovascular diseases 3.1% | D12: 280044 | E12: 0.031009349 | G12: Other cardiovascular diseases 3.7% | H12: 29369 | I12: 0.037300268 | K12: Other cardiovascular diseases 2.8% | L12: 12864 | M12: 0.028140668 | O12: Other cardiovascular diseases 2.6% | P12: 8634 | Q12: 0.026117653 | S12: Other cardiovascular diseases 3.1% | T12: 330911 | U12: 0.031200258
A13: Q20-Q28 | B13: Congenital malformations of the circulatory system | C13: Congenital malformations of the circulatory system 0.2% | D13: 14596 | E13: 0.0016162191 | G13: Congenital malformations of the circulatory system 0.1% | H13: 1002 | I13: 0.0012725959 | K13: Congenital malformations of the circulatory system 0.1% | L13: 548 | M13: 0.0011987785 | O13: Congenital malformations of the circulatory system 0.1% | P13: 296 | Q13: 0.00089539326 | S13: Congenital malformations of the circulatory system 0.2% | T13: 16442 | U13: 0.0015502496
A14: F01 | B14: Vascular dementia | C14: Vascular dementia 0% | D14: 4067 | E14: 0.00045034002 | G14: Vascular dementia 0% | H14: 345 | I14: 0.00043816924 | K14: Vascular dementia 0.1% | L14: 411 | M14: 0.00089908385 | O14: Vascular dementia 0% | P14: 48 | Q14: 0.00014519891 | S14: Vascular dementia 0% | T14: 4871 | U14: 0.00045926687
A15: E10-E14 | B15: Diabetes | C15: Diabetes 0.5% | D15: 49206 | E15: 0.0054485938 | G15: Diabetes 0.7% | H15: 5289 | I15: 0.006717325 | K15: Diabetes 0.6% | L15: 2681 | M15: 0.0058648268 | O15: Diabetes 0.5% | P15: 1673 | Q15: 0.0050607869 | S15: Diabetes 0.6% | T15: 58849 | U15: 0.0055486339
A16: E66 | B16: Obesity | C16: Obesity 0% | D16: 3268 | E16: 0.00036186653 | G16: Obesity 0% | H16: 146 | I16: 0.00018542814 | K16: Obesity 0% | L16: 64 | M16: 0.00014000333 | O16: Obesity 0% | P16: 31 | Q16: 9.3774294e-05 | S16: Obesity 0% | T16: 3509 | U16: 0.0003308494
A17: G00-G99 | B17: All diseases of the nervous system | C17: All diseases of the nervous system 2% | D17: 208462 | E17: 0.023083054 | G17: All diseases of the nervous system 2% | H17: 18869 | I17: 0.023964682 | K17: All diseases of the nervous system 2% | L17: 8588 | M17: 0.018786696 | O17: All diseases of the nervous system 1% | P17: 4577 | Q17: 0.013845321 | S17: All diseases of the nervous system 2% | T17: 240496 | U17: 0.022675394
A18: J00-J99 | B18: All diseases of the respiratory system | C18: All diseases of the respiratory system 9% | D18: 835741 | E18: 0.092541829 | G18: All diseases of the respiratory system 11% | H18: 85152 | I18: 0.10814779 | K18: All diseases of the respiratory system 10% | L18: 47512 | M18: 0.10393497 | O18: All diseases of the respiratory system 9% | P18: 29448 | Q18: 0.08907953 | S18: All diseases of the respiratory system 9% | T18: 997853 | U18: 0.094083519
A19: C00-D48 | B19: All cancer | C19: All cancer 12% | D19: 1088228 | E19: 0.12049978 | G19: All cancer 13% | H19: 100683 | I19: 0.12787302 | K19: All cancer 7% | L19: 32502 | M19: 0.071099814 | O19: All cancer 11% | P19: 37481 | Q19: 0.11337917 | S19: All cancer 12% | T19: 1258894 | U19: 0.11869602
... A23: All Other | B23: All other causes | C23: All other causes 41% | D23: 3662554 | E23: 0.4055556 | G23: All other causes 35% | H23: 271706 | I23: 0.34508177 | K23: All other causes 47% | L23: 213060 | M23: 0.46607982 | O23: All other causes 31% | P23: 101199 | Q23: 0.30612467 | S23: All other causes 40% | T23: 4248519 | U23: 0.40057565
E24: 1 | I24: 1 | M24: 1 | Q24: 1 | U24: 1
C26: All cardiovascular diseases | D26: 651917 | E26: 0.072186947 | G26: All cardiovascular diseases | H26: 76186 | I26: 0.096760469 | K26: All cardiovascular diseases | L26: 31896 | M26: 0.069774157 | O26: All cardiovascular diseases | P26: 19605 | Q26: 0.059304679 | S26: All cardiovascular diseases | T26: 4004101 | U26: 0.073505704
D28: Women | H28: Women | L28: Women | P28: Women | T28: Women
D29: 4 | H29: 6 | L29: 8 | P29: 10 | T29: 12
D30: Figure 2.1d
H31: Figure 2.1f | L31: Figure 2.1h | P31: Figure 2.1j | T31: Figure 2.1b
D32: 10997823 | H32: 859571 | L32: 579237 | P32: 324644 | T32: 12761275
A33: Total | C33: All diagnoses | D33: 10997823 | G33: All diagnoses | H33: 859571 | K33: All diagnoses | L33: 579237 | O33: All diagnoses | P33: 324644 | S33: All diagnoses | T33: 12761275
A35: I20-I25 | B35: Coronary heart disease | C35: Coronary heart disease 1.2% | D35: 132267 | E35: 0.012026653 | G35: Coronary heart disease 2.0% | H35: 17488 | I35: 0.020345033 | K35: Coronary heart disease 1.2% | L35: 7224 | M35: 0.012471579 | O35: Coronary heart disease 1.3% | P35: 4295 | Q35: 0.013229876 | S35: Coronary heart disease 1.3% | T35: 161274 | U35: 0.012637765
A36: I60-I69 | B36: Stroke | C36: Stroke 0.9% | D36: 104418 | E36: 0.0094944245 | G36: Stroke 1.7% | H36: 15018 | I36: 0.017471506 | K36: Stroke 0.9% | L36: 5312 | M36: 0.0091706849 | O36: Stroke 0.4% | P36: 1205 | Q36: 0.0037117581 | S36: Stroke 1.0% | T36: 125953 | U36: 0.0098699385
A37: I48 | B37: Atrial fibrillation | C37: Atrial fibrillation 0.6% | D37: 67907 | E37: 0.0061745856 | G37: Atrial fibrillation 0.9% | H37: 7405 | I37: 0.0086147625 | K37: Atrial fibrillation 0.7% | L37: 3934 | M37: 0.0067916932 | O37: Atrial fibrillation 0.7% | P37: 2122 | Q37: 0.0065363906 | S37: Atrial fibrillation 0.6% | T37: 81368 | U37: 0.0063761654
A38: I50 | B38: Heart failure | C38: Heart failure 0.8% | D38: 83127 | E38: 0.0075584959 | G38: Heart failure 0.9% | H38: 7985 | I38: 0.0092895177 | K38: Heart failure 0.7% | L38: 4314 | M38: 0.0074477286 | O38: Heart failure 0.8% | P38: 2702 | Q38: 0.008322963 | S38: Heart failure 0.8% | T38: 98128 | U38: 0.0076895138
A39: Other CVD | B39: Other cardiovascular diseases | C39: Other cardiovascular diseases 2.1% | D39: 229809 | E39: 0.020895863 | G39: Other cardiovascular diseases 2.8% | H39: 23805 | I39: 0.027694047 | K39: Other cardiovascular diseases 1.8% | L39: 10563 | M39: 0.018236059 | O39: Other cardiovascular diseases 2.4% | P39: 7660 | Q39: 0.023595076 | S39: Other cardiovascular diseases 2.1% | T39: 271837 | U39: 0.021301712
A40: Q20-Q28 | B40: Congenital malformations of the circulatory system | C40: Congenital malformations of the circulatory system 0.1% | D40: 13259 | E40: 0.0012056022 | G40: Congenital malformations of the circulatory system 0.1% | H40: 896 | I40: 0.0010423804 | K40: Congenital malformations of the circulatory system 0.1% | L40: 503 | M40: 0.00086838375 | O40: Congenital malformations of the circulatory system 0.1% | P40: 274 | Q40: 0.00084400143 | S40: Congenital malformations of the circulatory system 0.1% | T40: 14932 | U40: 0.0011701025
A41: F01 | B41: Vascular dementia | C41: Vascular dementia 0% | D41: 4117 | E41: 0.00037434681 | G41: Vascular dementia 0% | H41: 362 | I41: 0.00042114031 | K41: Vascular dementia 0.1% | L41: 498 | M41: 0.00085975171 | O41: Vascular dementia 0% | P41: 19 | Q41: 5.8525647e-05 | S41: Vascular dementia 0% | T41: 4996 | U41: 0.00039149693
A42: E10-E14 | B42: Diabetes | C42: Diabetes 0.3% | D42: 38447 | E42: 0.0034958737 | G42: Diabetes 0.5% | H42: 4697 | I42: 0.0054643537 | K42: Diabetes 0.4% | L42: 2255 | M42: 0.0038930524 | O42: Diabetes 0.5% | P42: 1532 | Q42: 0.0047190153 | S42: Diabetes 0.4% | T42: 46931 | U42: 0.0036776106
A43: E66 | B43: Obesity | C43: Obesity 0.1% | D43: 8875 | E43: 0.00080697789 | G43: Obesity 0% | H43: 280 | I43: 0.00032574389 | K43: Obesity 0% | L43: 138 | M43: 0.00023824445 | O43: Obesity 0% | P43: 21 | Q43: 6.4686241e-05 | S43: Obesity 0.1% | T43: 9314 | U43: 0.00072986437
A44: G00-G99 | B44: All diseases of the nervous system | C44: All diseases of the nervous system 2% | D44: 249240 | E44: 0.022662667 | G44: All diseases of the nervous system 3% | H44: 22396 | I44: 0.026054858 | K44: All diseases of the nervous system 2% | L44: 11116 | M44: 0.019190763 | O44: All diseases of the nervous system 2% | P44: 6036 | Q44: 0.018592674 | S44: All diseases of the nervous system 2% | T44: 288788 | U44: 0.022630027
A45: J00-J99 | B45: All diseases of the respiratory system | C45: All diseases of the respiratory system 8% | D45: 863314 | E45: 0.078498627 | G45: All diseases of the respiratory system 11% | H45: 97683 | I45: 0.11364157 | K45: All diseases of the respiratory system 8% | L45: 48724 | M45: 0.084117555 | O45: All diseases of the respiratory system 10% | P45: 32445 | Q45: 0.099940242 | S45: All diseases of the respiratory system 8% | T45: 1042166 | U45: 0.081666291
A46: C00-D48 | B46: All cancer | C46: All cancer 10% | D46: 1111898 | E46: 0.10110165 | G46: All cancer 13% | H46: 114099 | I46: 0.13273947 | K46: All cancer 5% | L46: 29715 | M46: 0.051300245 | O46: All cancer 12% | P46: 40351 | Q46: 0.12429307 | S46: All cancer 10% | T46: 1296063 | U46: 0.10156219
... A50: All Other | B50: All other causes | C50: All other causes 50% | D50: 5539197 | E50: 0.50366304 | G50: All other causes 37% | H50: 317582 | I50: 0.3694657 | K50: All other causes 57% | L50: 332245 | M50: 0.57359078 | O50: All other causes 33% | P50: 106260 | Q50: 0.32731238 | S50: All other causes 49% | T50: 6295284 | U50: 0.49331152
...

Sheet 2.2a
A1: Table 2.2a All inpatient episodes by main diagnosis in NHS hospitals, England, Scotland, Wales, Northern Ireland and United Kingdom, 2005/06 - 2017/18
A2: Back to Table of Contents
A3: ALL | D3: 2005/06 | E3: 2006/07 | F3: 2007/08 | G3: 2008/09 | H3: 2009/10 | I3: 2010/11 | J3: 2011/12 | K3: 2012/13 | L3: 2013/14 | M3: 2014/15 | N3: 2015/16 | O3: 2016/17 | P3: 2017/18
A5: England | B5: Heart and circulatory diseases (CVD) (I00-I99) | D5: 1244004 | E5: 1255590 | F5: 1274674 | G5: 1322295 | H5: 1358247 | I5: 1371809 | J5: 1381635 | K5: 1374094 | L5: 1401232 | M5: 1423319 | N5: 1480320 | O5: 1418802 | P5: 1448856
B6: Coronary heart disease (I20-I25) | D6: 428262 | E6: 427913 | F6: 424247 | G6: 422334 | H6: 407675 | I6: 405096 | J6: 409508 | K6: 404089 | L6: 401007 | M6: 393531 | N6: 393887 | O6: 396316 | P6: 397626
C7: Myocardial infarction (I21-I22) | K7: 143532 | L7: 148259 | M7: 148460 | N7: 154857 | O7: 159085 | P7: 163090
B8: Stroke (I60-I69) | D8: 178321 | E8: 176452 | F8: 179999 | G8: 190101 | H8: 203705 | I8: 198335 | J8: 194436 | K8: 196081 | L8: 197356 | M8: 197793 | N8: 203582 | O8: 205680 | P8: 210932
B9: Other cardiovascular disease | D9: 637421 | E9: 651225 | F9: 670428 | G9: 709860 | H9: 746867 | I9: 768378 | J9: 777691 | K9: 773924 | L9: 802869 | M9: 831995 | N9: 882851 | O9: 816806 | P9: 840298
A11: Scotland | B11: Heart and circulatory diseases (CVD) (I00-I99) | H11: 144900 | I11: 149032 | J11: 148739 | K11: 148766 | L11: 157298 | M11: 157676 | N11: 169303 | O11: 165884 | P11: 164572
B12: Coronary heart disease (I20-I25) | H12: 47923 | I12: 50157 | J12: 48699 | K12: 47640 | L12: 49615 | M12: 48336 | N12: 49424 | O12: 50845 | P12: 49936
C13: Myocardial infarction (I21-I22)** | K13: 22077 | L13: 25860 | M13: 25362 | N13: 26454 | O13: 26924 | P13: 25783
B14: Stroke (I60-I69) | H14: 22441 | I14: 22639 | J14: 22662 | K14: 23737 | L14: 19257 | M14: 26607 | N14: 28359 | O14: 29392 | P14: 29387
B15: Other cardiovascular disease | H15: 74536 | I15: 76236 | J15: 77378 | K15: 77389 | L15: 88426 | M15: 82733 | N15: 91520 | O15: 85647 | P15: 85249
A17: Wales | B17: Heart and circulatory diseases (CVD) (I00-I99) | D17: 74824 | E17: 75338 | F17: 75981 | G17: 78714 | H17: 81599 | I17: 80903 | J17: 77589 | K17: 80953 | L17: 88105 | M17: 83308 | N17: 85068 | O17: 79167 | P17: 72374
B18: Coronary heart disease (I20-I25) | D18: 24516 | E18: 25060 | F18: 25156 | G18: 25074 | H18: 24893 | I18: 24300 | J18: 23904 | K18: 24335 | L18: 25647 | M18: 22832 | N18: 23398 | O18: 22399 | P18: 20761
C19: Myocardial infarction (I21-I22) | K19: 9031 | L19: 9731 | M19: 8688 | N19: 9960 | O19: 9844 | P19: 10053
B20: Stroke (I60-I69) | D20: 11660 | E20: 11143 | F20: 11188 | G20: 12313 | H20: 12411 | I20: 12471 | J20: 11460 | K20: 12080 | L20: 13265 | M20: 12476 | N20: 12405 | O20: 11648 | P20: 10807
B21: Other cardiovascular disease | D21: 38648 | E21: 39135 | F21: 39637 | G21: 41327 | H21: 44295 | I21: 44132 | J21: 42225 | K21: 44538 | L21: 49193 | M21: 48000 | N21: 49265 | O21: 45120 | P21: 40806
A23: Northern Ireland | B23: Heart and circulatory diseases (CVD) (I00-I99) | I23: 42887 | J23: 46617 | K23: 42875 | L23: 44296 | M23: 44592 | N23: 44488 | O23: 42515 | P23: 43016
B24: Coronary heart disease (I20-I25) | I24: 14409 | J24: 14060 | K24: 14520 | L24: 15378 | M24: 15014 | N24: 14963 | O24: 14262 | P24: 14158
C25: Myocardial infarction (I21-I22) | K25: 4614 | L25: 5288 | M25: 5369 | N25: 5776 | O25: 5985 | P25: 6081
B26: Stroke (I60-I69) | I26: 4872 | J26: 3199 | K26: 2943 | L26: 3383 | M26: 2486 | N26: 2202 | O26: 2208 | P26: 2313
B27: Other cardiovascular disease | I27: 23606 | J27: 29358 | K27: 25412 | L27: 25535 | M27: 27092 | N27: 27323 | O27: 26045 | P27: 26545
A29: United Kingdom | B29: Heart and circulatory diseases (CVD) (I00-I99) | I29: 1644631 | J29: 1654580 | K29: 1646688 | L29: 1690931 | M29: 1708895 | N29: 1779179 | O29: 1706368 | P29: 1728818
B30: Coronary heart disease (I20-I25) | I30: 493962 | J30: 496171 | K30: 490584 | L30: 491647 | M30: 479713 | N30: 481672 | O30: 483822 | P30: 482481
C31: Myocardial infarction (I21-I22) | K31: 179254 | L31: 189138 | M31: 187879 | N31: 197047 | O31: 201838 | P31: 205007
B32: Stroke (I60-I69) | I32: 238317 | J32: 231757 | K32: 234841 | L32: 233261 | M32: 239362 | N32: 246548 | O32: 248928 | P32: 253439
B33: Other cardiovascular disease | I33: 912352 | J33: 926652 | K33: 921263 | L33: 966023 | M33: 989820 | N33: 1050959 | O33: 973618 | P33: 992898
A35: Notes: | B35: Finished consultant episodes; ordinary admissions and day cases combined. Pregnancy cases not included. ICD-10 codes in parentheses.
B36: ** Scotland - figures for 2012/13 to 2014/15 do not include subsequent myocardial infarction (I22)
A38: Source: | B38: NHS Digital (2018). Hospital Episode Statistics. | D38: https://digital.nhs.uk/data-and-information/publications/statistical/hospital-admitted-patient-care-activity/
B39: Information Services Division Scotland (2019) Main diagnosis discharges from hospital. Personal correspondence.
B40: NHS Wales Informatics Service (2018). The Patient Episode Database for Wales. | I40: www.infoandstats.wales.nhs.uk
B41: Hospital Information Branch (2018). Northern Ireland Episode Based Inpatient and Day Case Activity Data | I41: www.health-ni.gov.uk/articles/episode-based-activity

Sheet 2.2b
A1: Table 2.2b Inpatient episodes by main diagnosis in NHS hospitals in men, England, Scotland, Wales, Northern Ireland and United Kingdom, 2005/06 - 2017/18
A2: Back to Table of Contents
A3: MEN | D3: 2005/06 | E3: 2006/07 | F3: 2007/08 | G3: 2008/09 | H3: 2009/10 | I3: 2010/11 | J3: 2011/12 | K3: 2012/13 | L3: 2013/14 | M3: 2014/15 | N3: 2015/16 | O3: 2016/17 | P3: 2017/18
A5: England | B5: Heart and circulatory diseases (CVD) (I00-I99) | D5: 694974 | E5: 705822 | F5: 715200 | G5: 741384 | H5: 759672 | I5: 767889 | J5: 779921 | K5: 777888 | L5: 793952 | M5: 804412 | N5: 838567 | O5: 811101 | P5: 831328
B6: Coronary heart disease (I20-I25) | D6: 274816 | E6: 276900 | F6: 275069 | G6: 274163 | H6: 265667 | I6: 263538 | J6: 266954 | K6: 265102 | L6: 264934 | M6: 260052 | N6: 261024 | O6: 263513 | P6: 265359
C7: Myocardial infarction (I21-I22) | K7: 89924 | L7: 94323 | M7: 94566 | N7: 99026 | O7: 102729 | P7: 105637
B8: Stroke (I60-I69) | D8: 85041 | E8: 84271 | F8: 86372 | G8: 91363 | H8: 97878 | I8: 96364 | J8: 95294 | K8: 96502 | L8: 97593 | M8: 98597 | N8: 102188 | O8: 103758 | P8: 106514
B9: Other cardiovascular disease | D9: 335117 | E9: 344651 | F9: 353759 | G9: 375858 | H9: 396127 | I9: 407987 | J9: 417673 | K9: 416284 | L9: 431425 | M9: 445763 | N9: 475355 | O9: 443830 | P9: 459455
A11: Scotland | B11: Heart and circulatory diseases (CVD) (I00-I99) | H11: 80575 | I11: 83336 | J11: 83040 | K11: 83723 | L11: 87460 | M11: 88497 | N11: 95072 | O11: 94081 | P11: 92871
B12: Coronary heart disease (I20-I25) | H12: 30871 | I12: 32357 | J12: 31154 | K12: 31154 | L12: 31695 | M12: 31625 | N12: 31866 | O12: 33206 | P12: 32448
C13: Myocardial infarction (I21-I22)** | K13: 14001 | L13: 16003 | M13: 16024 | N13: 16488 | O13: 16932 | P13: 16090
B14: Stroke (I60-I69) | H14: 10898 | I14: 10965 | J14: 10864 | K14: 11565 | L14: 9430 | M14: 13025 | N14: 14078 | O14: 14697 | P14: 14369
B15: Other cardiovascular disease | H15: 38806 | I15: 40014 | J15: 41022 | K15: 41004 | L15: 46335 | M15: 43847 | N15: 49128 | O15: 46178 | P15: 46054
A17: Wales | B17: Heart and circulatory diseases (CVD) (I00-I99) | D17: 40598 | E17: 41128 | F17: 41525 | G17: 43120 | H17: 44510 | I17: 44492 | J17: 42800 | K17: 45446 | L17: 49671 | M17: 46862 | N17: 47575 | O17: 45283 | P17: 41027
B18: Coronary heart disease (I20-I25) | D18: 15153 | E18: 15597 | F18: 15821 | G18: 15946 | H18: 15915 | I18: 15621 | J18: 15240 | K18: 15745 | L18: 16806 | M18: 15129 | N18: 15128 | O18: 14620 | P18: 13537
C19: Myocardial infarction (I21-I22) | K19: 5606 | L19: 6194 | M19: 5619 | N19: 6338 | O19: 6255 | P19: 6482
B20: Stroke (I60-I69) | D20: 5461 | E20: 5460 | F20: 5304 | G20: 5715 | H20: 5827 | I20: 6045 | J20: 5389 | K20: 5672 | L20: 6617 | M20: 6009 | N20: 5961 | O20: 5960 | P20: 5495
B21: Other cardiovascular disease | D21: 19984 | E21: 20071 | F21: 20400 | G21: 21459 | H21: 22768 | I21: 22826 | J21: 22171 | K21: 24029 | L21: 26248 | M21: 25724 | N21: 26486 | O21: 24703 | P21: 21995
A23: Northern Ireland | B23: Heart and circulatory diseases (CVD) (I00-I99) | I23: 24499 | J23: 26591 | K23: 24154 | L23: 25674 | M23: 25773 | N23: 25922 | O23: 24750 | P23: 25032
B24: Coronary heart disease (I20-I25) | I24: 9800 | J24: 9521 | K24: 9846 | L24: 10697 | M24: 10418 | N24: 10386 | O24: 9798 | P24: 9863
C25: Myocardial infarction (I21-I22) | K25: 2962 | L25: 3461 | M25: 3518 | N25: 3784 | O25: 3938 | P25: 4082
B26: Stroke (I60-I69) | I26: 2485 | J26: 1628 | K26: 1437 | L26: 1742 | M26: 1242 | N26: 1126 | O26: 1039 | P26: 1108
B27: Other cardiovascular disease | I27: 12214 | J27: 15442 | K27: 12871 | L27: 13235 | M27: 14113 | N27: 14410 | O27: 13913 | P27: 14061
A29: United Kingdom | B29: Heart and circulatory diseases (CVD) (I00-I99) | I29: 920216 | J29: 932352 | K29: 931211 | L29: 956757 | M29: 965544 | N29: 1007136 | O29: 975215 | P29: 990258
B30: Coronary heart disease (I20-I25) | I30: 321316 | J30: 322869 | K30: 321847 | L30: 324132 | M30: 317224 | N30: 318404 | O30: 321137 | P30: 321207
C31: Myocardial infarction (I21-I22) | K31: 112493 | L31: 119981 | M31: 119727 | N31: 125636 | O31: 129854 | P31: 132291
B32: Stroke (I60-I69) | I32: 115859 | J32: 113175 | K32: 115176 | L32: 115382 | M32: 118873 | N32: 123353 | O32: 125454 | P32: 127486
B33: Other cardiovascular disease | I33: 483041 | J33: 496308 | K33: 494188 | L33: 517243 | M33: 529447 | N33: 565379 | O33: 528624 | P33: 541565
A35: Notes: | B35: Finished consultant episodes; ordinary admissions and day cases combined. Pregnancy cases not included. ICD-10 codes in parentheses.
B36: ** Scotland - figures for 2012/13 to 2014/15 do not include subsequent myocardial infarction (I22)
A38: Source: | B38: NHS Digital (2018). Hospital Episode Statistics. | D38: https://digital.nhs.uk/data-and-information/publications/statistical/hospital-admitted-patient-care-activity/
B39: Information Services Division Scotland (2019) Main diagnosis discharges from hospital. Personal correspondence.
B40: NHS Wales Informatics Service (2018). The Patient Episode Database for Wales. | I40: www.infoandstats.wales.nhs.uk
B41: Hospital Information Branch (2018). Northern Ireland Episode Based Inpatient and Day Case Activity Data | I41: www.health-ni.gov.uk/articles/episode-based-activity

Sheet 2.2c
A1: Table 2.2c Inpatient episodes by main diagnosis in NHS hospitals in women, England, Scotland, Wales, Northern Ireland and United Kingdom, 2005/06 - 2017/18
A2: Back to Table of Contents
A3: WOMEN | D3: 2005/06 | E3: 2006/07 | F3: 2007/08 | G3: 2008/09 | H3: 2009/10 | I3: 2010/11 | J3: 2011/12 | K3: 2012/13 | L3: 2013/14 | M3: 2014/15 | N3: 2015/16 | O3: 2016/17 | P3: 2017/18
A5: England | B5: Heart and circulatory diseases (CVD) (I00-I99) | D5: 549030 | E5: 549768 | F5: 559474 | G5: 580911 | H5: 598575 | I5: 603920 | J5: 601714 | K5: 596206 | L5: 607280 | M5: 618907 | N5: 641753 | O5: 607701 | P5: 617528
B6: Coronary heart disease (I20-I25) | D6: 153446 | E6: 151013 | F6: 149178 | G6: 148171 | H6: 142008 | I6: 141558 | J6: 142554 | K6: 138987 | L6: 136073 | M6: 133479 | N6: 132863 | O6: 132803 | P6: 132267
C7: Myocardial infarction (I21-I22) | K7: 53608 | L7: 53936 | M7: 53894 | N7: 55831 | O7: 56356 | P7: 57453
B8: Stroke (I60-I69) | D8: 93280 | E8: 92181 | F8: 93627 | G8: 98738 | H8: 105827 | I8: 101971 | J8: 99142 | K8: 99579 | L8: 99763 | M8: 99196 | N8: 101394 | O8: 101922 | P8: 104418
B9: Other cardiovascular disease | D9: 302304 | E9: 306574 | F9: 316669 | G9: 334002 | H9: 350740 | I9: 360391 | J9: 360018 | K9: 357640 | L9: 371444 | M9: 386232 | N9: 407496 | O9: 372976 | P9: 380843
A11: Scotland | B11: Heart and circulatory diseases (CVD) (I00-I99) | H11: 64325 | I11: 65696 | J11: 65699 | K11: 65043 | L11: 69838 | M11: 69179 | N11: 74231 | O11: 71803 | P11: 71701
B12: Coronary heart disease (I20-I25) | H12: 17052 | I12: 17800 | J12: 17545 | K12: 16486 | L12: 17920 | M12: 16711 | N12: 17558 | O12: 17639 | P12: 17488
C13: Myocardial infarction (I21-I22)** | K13: 8076 | L13: 9857 | M13: 9338 | N13: 9966 | O13: 9992 | P13: 9693
B14: Stroke (I60-I69) | H14: 11543 | I14: 11674 | J14: 11798 | K14: 12172 | L14: 9827 | M14: 13582 | N14: 14281 | O14: 14695 | P14: 15018
B15: Other cardiovascular disease | H15: 35730 | I15: 36222 | J15: 36356 | K15: 36385 | L15: 42091 | M15: 38886 | N15: 42392 | O15: 39469 | P15: 39195
A17: Wales | B17: Heart and circulatory diseases (CVD) (I00-I99) | D17: 34220 | E17: 34207 | F17: 34456 | G17: 35594 | H17: 37089 | I17: 36410 | J17: 34789 | K17: 38084 | L17: 38434 | M17: 36446 | N17: 37493 | O17: 33884 | P17: 31347
B18: Coronary heart disease (I20-I25) | D18: 9357 | E18: 9461 | F18: 9335 | G18: 9128 | H18: 8978 | I18: 8679 | J18: 8664 | K18: 9214 | L18: 8841 | M18: 7703 | N18: 8270 | O18: 7779 | P18: 7224
C19: Myocardial infarction (I21-I22) | K19: 3425 | L19: 3537 | M19: 3069 | N19: 3622 | O19: 3589 | P19: 3571
B20: Stroke (I60-I69) | D20: 6199 | E20: 5683 | F20: 5884 | G20: 6598 | H20: 6584 | I20: 6426 | J20: 6071 | K20: 6878 | L20: 6648 | M20: 6467 | N20: 6444 | O20: 5688 | P20: 5312
B21: Other cardiovascular disease | D21: 18664 | E21: 19063 | F21: 19237 | G21: 19868 | H21: 21527 | I21: 21305 | J21: 20054 | K21: 21992 | L21: 22945 | M21: 22276 | N21: 22779 | O21: 20417 | P21: 18811
A23: Northern Ireland | B23: Heart and circulatory diseases (CVD) (I00-I99) | I23: 18388 | J23: 20026 | K23: 18721 | L23: 18622 | M23: 18819 | N23: 18566 | O23: 17765 | P23: 17984
B24: Coronary heart disease (I20-I25) | I24: 4609 | J24: 4539 | K24: 4674 | L24: 4681 | M24: 4596 | N24: 4577 | O24: 4464 | P24: 4295
C25: Myocardial infarction (I21-I22) | K25: 1652 | L25: 1827 | M25: 1851 | N25: 1992 | O25: 2047 | P25: 1999
B26: Stroke (I60-I69) | I26: 2387 | J26: 1571 | K26: 1506 | L26: 1641 | M26: 1244 | N26: 1076 | O26: 1169 | P26: 1205
B27: Other cardiovascular disease | I27: 11392 | J27: 13916 | K27: 12541 | L27: 12300 | M27: 12979 | N27: 12913 | O27: 12132 | P27: 12484
A29: United Kingdom | B29: Heart and circulatory diseases (CVD) (I00-I99) | I29: 724414 | J29: 722228 | K29: 718054 | L29: 734174 | M29: 743351 | N29: 772043 | O29: 731153 | P29: 738560
B30: Coronary heart disease (I20-I25) | I30: 172646 | J30: 173302 | K30: 169361 | L30: 167515 | M30: 162489 | N30: 163268 | O30: 162685 | P30: 161274
C31: Myocardial infarction (I21-I22) | K31: 66761 | L31: 69157 | M31: 68152 | N31: 71411 | O31: 71984 | P31: 72716
B32: Stroke (I60-I69) | I32: 122458 | J32: 118582 | K32: 120135 | L32: 117879 | M32: 120489 | N32: 123195 | O32: 123474 | P32: 125953
B33: Other cardiovascular disease | I33: 429310 | J33: 430344 | K33: 428558 | L33: 448780 | M33: 460373 | N33: 485580 | O33: 444994 | P33: 451333
A35: Notes: | B35: Finished consultant episodes; ordinary admissions and day cases combined. Pregnancy cases not included. ICD-10 codes in parentheses.
B36: For England, data for females up to and including 2011/12 is calculated as the difference between total finished consultant episodes and male consultant episodes.
B37: ** Scotland - figures for 2012/13 to 2014/15 do not include subsequent myocardial infarction (I22)
A39: Source: | B39: NHS Digital (2018). Hospital Episode Statistics. | D39: https://digital.nhs.uk/data-and-information/publications/statistical/hospital-admitted-patient-care-activity/
B40: Information Services Division Scotland (2019) Main diagnosis discharges from hospital. Personal correspondence.
B41: NHS Wales Informatics Service (2018). The Patient Episode Database for Wales. | I41: www.infoandstats.wales.nhs.uk
B42: Hospital Information Branch (2018). Northern Ireland Episode Based Inpatient and Day Case Activity Data | I42: www.health-ni.gov.uk/articles/episode-based-activity

Sheet 2.2d
A1: Back to Table of Contents

Sheet 2.2e
A1: Back to Table of Contents

Sheet 2.2f
A1: Back to Table of Contents

Sheet 2.2g
A1: Back to Table of Contents

Sheet Data for figs 2.2
A1: Data for figures 2.2d to 2.2g
A3: Figure 2.2d | B3: England | C3: 2005/06 | D3: 2006/07 | E3: 2007/08 | F3: 2008/09 | G3: 2009/10 | H3: 2010/11 | I3: 2011/12 | J3: 2012/13 | K3: 2013/14 | L3: 2014/15 | M3: 2015/16 | N3: 2016/17 | O3: 2017/18
B5: Cardiovascular disease (men) | C5: 694974 | D5: 705822 | E5: 715200 | F5: 741384 | G5: 759672 | H5: 767889 | I5: 779921 | J5: 777888 | K5: 793952 | L5: 804412 | M5: 838567 | N5: 811101 | O5: 831328
B6: Cardiovascular disease (women) | C6: 549030 | D6: 549768 | E6: 559474 | F6: 580911 | G6: 598575 | H6: 603920 | I6: 601714 | J6: 596206 | K6: 607280 | L6: 618907 | M6: 641753 | N6: 607701 | O6: 617528
B7: Coronary heart disease (men) | C7: 274816 | D7: 276900 | E7: 275069 | F7: 274163 | G7: 265667 | H7: 263538 | I7: 266954 | J7: 265102 | K7: 264934 | L7: 260052 | M7: 261024 | N7: 263513 | O7: 265359
B8: Coronary heart disease (women) | C8: 153446 | D8: 151013 | E8: 149178 | F8: 148171 | G8: 142008 | H8: 141558 | I8: 142554 | J8: 138987 | K8: 136073 | L8: 133479 | M8: 132863 | N8: 132803 | O8: 132267
B9: Acute myocardial infarction (men) | J9: 88314 | K9: 93389 | L9: 93729 | M9: 98250 | N9: 101801 | O9: 104702
B10: Acute myocardial infarction (women) | J10: 52676 | K10: 53311 | L10: 53382 | M10: 55263 | N10: 55755 | O10: 56913
B11: Stroke (men) | C11: 85041 | D11: 84271 | E11: 86372 | F11: 91363 | G11: 97878 | H11: 96364 | I11: 95294 | J11: 96502 | K11: 97593 | L11: 98597 | M11: 102188 | N11: 103758 | O11: 106514
B12: Stroke (women) | C12: 93280 | D12: 92181 | E12: 93627 | F12: 98738 | G12: 105827 | H12: 101971 | I12: 99142 | J12: 99579 | K12: 99763 | L12: 99196 | M12: 101394 | N12: 101922 | O12: 104418
B13: Other cardiovascular disease (men) | C13: 335117 | D13: 344651 | E13: 353759 | F13: 375858 | G13: 396127 | H13: 407987 | I13: 417673 | J13: 416284 | K13: 431425 | L13: 445763 | M13: 475355 | N13: 443830 | O13: 459455
B14: Other cardiovascular disease (women) | C14: 302304 | D14: 306574 | E14: 316669 | F14: 334002 | G14: 350740 | H14: 360391 | I14: 360018 | J14: 357640 | K14: 371444 | L14: 386232 | M14: 407496 | N14: 372976 | O14: 380843
A18: Figure 2.2e | B18: Scotland | C18: 2009/10 | D18: 2010/11 | E18: 2011/12 | F18: 2012/13 | G18: 2013/14 | H18: 2014/15 | I18: 2015/16 | J18: 2016/17 | K18: 2017/18
B20: Cardiovascular disease (men) | C20: 80575 | D20: 83336 | E20: 83040 | F20: 83723 | G20: 87460 | H20: 88497 | I20: 95072 | J20: 94081 | K20: 92871
B21: Cardiovascular disease (women) | C21: 64325 | D21: 65696 | E21: 65699 | F21: 65043 | G21: 69838 | H21: 69179 | I21: 74231 | J21: 71803 | K21: 71701
B22: Coronary heart disease (men) | C22: 30871 | D22: 32357 | E22: 31154 | F22: 31154 | G22: 31695 | H22: 31625 | I22: 31866 | J22: 33206 | K22: 32448
B23: Coronary heart disease (women) | C23: 17052 | D23: 17800 | E23: 17545 | F23: 16486 | G23: 17920 | H23: 16711 | I23: 17558 | J23: 17639 | K23: 17488
B24: Acute myocardial infarction (men) | F24: 14001 | G24: 16003 | H24: 16024 | I24: 16350 | J24: 16790 | K24: 15980
B25: Acute myocardial infarction (women) | F25: 8076 | G25: 9857 | H25: 9338 | I25: 9825 | J25: 9899 | K25: 9611
B26: Stroke (men) | C26: 10898 | D26: 10965 | E26: 10864 | F26: 11565 | G26: 9430 | H26: 13025 | I26: 14078 | J26: 14697 | K26: 14369
B27: Stroke (women) | C27: 11543 | D27: 11674 | E27: 11798 | F27: 12172 | G27: 9827 | H27: 13582 | I27: 14281 | J27: 14695 | K27: 15018
B28: Other cardiovascular disease (men) | C28: 38806 | D28: 40014 | E28: 41022 | F28: 41004 | G28: 46335 | H28: 43847 | I28: 49128 | J28: 46178 | K28: 46054
B29: Other cardiovascular disease (women) | C29: 35730 | D29: 36222 | E29: 36356 | F29: 36385 | G29: 42091 | H29: 38886 | I29: 42392 | J29: 39469 | K29: 39195
A32: Figure 2.2f | B32: Wales | C32: 2005/06 | D32: 2006/07 | E32: 2007/08 | F32: 2008/09 | G32: 2009/10 | H32: 2010/11 | I32: 2011/12 | J32: 2012/13 | K32: 2013/14 | L32: 2014/15 | M32: 2015/16 | N32: 2016/17 | O32: 2017/18
B34: Cardiovascular disease (men) | C34: 40598 | D34: 41128 | E34: 41525 | F34: 43120 | G34: 44510 | H34: 44492 | I34: 42800 | J34: 45446 | K34: 49671 | L34: 46862 | M34: 47575 | N34: 45283 | O34: 41027
B35: Cardiovascular disease (women) | C35: 34220 | D35: 34207 | E35: 34456 | F35: 35594 | G35: 37089 | H35: 36410 | I35: 34789 | J35: 35507 | K35: 38434 | L35: 36446 | M35: 37493 | N35: 33884 | O35: 31347
B36: Coronary heart disease (men) | C36: 15153 | D36: 15597 | E36: 15821 | F36: 15946 | G36: 15915 | H36: 15621 | I36: 15240 | J36: 15745 | K36: 16806 | L36: 15129 | M36: 15128 | N36: 14620 | O36: 13537
B37: Coronary heart disease (women) | C37: 9357 | D37: 9461 | E37: 9335 | F37: 9128 | G37: 8978 | H37: 8679 | I37: 8664 | J37: 8590 | K37: 8841 | L37: 7703 | M37: 8270 | N37: 7779 | O37: 7224
B38: Acute myocardial infarction (men) | J38: 4963 | K38: 6126 | L38: 5584 | M38: 6285 | N38: 6225 | O38: 6423
B39: Acute myocardial infarction (women) | J39: 3023 | K39: 3021 | L39: 3043 | M39: 3598 | N39: 3549 | O39: 3537
B40: Stroke (men) | C40: 5461 | D40: 5460 | E40: 5304 | F40: 5715 | G40: 5827 | H40: 6045 | I40: 5389 | J40: 5672 | K40: 6617 | L40: 6009 | M40: 5961 | N40: 5960 | O40: 5495
B41: Stroke (women) | C41: 6199 | D41: 5683 | E41: 5884 | F41: 6598 | G41: 6584 | H41: 6426 | I41: 6071 | J41: 6408 | K41: 6648 | L41: 6467 | M41: 6444 | N41: 5688 | O41: 5312
B42: Other cardiovascular disease (men) | C42: 19984 | D42: 20071 | E42: 20400 | F42: 21459 | G42: 22768 | H42: 22826 | I42: 22171 | J42: 24029 | K42: 26248 | L42: 25724 | M42: 26486 | N42: 24703 | O42: 21995
B43: Other cardiovascular disease (women) | C43: 18664 | D43: 19063 | E43: 19237 | F43: 19868 | G43: 21527 | H43: 21305 | I43: 20054 | J43: 20509 | K43: 22945 | L43: 22276 | M43: 22779 | N43: 20417 | O43: 18811
A47: Figure 2.2g | B47: Northern Ireland | C47: 2010/11 | D47: 2011/12 | E47: 2012/13 | F47: 2013/14 | G47: 2014/15 | H47: 2015/16 | I47: 2016/17 | J47: 2017/18
B49: Cardiovascular disease (men) | C49: 24499 | D49: 26591 | E49: 24154 | F49: 25674 | G49: 25733 | H49: 25922 | I49: 24750 | J49: 25032
B50: Cardiovascular disease (women) | C50: 18388 | D50: 20026 | E50: 18721 | F50: 18622 | G50: 18819 | H50: 18566 | I50: 17765 | J50: 17984
B51: Coronary heart disease (men) | C51: 9800 | D51: 9521 | E51: 9846 | F51: 10697 | G51: 10418 | H51: 10386 | I51: 9798 | J51: 9863
B52: Coronary heart disease (women) | C52: 4609 | D52: 4539 | E52: 4674 | F52: 4681 | G52: 4596 | H52: 4577 | I52: 4464 | J52: 4295
B53: Acute myocardial infarction (men) | E53: 2938 | F53: 3426 | G53: 3468 | H53: 3766 | I53: 3924 | J53: 4071
...

Sheet 2.3(data)
A1: Table 2.3 Inpatient admissions by main diagnosis in National Health Service hospitals by gender, England, Scotland, Wales, Northern Ireland and United Kingdom 2017/18
A2: Back to Table of Contents
B3: England 2017/18 | D3: Scotland 2017/18 | F3: Wales 2017/18 | H3: Northern Ireland 2017/18 | J3: United Kingdom, 2017/18
B4: Men | C4: Women | D4: Men | E4: Women | F4: Men | G4: Women | H4: Men | I4: Women | J4: Men | K4: Women | L4: Both
A6: All diagnoses | B6: 7494500 | C6: 9126700 | D6: 574548.56 | E6: 627236.44 | F6: 374080.77 | G6: 474001.87 | H6: 269300 | I6: 264400 | J6: 8712429.3 | K6: 10492338 | L6: 19204768
A8: All heart and circulatory diseases (F01, I00-I99, Q20-Q28) | B8: 547300 | C8: 408900 | D8: 47859 | E8: 36947 | F8: 22482 | G8: 18008 | H8: 19000 | I8: 13700 | J8: 636641 | K8: 477555 | L8: 1114196
A9: Coronary heart disease (I20-I25) | B9: 176900 | C9: 88200 | D9: 15672 | E9: 8461 | F9: 6484 | G9: 3568 | H9: 8100 | I9: 3500 | J9: 207156 | K9: 103729 | L9: 310885
A10: Angina pectoris (I20) | B10: 28200 | C10: 17900 | D10: 2637 | E10: 1765 | F10: 960 | G10: 683 | H10: 1100 | I10: 500 | J10: 32897 | K10: 20848 | L10: 53745
A11: Myocardial infarction (I21-I22) | B11: 53300 | C11: 28900 | D11: 6640 | E11: 3872 | F11: 3297 | G11: 1792 | H11: 3000 | I11: 1400 | J11: 66237 | K11: 35964 | L11: 102201
A12: Stroke (160-169) | B12: 56200 | C12: 55100 | D12: 5869 | E12: 5933 | F12: 3538 | G12: 3471 | H12: 700 | I12: 700 | J12: 66307 | K12: 65204 | L12: 131511
A13: Atrial fibrillation (I48) | B13: 60100 | C13: 49800 | D13: 5151 | E13: 4502 | F13: 2018 | G13: 2077 | H13: 2200 | I13: 1700 | J13: 69469 | K13: 58079 | L13: 127548
A14: Heart failure (I50) | B14: 46100 | C14: 39300 | D14: 4058 | E14: 3507 | F14: 2200 | G14: 2012 | H14: 1500 | I14: 1500 | J14: 53858 | K14: 46319 | L14: 100177
A15: Other cardiovascular disease | B15: 195500 | C15: 164900 | D15: 16344 | E15: 13815 | F15: 7855 | G15: 6470 | H15: 6200 | I15: 6000 | J15: 225899 | K15: 191185 | L15: 417084
A16: Congenital malformations of the circulatory system (Q20-Q28) | B16: 10800 | C16: 9800 | D16: 589 | E16: 553 | F16: 115 | G16: 111 | H16: 300 | I16: 300 | J16: 11804 | K16: 10764 | L16: 22568
A17: Vascular dementia (F01) | B17: 1700 | C17: 1800 | D17: 176 | E17: 176 | F17: 272 | G17: 299 | H17: x | I17: x | J17: 2148 | K17: 2275 | L17: 4423
A19: Diabetes (E10-E14) | B19: 30500 | C19: 23800 | D19: 3141 | E19: 2636 | F19: 1588 | G19: 1360 | H19: 800 | I19: 800 | J19: 36029 | K19: 28596
A20: Obesity (E66) | B20: 2900 | C20: 7900 | D20: 86 | E20: 170 | F20: 42 | G20: 76 | H20: x | I20: x | J20: 3028 | K20: 8146
A22: All cancer (C00-D48) | B22: 1002000 | C22: 1023800 | D22: 84654 | E22: 99248 | F22: 16254 | G22: 16617 | H22: 35100 | I22: 37700 | J22: 1138008 | K22: 1177365
A23: All diseases of the nervous system (G00-G99) | B23: 170000 | C23: 203200 | D23: 14081 | E23: 17329 | F23: 4326 | G23: 5005 | H23: 3500 | I23: 4700 | J23: 191907 | K23: 230234
A24: All diseases of the respiratory system (J00-J99) | B24: 522000 | C24: 539300 | D24: 51292 | E24: 56469 | F24: 30568 | G24: 30839 | H24: 17400 | I24: 19200 | J24: 621260 | K24: 645808
A25: All diseases of the digestive system (K00-K93) | B25: 1061200 | C25: 1084500 | D25: 78445 | E25: 80244 | F25: 17926 | G25: 19297 | H25: 32300 | I25: 32200 | J25: 1189871 | K25: 1216241
A26: All diseases of the genitourinary system (N00-N99) | B26: 379000 | C26: 515700 | D26: 32932 | E26: 43886 | F26: 12292 | G26: 17054 | H26: 63900 | I26: 53700 | J26: 488124 | K26: 630340
A27: Injury and poisoning (S00-T98) | B27: 506100 | C27: 521800 | D27: 50474 | E27: 49160 | F27: 22679 | G27: 23982 | H27: 14700 | I27: 14900 | J27: 593953 | K27: 609842
A28: All other diagnoses | B28: 3273500 | C28: 4797800 | D28: 211584.56 | E28: 241147.44 | F28: 245923.77 | G28: 341763.87 | H28: 82600 | I28: 87500 | J28: 3813608.3 | K28: 5468211.3
A30: Notes: | B30: Finished consultant episodes (FCE); ordinary admissions and day cases combined. Pregnancy cases not included. ICD-10 codes in parentheses.
B31: For England and Northern Ireland, male/female estimates are pro rata based on finished consultant episodes splits, rounded to nearest hundred.
B32: x - data not recorded
A34: Source: | B34: NHS Digital (2018). Hospital Episode Statistics 2017/18. | F34: https://digital.nhs.uk/data-and-information/publications/statistical/hospital-admitted-patient-care-activity/2017-18
B35: Information Services Division Scotland (2019) Main diagnosis discharges from hospital 2017/18. Personal correspondence.
B36: NHS Wales Informatics Service (2018). The Patient Episode Database for Wales- 2017/18. | J36: www.infoandstats.wales.nhs.uk
B37: Hospital Information Branch (2018). Northern Ireland Episode Based Inpatient and Day Case Activity Data (2017/18) | J37: www.health-ni.gov.uk/publications/acute-episode-based-activity-201718

Sheet 2.3ab
A1: Back to Table of Contents

Sheet 2.3cd
A1: Back to Table of Contents

Sheet 2.3ef
A1: Back to Table of Contents

Sheet 2.3gh
A1: Back to Table of Contents

Sheet 2.3ij
A1: Back to Table of Contents

Sheet Data for Figs 2.3
A1: Admissions | D1: England | H1: Scotland | L1: Wales | P1: Northern Ireland | T1: United Kingdom
D2: Men | H2: Men | L2: Men | P2: Men | T2: Men
D3: 3 | H3: 5 | L3: 7 | P3: 9 | T3: 11
D4: Figure 2.3c | H4: Figure 2.3e | L4: Figure 2.3g | P4: Figure 2.3i | T4: Figure 2.3a
D5: 7494500 | H5: 574548.56 | L5: 374080.77 | P5: 269300 | T5: 8712429.3
A6: Total | C6: All diagnoses | D6: 7494500 | G6: All diagnoses | H6: 574548.56 | K6: All diagnoses | L6: 374080.77 | O6: All diagnoses | P6: 269300 | S6: All diagnoses | T6: 8712429.3
A8: I20-I25 | B8: Coronary heart disease | C8: Coronary heart disease 2.4% | D8: 176900 | E8: 0.023603976 | G8: Coronary heart disease 2.7% | H8: 15672 | I8: 0.027277068 | K8: Coronary heart disease 1.7% | L8: 6484 | M8: 0.017333155 | O8: Coronary heart disease 3.0% | P8: 8100 | Q8: 0.03007798 | S8: Coronary heart disease 2.4% | T8: 207156 | U8: 0.023777065
A9: I60-I69 | B9: Stroke | C9: Stroke 0.7% | D9: 56200 | E9: 0.0074988325 | G9: Stroke 1.0% | H9: 5869 | I9: 0.010214977 | K9: Stroke 0.9% | L9: 3538 | M9: 0.0094578506 | O9: Stroke 0.3% | P9: 700 | Q9: 0.0025993316 | S9: Stroke 0.8% | T9: 66307 | U9: 0.0076106213
A10: I48 | B10: Atrial fibrillation | C10: Atrial fibrillation 0.8% | D10: 60100 | E10: 0.0080192141 | G10: Atrial fibrillation 0.9% | H10: 5151 | I10: 0.0089652997 | K10: Atrial fibrillation 0.5% | L10: 2018 | M10: 0.0053945569 | O10: Atrial fibrillation 0.8% | P10: 2200 | Q10: 0.0081693279 | S10: Atrial fibrillation 0.8% | T10: 69469 | U10: 0.0079735511
A11: I50 | B11: Heart failure | C11: Heart failure 0.6% | D11: 46100 | E11: 0.0061511775 | G11: Heart failure 0.7% | H11: 4058 | I11: 0.0070629366 | K11: Heart failure 0.6% | L11: 2200 | M11: 0.0058810829 | O11: Heart failure 0.6% | P11: 1500 | Q11: 0.0055699963 | S11: Heart failure 0.6% | T11: 53858 | U11: 0.0061817431
A12: Other CVD | B12: Other cardiovascular diseases | C12: Other cardiovascular diseases 2.6% | D12: 195500 | E12: 0.026085796 | G12: Other cardiovascular diseases 2.8% | H12: 16344 | I12: 0.028446682 | K12: Other cardiovascular diseases 2.1% | L12: 7855 | M12: 0.020998139 | O12: Other cardiovascular diseases 2.3% | P12: 6200 | Q12: 0.023022651 | S12: Other cardiovascular diseases 2.6% | T12: 225899 | U12: 0.02592836
A13: Q20-Q28 | B13: Congenital malformations of the circulatory system | C13: Congenital malformations of the circulatory system 0.1% | D13: 10800 | E13: 0.0014410568 | G13: Congenital malformations of the circulatory system 0.1% | H13: 589 | I13: 0.0010251527 | K13: Congenital malformations of the circulatory system 0% | L13: 115 | M13: 0.00030742024 | O13: Congenital malformations of the circulatory system 0.1% | P13: 300 | Q13: 0.0011139993 | S13: Congenital malformations of the circulatory system 0.1% | T13: 11804 | U13: 0.001354846
A14: F01 | B14: Vascular dementia | C14: Vascular dementia 0% | D14: 1700 | E14: 0.00022683301 | G14: Vascular dementia 0% | H14: 176 | I14: 0.00030632746 | K14: Vascular dementia 0.1% | L14: 272 | M14: 0.0007271157 | O14: Vascular dementia 0% | P14: 0 | Q14: 0 | S14: Vascular dementia 0% | T14: 2148 | U14: 0.00024654432
A15: E10-E14 | B15: Diabetes | C15: Diabetes 0.4% | D15: 30500 | E15: 0.0040696511 | G15: Diabetes 0.5% | H15: 3141 | I15: 0.0054669009 | K15: Diabetes 0.4% | L15: 1588 | M15: 0.0042450726 | O15: Diabetes 0.3% | P15: 800 | Q15: 0.0029706647 | S15: Diabetes 0.4% | T15: 36029 | U15: 0.0041353564
A16: E66 | B16: Obesity | C16: Obesity 0% | D16: 2900 | E16: 0.00038695043 | G16: Obesity 0% | H16: 86 | I16: 0.00014968274 | K16: Obesity 0% | L16: 42 | M16: 0.00011227522 | O16: Obesity 0% | P16: 0 | Q16: 0 | S16: Obesity 0% | T16: 3028 | U16: 0.00034754945
A17: G00-G99 | B17: All diseases of the nervous system | C17: All diseases of the nervous system 2% | D17: 170000 | E17: 0.022683301 | G17: All diseases of the nervous system 2% | H17: 14081 | I17: 0.024507937 | K17: All diseases of the nervous system 1% | L17: 4326 | M17: 0.011564348 | O17: All diseases of the nervous system 1% | P17: 3500 | Q17: 0.012996658 | S17: All diseases of the nervous system 2% | T17: 191907 | U17: 0.022026807
A18: J00-J99 | B18: All diseases of the respiratory system | C18: All diseases of the respiratory system 7% | D18: 522000 | E18: 0.069651077 | G18: All diseases of the respiratory system 9% | H18: 51292 | I18: 0.089273569 | K18: All diseases of the respiratory system 8% | L18: 30568 | M18: 0.081714974 | O18: All diseases of the respiratory system 6% | P18: 17400 | Q18: 0.064611957 | S18: All diseases of the respiratory system 7% | T18: 621260 | U18: 0.071307322
A19: C00-D48 | B19: All cancer | C19: All cancer 13% | D19: 1002000 | E19: 0.13369805 | G19: All cancer 15% | H19: 84654 | I19: 0.14734003 | K19: All cancer 4% | L19: 16254 | M19: 0.04345051 | O19: All cancer 13% | P19: 35100 | Q19: 0.13033791 | S19: All cancer 13% | T19: 1138008 | U19: 0.13061891
... A23: All Other | B23: All other causes | C23: All other causes 44% | D23: 3273500 | E23: 0.43678698 | G23: All other causes 37% | H23: 211584.56 | I23: 0.36826227 | K23: All other causes 66% | L23: 245923.77 | M23: 0.65740821 | O23: All other causes 31% | P23: 82600 | Q23: 0.30672113 | S23: All other causes 44% | T23: 3813608.3 | U23: 0.43772043
E24: 1 | I24: 1 | M24: 1 | Q24: 1 | U24: 1
C26: All cardiovascular diseases | D26: 428600 | E26: 0.057188605 | G26: All cardiovascular diseases | H26: 37885 | I26: 0.065938726 | K26: All cardiovascular diseases | L26: 17877 | M26: 0.047789145 | O26: All cardiovascular diseases | P26: 15000 | Q26: 0.055699963 | S26: All cardiovascular diseases | T26: 4004101 | U26: 0.057316046
D28: Women | H28: Women | L28: Women | P28: Women | T28: Women
D29: 4 | H29: 6 | L29: 8 | P29: 10 | T29: 12
D30: Figure 2.3d
H31: Figure 2.3f | L31: Figure 2.3h | P31: Figure 2.3j | T31: Figure 2.3b
D32: 9126700 | H32: 627236.44 | L32: 474001.87 | P32: 264400 | T32: 10492338
A33: Total | C33: All diagnoses | D33: 9126700 | G33: All diagnoses | H33: 627236.44 | K33: All diagnoses | L33: 474001.87 | O33: All diagnoses | P33: 264400 | S33: All diagnoses | T33: 10492338
