Workbook
Name April: [1]RawDataCliniclTtlPnt!$D$5:$D$454
Name Clinical: [1]RawDataCliniclTtlPnt!$F$5:$F$454
Name EpsYrLookup: '2.2a'!$B$9:$I$131
Name IncYrLookup: '2.2a'!$B$9:$H$131
Name PPP: '[2]£perPoint'!$B$2
Name SCO_2016_4CH: [3]Deaths_4Char!$A$79:$AH$111
Name SCO_2016_ALL: [3]Vital_Events_6.04!$A$1:$AJ$1778
Name Total: [1]RawDataCliniclTtlPnt!$E$5:$E$454
Name WAL_ADMISS_2005_06: [4]WAL_Admissions!$A$3:$E$116
Name WAL_ADMISS_2006_07: [4]WAL_Admissions!$A$117:$E$229
Name WAL_ADMISS_2007_08: [4]WAL_Admissions!$A$230:$E$343
Name WAL_ADMISS_2008_09: [4]WAL_Admissions!$A$344:$E$456
Name WAL_ADMISS_2009_10: [4]WAL_Admissions!$A$457:$E$569

Sheet CHAPTER 2
A11: Heart and Circulatory Disease Statistics 2018 - Chapter 2 - Morbidity
A12: This chapter reports on the morbidity of a number of heart and circulatory conditions, including cardiovascular disease (CVD), coronary heart disease (CHD), myocardial infarction (heart attack), heart failure, and stroke.
A13: Drawing on data from hospital episode and admissions statistics, GP registers and national health surveys, we present current estimates as well as trend data for incidence and prevalence of these conditions.
A14: Collecting accurate data is a challenge since the presence and onset of disease is not absolute. Individuals may not be aware that they have a disease or be able to accurately report its onset.
A15: Moreover, some diseases might be misdiagnosed by health professionals. As a result, the estimates of morbidity presented in this chapter should be interpreted with some caution.
A16: KEY: T=Table F=Figure(Graph/Pie Chart)
A18: INCIDENCE - HOSPITAL EPISODES
A19: T2.1 | C19: Inpatient episodes by main diagnosis in NHS hospitals, by gender, England, Scotland, Wales, Northern Ireland and United Kingdom 2017/18
A20: F2.1a-b | C20: Inpatient episodes by main diagnosis in NHS hospitals, by gender, United Kingdom 2017/18
A21: F2.1c-d | C21: Inpatient episodes by main diagnosis in NHS hospitals, by gender, England 2017/18
A22: F2.1e-f | C22: Inpatient episodes by main diagnosis in NHS hospitals, by gender, Scotland 2017/18
A23: F2.1g-h | C23: Inpatient episodes by main diagnosis in NHS hospitals, by gender, Wales 2017/18
A24: F2.1i-j | C24: Inpatient episodes by main diagnosis in NHS hospitals, by gender, Northern Ireland 2017/18
A26: TRENDS IN INCIDENCE - HOSPITAL EPISODES
A27: T2.2a | C27: All inpatient episodes by main diagnosis, England, Scotland, Wales, Northern Ireland and United Kingdom 2005/06 - 2017/18
A28: T2.2b | C28: Inpatient episodes by main diagnosis for men, England, Scotland, Wales, Northern Ireland and United Kingdom 2005/06 - 2017/18
A29: T2.2c | C29: Inpatient episodes by main diagnosis for women, England, Scotland, Wales, Northern Ireland and United Kingdom 2005/06 - 2017/18
A30: F2.2d | C30: All inpatient episodes by main diagnosis, England 2005/06 - 2017/18
A31: F2.2e | C31: All inpatient episodes by main diagnosis, Scotland 2009/10 - 2017/18
A32: F2.2f | C32: All inpatient episodes by main diagnosis, Wales 2005/06 - 2017/18
A33: F2.2g | C33: All inpatient episodes by main diagnosis, Northern Ireland 2010/11 - 2017/18
A35: INCIDENCE - HOSPITAL ADMISSIONS
A36: T2.3 | C36: Inpatient admissions by main diagnosis in NHS hospitals, by gender, England, Scotland, Wales, Northern Ireland and United Kingdom latest
A37: F2.3a-b | C37: Inpatient admissions by main diagnosis in NHS hospitals, by gender, United Kingdom latest
A38: F2.3c-d | C38: Inpatient admissions by main diagnosis in NHS hospitals, by gender, England 2017/18
A39: F2.3e-f | C39: Inpatient admissions by main diagnosis in NHS hospitals, by gender, Scotland 2017/18
A40: F2.3g-h | C40: Inpatient admissions by main diagnosis in NHS hospitals, by gender, Wales 2017/18
A41: F2.3i-j | C41: Inpatient admissions by main diagnosis in NHS hospitals, by gender, Northern Ireland 2017/18
A43: TRENDS IN INCIDENCE - HOSPITAL ADMISSIONS
A44: T2.4a | C44: All inpatient admissions by main diagnosis, England, Scotland, Wales, Northern Ireland and United Kingdom 2009/10 - 2017/18
A45: T2.4b | C45: Inpatient admissions by main diagnosis for men, England, Scotland, Wales, Northern Ireland and United Kingdom 2009/10 - 2017/18
A46: T2.4c | C46: Inpatient admissions by main diagnosis for women, England, Scotland, Wales, Northern Ireland and United Kingdom 2009/10 - 2017/18
A47: F2.4d | C47: All inpatient admissions by main diagnosis, England 2009/10 - 2017/18
A48: F2.4e | C48: All inpatient admissions by main diagnosis, Scotland 2009/10 - 2017/18
A49: F2.4f | C49: All inpatient admissions by main diagnosis, Wales 2009/10 - 2017/18
A50: F2.4g | C50: All inpatient admissions by main diagnosis, Northern Ireland 2010/11 - 2017/18
A52: PREVALENCE AND INCIDENCE
A53: T2.5 | C53: Prevalence of selected cardiovascular conditions by UK nation and English region, United Kingdom - 2017/18
A54: T2.6 | C54: Incidence of heart and circulatory diseases (CVD), coronary heart disease (CHD), and stroke (CBVD) by UK nation and English region, 2017
A55: T2.7 | C55: Prevalence of heart and circulatory diseases (CVD), coronary heart disease (CHD), and stroke (CBVD) by UK nation and English region, 2017
A57: TRENDS IN PREVALENCE
A58: T2.8 | B58: F2.8 | C58: Prevalence of cardiovascular conditions from GP patient registers (QOF), England 2004/05-2017/18
A59: T2.9 | B59: F2.9 | C59: Prevalence of cardiovascular conditions from GP patient registers (QOF), Scotland 2008/09-2017/18
A60: T2.10 | B60: F2.10 | C60: Prevalence of cardiovascular conditions from GP patient registers (QOF), Wales 2006/07-2017/18
A61: T2.11 | B61: F2.11 | C61: Prevalence of cardiovascular conditions from GP patient registers (QOF), Northern Ireland 2004/05-2017/18
A62: T2.12 | B62: F2.12 | C62: Prevalence of cardiovascular conditions from national health survey by gender, England 2003-2017
A63: T2.13 | B63: F2.13 | C63: Prevalence of cardiovascular conditions from national health survey by gender, Scotland 2003-2017
A64: T2.14 | B64: F2.14 | C64: Prevalence of heart conditions and stroke from national health survey by gender, Wales 2003/04-2015
A65: T2.15 | B65: F2.15 | C65: Prevalence of cardiovascular conditions from national health survey by age group, England 2003-2017
A66: T2.16 | B66: F2.16 | C66: Prevalence of cardiovascular conditions from national health survey by age group, Scotland 2003-2017
A67: T2.17 | B67: F2.17 | C67: Prevalence of cardiovascular conditions from national health survey by equivalised household income and gender, England 2017
A68: T2.18 | B68: F2.18 | C68: Prevalence of cardiovascular conditions from national health survey by equivalised household income and gender, Scotland 2017
A70: CO-MORBIDITIES
A71: T2.19 | C71: Percentage of coronary heart disease (CHD) patients with each comorbidity for each UK nation and UK
A72: T2.20 | C72: Percentage of coronary heart disease (CHD) patients with each comorbidity by age band
A73: T2.21 | C73: Percentage of coronary heart disease (CHD) patients with each comorbidity by Townsend score
A74: T2.22 | C74: Percentage of coronary heart disease (CHD) patients with each comorbidity by age band and BMI category
A75: T2.23 | C75: Percentage of stroke (CBVD) patients with each comorbidity for each UK nation and UK
A76: T2.24 | C76: Percentage of stroke (CBVD) patients with each comorbidity by age band
A77: T2.25 | C77: Percentage of stroke (CBVD) patients with each comorbidity by Townsend score
A78: T2.26 | C78: Percentage of stroke (CBVD) patients with each comorbidity by age band and BMI category
A80: GLOBAL INCIDENCE & PREVALENCE
A81: T2.27 | C81: Incidence of heart and circulatory diseases (CVD), coronary heart disease (CHD), and stroke (CBVD), selected nations 2017
A82: T2.28 | C82: Prevalence of heart and circulatory diseases (CVD), coronary heart disease (CHD), and stroke (CBVD), selected nations 2017

Sheet 2.1
A1: Table 2.1 Inpatient episodes by main diagnosis in National Health Service hospitals by gender, England, Scotland, Wales, Northern Ireland and United Kingdom 2014/15
B3: England | E3: Scotland | H3: Wales | K3: Northern Ireland | N3: United Kingdom
B4: Men | C4: Women | E4: Men | F4: Women | H4: Men | I4: Women | K4: Men | L4: Women | N4: Men | O4: Women
A6: All diagnoses | B6: 8359373 | C6: 10370257 | E6: 739771 | F6: 824565 | H6: 428886 | I6: 540120 | K6: 314279 | L6: 306185 | N6: 9842309 | O6: 12041127
A8: All diseases of the circulatory system (I00-I99) | B8: 804412 | C8: 618907 | E8: 88497 | F8: 69179 | H8: 46862 | I8: 36446 | K8: 25773 | L8: 18819 | N8: 965544 | O8: 743351
A9: Coronary heart disease (I20-I25) | B9: 260052 | C9: 133479 | E9: 31625 | F9: 16711 | H9: 15129 | I9: 7703 | K9: 10418 | L9: 4596 | N9: 317224 | O9: 162489
A10: Stroke (160-169) | B10: 98597 | C10: 99196 | E10: 13025 | F10: 13582 | H10: 6009 | I10: 6467 | K10: 1242 | L10: 1244 | N10: 118873 | O10: 120489
A11: Other cardiovascular disease | B11: 445763 | C11: 386232 | E11: 43847 | F11: 38886 | H11: 25724 | I11: 22276 | K11: 14113 | L11: 12979 | N11: 529447 | O11: 460373
A13: Specific conditions:-
A14: Angina pectoris (I20) | B14: 41697 | C14: 27761 | E14: 3877 | F14: 2781 | H14: 2093 | I14: 1352 | K14: 1726 | L14: 875 | N14: 49393 | O14: 32769
A15: Acute myocardial infarction (I21) | B15: 93729 | C15: 53382 | E15: 6295 | F15: 3671 | H15: 5584 | I15: 3043 | K15: 3468 | L15: 1846 | N15: 109076 | O15: 61942
A16: Heart failure (I50) | B16: 77031 | C16: 69116 | E16: 7241 | F16: 6301 | H16: 4758 | I16: 4296 | K16: 2382 | L16: 2349 | N16: 91412 | O16: 82062
A17: Diabetes (E10-E14) | B17: 40384 | C17: 33669 | E17: 4493 | F17: 4139 | H17: 2571 | I17: 1927 | K17: 1278 | L17: 1091 | N17: 48726 | O17: 40826
A18: Obesity (E66) | B18: 2921 | C18: 7505 | E18: 83 | F18: 191 | H18: 72 | I18: 80 | K18: 18 | L18: 27 | N18: 3094 | O18: 7803
A20: All cancer (C00-D48) | B20: 981108 | C20: 1019546 | E20: 97292 | F20: 109886 | H20: 37871 | I20: 34513 | K20: 34327 | L20: 36069 | N20: 1150598 | O20: 1200014
A21: Colo-rectal cancer (C18-C21) | B21: 132071 | C21: 94463 | E21: 11472 | F21: 8547 | H21: 3346 | I21: 2466 | K21: 3195 | L21: 2338 | N21: 150084 | O21: 107814
A22: Lung cancer (C33-C34) | B22: 102879 | C22: 87682 | E22: 9060 | F22: 8911 | H22: 2416 | I22: 2087 | K22: 2255 | L22: 1981 | N22: 116610 | O22: 100661
A23: Breast cancer (C50) | B23: 1789 | C23: 265149 | E23: 107 | F23: 21614 | H23: 28 | I23: 4170 | K23: 18 | L23: 7297 | N23: 1942 | O23: 298230
A24: Bladder cancer (C67) | B24: 78767 | C24: 24790 | E24: 3349 | F24: 1596 | H24: 2885 | I24: 939 | K24: 1951 | L24: 523 | N24: 86952 | O24: 27848
A26: All diseases of the nervous system (G00-G99) | B26: 191862 | C26: 232097 | E26: 16891 | F26: 20995 | H26: 9399 | I26: 12268 | K26: 4554 | L26: 6163 | N26: 222706 | O26: 271523
A27: All diseases of the respiratory system (J00-J99) | B27: 726653 | C27: 733534 | E27: 70626 | F27: 78529 | H27: 45147 | I27: 45266 | K27: 25490 | L27: 27372 | N27: 867916 | O27: 884701
... A31: All other diagnoses | B31: 3429726 | C31: 5151754 | E31: 266842 | F31: 321644 | H31: 172992 | I31: 280831 | K31: 91112 | L31: 97378 | N31: 3960672 | O31: 5851607
A33: Notes: | B33: Finished consultant episodes (FCE); ordinary admissions and day cases combined. Pregnancy cases not included. ICD-10 codes in parentheses.
B34: Differences between countries in the categorisation of episodes: in both England and Scotland, a FCE ends when the consultant changes. However, in Scotland a change of sub-specialty results in a new FCE, whereas in England it does not. E.g. if a patient goes from a cardiac ward to an ITU and is still under the care of the same consultant, in England this would be counted as 1 FCE and in Scotland it would be counted as 2 FCE.
A36: Source: | B36: Health & Social Care Information Centre (2015). Hospital Episode Statistics 2014/15. www.hscic.gov.uk/(accessed Jan 2016).
B37: Information Services Division Scotland (2015) Main diagnosis discharges from hospital 2014/15. www.isdscotland.org (accessed Jan 2016) and personal correspondence.
B38: NHS Wales Informatics Service (2015). The Patient Episode Database for Wales- 2014/15. www.infoandstats.wales.nhs.uk (accessed Jan 2016).
B39: Hospital Information Branch (2014). Northern Ireland Episode Based Inpatient and Day Case Activity Data (2014/15) www.dhsspsni.gov.uk (accessed Jan 2016).

Sheet 2.1(data)
A1: Table 2.1 Inpatient episodes by main diagnosis in National Health Service hospitals by gender, England, Scotland, Wales, Northern Ireland and United Kingdom 2017/18
A2: Back to Table of Contents
B3: England 2017/18 | D3: Scotland 2017/18 | F3: Wales 2017/18 | H3: Northern Ireland 2017/18 | J3: United Kingdom, 2017/18
B4: Men | C4: Women | D4: Men | E4: Women | F4: Men | G4: Women | H4: Men | I4: Women | J4: Men | K4: Women | L4: Both
A5: All diagnoses | B5: 9030954 | C5: 10997823 | D5: 787367 | E5: 859571 | F5: 457132 | G5: 579237 | H5: 330581 | I5: 324644 | J5: 10558438 | K5: 12726269 | L5: 23284707
A7: All heart and circulatory diseases (F01, I00-I99, Q20-Q28) | B7: 849991 | C7: 634904 | D7: 94218 | E7: 72959 | F7: 41986 | G7: 32348 | H7: 25376 | I7: 18277 | J7: 1005850 | K7: 754708 | L7: 1760558
A8: Coronary heart disease (I20-I25) | B8: 265359 | C8: 132267 | D8: 32448 | E8: 17488 | F8: 13537 | G8: 7224 | H8: 9863 | I8: 4295 | J8: 320384 | K8: 160497 | L8: 480881
A9: Angina pectoris (I20) | B9: 40515 | C9: 25640 | D9: 3820 | E9: 2555 | F9: 1797 | G9: 1166 | H9: 1351 | I9: 648 | J9: 47540 | K9: 30235 | L9: 77775
A10: Myocardial infarction (I21-I22) | B10: 105637 | C10: 57453 | D10: 16090 | E10: 9693 | F10: 6482 | G10: 3571 | H10: 4082 | I10: 1999 | J10: 132291 | K10: 72716 | L10: 205007
A11: Stroke (160-169) | B11: 106514 | C11: 104418 | D11: 14369 | E11: 15018 | F11: 5495 | G11: 5312 | H11: 1108 | I11: 1205 | J11: 126142 | K11: 124517 | L11: 250659
A12: Atrial fibrillation (I48) | B12: 81883 | C12: 67907 | D12: 7629 | E12: 7405 | F12: 4312 | G12: 3934 | H12: 2702 | I12: 2122 | J12: 88897 | K12: 73963 | L12: 162860
A13: Heart failure (I50) | B13: 97528 | C13: 83127 | D13: 9056 | E13: 7985 | F13: 4819 | G13: 4314 | H13: 2725 | I13: 2702 | J13: 112313 | K13: 96444 | L13: 208757
A14: Other cardiovascular disease | B14: 280044 | C14: 229809 | D14: 29369 | E14: 23805 | F14: 12864 | G14: 10563 | H14: 8634 | I14: 7660 | J14: 338148 | K14: 280617 | L14: 618765
A15: Congenital malformations of the circulatory system (Q20-Q28) | B15: 14596 | C15: 13259 | D15: 1002 | E15: 896 | F15: 548 | G15: 503 | H15: 296 | I15: 274 | J15: 15440 | K15: 14036 | L15: 29476
A16: Vascular dementia (F01) | B16: 4067 | C16: 4117 | D16: 345 | E16: 362 | F16: 411 | G16: 498 | H16: 48 | I16: 19 | J16: 4526 | K16: 4634 | L16: 9160
A18: Diabetes (E10-E14) | B18: 49206 | C18: 38447 | D18: 5289 | E18: 4697 | F18: 2681 | G18: 2255 | H18: 1673 | I18: 1532 | J18: 58053 | K18: 46373
A19: Obesity (E66) | B19: 3268 | C19: 8875 | D19: 146 | E19: 280 | F19: 64 | G19: 138 | H19: 31 | I19: 21 | J19: 3446 | K19: 9225
A21: All cancer (C00-D48) | B21: 1088228 | C21: 1111898 | D21: 100683 | E21: 114099 | F21: 32502 | G21: 29715 | H21: 37481 | I21: 40351 | J21: 1255503 | K21: 1291850
A22: All diseases of the nervous system (G00-G99) | B22: 208462 | C22: 249240 | D22: 18869 | E22: 22396 | F22: 8588 | G22: 11116 | H22: 4577 | I22: 6036 | J22: 238518 | K22: 287387
A23: All diseases of the respiratory system (J00-J99) | B23: 835741 | C23: 863314 | D23: 85152 | E23: 97683 | F23: 47512 | G23: 48724 | H23: 29448 | I23: 32445 | J23: 983327 | K23: 1023012
A24: All diseases of the digestive system (K00-K93) | B24: 1224378 | C24: 1251188 | D24: 97620 | E24: 99310 | F24: 54099 | G24: 56159 | H24: 39471 | I24: 39397 | J24: 1410414 | K24: 1444756
A25: All diseases of the genitourinary system (N00-N99) | B25: 476981 | C25: 648954 | D25: 44185 | E25: 58421 | F25: 26348 | G25: 35140 | H25: 70141 | I25: 58994 | J25: 615309 | K25: 801401
A26: Injury and poisoning (S00-T98) | B26: 632145 | C26: 651806 | D26: 69499 | E26: 72144 | F26: 30292 | G26: 31397 | H26: 21184 | I26: 21331 | J26: 744363 | K26: 768211
A27: All other diagnoses | B27: 3662554 | C27: 5539197 | D27: 271706 | E27: 317582 | F27: 213060 | G27: 332245 | H27: 101199 | I27: 106260 | J27: 4243655 | K27: 6299346
A29: Notes
A30: Finished consultant episodes (FCE); ordinary admissions and day cases combined. Pregnancy cases not included. ICD-10 codes in parentheses.
A31: Differences between countries in the categorisation of episodes: in both England and Scotland, an FCE ends when the consultant changes.
A32: However, in Scotland a change of sub-specialty results in a new FCE, whereas in England it does not, e.g. if a patient goes from a cardiac ward
A33: to an ITU and is still under the care of the same consultant, in England this would be counted as 1 FCE and in Scotland it would be counted as 2 FCE.
A35: Source
A36: NHS Digital (2018). Hospital Episode Statistics 2017/18. | B36: https://digital.nhs.uk/data-and-information/publications/statistical/hospital-admitted-patient-care-activity/2017-18
A37: Information Services Division Scotland (2019) Main diagnosis discharges from hospital 2017/18. Personal correspondence.
A38: NHS Wales Informatics Service (2018). The Patient Episode Database for Wales- 2017/18. | E38: www.infoandstats.wales.nhs.uk
A39: Hospital Information Branch (2018). Northern Ireland Episode Based Inpatient and Day Case Activity Data (2017/18) | E39: www.health-ni.gov.uk/publications/acute-episode-based-activity-201718

Sheet 2.1ab
A1: Back to Table of Contents

Sheet 2.1cd
A1: Back to Table of Contents

Sheet 2.1ef
A1: Back to Table of Contents

Sheet 2.1gh
A1: Back to Table of Contents

Sheet 2.1ij
A1: Back to Table of Contents

Sheet Data for Figs 2.1
A1: Episodes | D1: England | H1: Scotland | L1: Wales | P1: Northern Ireland | T1: United Kingdom
D2: Men | H2: Men | L2: Men | P2: Men | T2: Men
D3: 3 | H3: 5 | L3: 7 | P3: 9 | T3: 11
D4: Figure 2.1c | H4: Figure 2.1e | L4: Figure 2.1g | P4: Figure 2.1i | T4: Figure 2.1a
D5: 9030954 | H5: 787367 | L5: 457132 | P5: 330581 | T5: 10606034
A6: Total | C6: All diagnoses | D6: 9030954 | G6: All diagnoses | H6: 787367 | K6: All diagnoses | L6: 457132 | O6: All diagnoses | P6: 330581 | S6: All diagnoses | T6: 10606034
A8: I20-I25 | B8: Coronary heart disease | C8: Coronary heart disease 2.9% | D8: 265359 | E8: 0.029383274 | G8: Coronary heart disease 4.1% | H8: 32448 | I8: 0.04121077 | K8: Coronary heart disease 3.0% | L8: 13537 | M8: 0.029612891 | O8: Coronary heart disease 3.0% | P8: 9863 | Q8: 0.02983535 | S8: Coronary heart disease 3.0% | T8: 321207 | U8: 0.030285307
A9: I60-I69 | B9: Stroke | C9: Stroke 1.2% | D9: 106514 | E9: 0.011794324 | G9: Stroke 1.8% | H9: 14369 | I9: 0.018249431 | K9: Stroke 1.2% | L9: 5495 | M9: 0.012020598 | O9: Stroke 0.3% | P9: 1108 | Q9: 0.0033516748 | S9: Stroke 1.2% | T9: 127486 | U9: 0.012020139
A10: I48 | B10: Atrial fibrillation | C10: Atrial fibrillation 0.9% | D10: 81883 | E10: 0.0090669269 | G10: Atrial fibrillation 1.0% | H10: 7629 | I10: 0.0096892555 | K10: Atrial fibrillation 0.9% | L10: 4312 | M10: 0.009432724 | O10: Atrial fibrillation 0.8% | P10: 2702 | Q10: 0.0081734885 | S10: Atrial fibrillation 0.9% | T10: 96526 | U10: 0.0091010457
A11: I50 | B11: Heart failure | C11: Heart failure 1.1% | D11: 97528 | E11: 0.010799302 | G11: Heart failure 1.2% | H11: 9056 | I11: 0.011501625 | K11: Heart failure 1.1% | L11: 4819 | M11: 0.010541813 | O11: Heart failure 0.8% | P11: 2725 | Q11: 0.008243063 | S11: Heart failure 1.1% | T11: 114128 | U11: 0.010760667
A12: Other CVD | B12: Other cardiovascular diseases | C12: Other cardiovascular diseases 3.1% | D12: 280044 | E12: 0.031009349 | G12: Other cardiovascular diseases 3.7% | H12: 29369 | I12: 0.037300268 | K12: Other cardiovascular diseases 2.8% | L12: 12864 | M12: 0.028140668 | O12: Other cardiovascular diseases 2.6% | P12: 8634 | Q12: 0.026117653 | S12: Other cardiovascular diseases 3.1% | T12: 330911 | U12: 0.031200258
A13: Q20-Q28 | B13: Congenital malformations of the circulatory system | C13: Congenital malformations of the circulatory system 0.2% | D13: 14596 | E13: 0.0016162191 | G13: Congenital malformations of the circulatory system 0.1% | H13: 1002 | I13: 0.0012725959 | K13: Congenital malformations of the circulatory system 0.1% | L13: 548 | M13: 0.0011987785 | O13: Congenital malformations of the circulatory system 0.1% | P13: 296 | Q13: 0.00089539326 | S13: Congenital malformations of the circulatory system 0.2% | T13: 16442 | U13: 0.0015502496
A14: F01 | B14: Vascular dementia | C14: Vascular dementia 0% | D14: 4067 | E14: 0.00045034002 | G14: Vascular dementia 0% | H14: 345 | I14: 0.00043816924 | K14: Vascular dementia 0.1% | L14: 411 | M14: 0.00089908385 | O14: Vascular dementia 0% | P14: 48 | Q14: 0.00014519891 | S14: Vascular dementia 0% | T14: 4871 | U14: 0.00045926687
A15: E10-E14 | B15: Diabetes | C15: Diabetes 0.5% | D15: 49206 | E15: 0.0054485938 | G15: Diabetes 0.7% | H15: 5289 | I15: 0.006717325 | K15: Diabetes 0.6% | L15: 2681 | M15: 0.0058648268 | O15: Diabetes 0.5% | P15: 1673 | Q15: 0.0050607869 | S15: Diabetes 0.6% | T15: 58849 | U15: 0.0055486339
A16: E66 | B16: Obesity | C16: Obesity 0% | D16: 3268 | E16: 0.00036186653 | G16: Obesity 0% | H16: 146 | I16: 0.00018542814 | K16: Obesity 0% | L16: 64 | M16: 0.00014000333 | O16: Obesity 0% | P16: 31 | Q16: 9.3774294e-05 | S16: Obesity 0% | T16: 3509 | U16: 0.0003308494
A17: G00-G99 | B17: All diseases of the nervous system | C17: All diseases of the nervous system 2% | D17: 208462 | E17: 0.023083054 | G17: All diseases of the nervous system 2% | H17: 18869 | I17: 0.023964682 | K17: All diseases of the nervous system 2% | L17: 8588 | M17: 0.018786696 | O17: All diseases of the nervous system 1% | P17: 4577 | Q17: 0.013845321 | S17: All diseases of the nervous system 2% | T17: 240496 | U17: 0.022675394
A18: J00-J99 | B18: All diseases of the respiratory system | C18: All diseases of the respiratory system 9% | D18: 835741 | E18: 0.092541829 | G18: All diseases of the respiratory system 11% | H18: 85152 | I18: 0.10814779 | K18: All diseases of the respiratory system 10% | L18: 47512 | M18: 0.10393497 | O18: All diseases of the respiratory system 9% | P18: 29448 | Q18: 0.08907953 | S18: All diseases of the respiratory system 9% | T18: 997853 | U18: 0.094083519
A19: C00-D48 | B19: All cancer | C19: All cancer 12% | D19: 1088228 | E19: 0.12049978 | G19: All cancer 13% | H19: 100683 | I19: 0.12787302 | K19: All cancer 7% | L19: 32502 | M19: 0.071099814 | O19: All cancer 11% | P19: 37481 | Q19: 0.11337917 | S19: All cancer 12% | T19: 1258894 | U19: 0.11869602
... A23: All Other | B23: All other causes | C23: All other causes 41% | D23: 3662554 | E23: 0.4055556 | G23: All other causes 35% | H23: 271706 | I23: 0.34508177 | K23: All other causes 47% | L23: 213060 | M23: 0.46607982 | O23: All other causes 31% | P23: 101199 | Q23: 0.30612467 | S23: All other causes 40% | T23: 4248519 | U23: 0.40057565
E24: 1 | I24: 1 | M24: 1 | Q24: 1 | U24: 1
C26: All cardiovascular diseases | D26: 651917 | E26: 0.072186947 | G26: All cardiovascular diseases | H26: 76186 | I26: 0.096760469 | K26: All cardiovascular diseases | L26: 31896 | M26: 0.069774157 | O26: All cardiovascular diseases | P26: 19605 | Q26: 0.059304679 | S26: All cardiovascular diseases | T26: 4004101 | U26: 0.073505704
D28: Women | H28: Women | L28: Women | P28: Women | T28: Women
D29: 4 | H29: 6 | L29: 8 | P29: 10 | T29: 12
D30: Figure 2.1d
H31: Figure 2.1f | L31: Figure 2.1h | P31: Figure 2.1j | T31: Figure 2.1b
D32: 10997823 | H32: 859571 | L32: 579237 | P32: 324644 | T32: 12761275
A33: Total | C33: All diagnoses | D33: 10997823 | G33: All diagnoses | H33: 859571 | K33: All diagnoses | L33: 579237 | O33: All diagnoses | P33: 324644 | S33: All diagnoses | T33: 12761275
A35: I20-I25 | B35: Coronary heart disease | C35: Coronary heart disease 1.2% | D35: 132267 | E35: 0.012026653 | G35: Coronary heart disease 2.0% | H35: 17488 | I35: 0.020345033 | K35: Coronary heart disease 1.2% | L35: 7224 | M35: 0.012471579 | O35: Coronary heart disease 1.3% | P35: 4295 | Q35: 0.013229876 | S35: Coronary heart disease 1.3% | T35: 161274 | U35: 0.012637765
A36: I60-I69 | B36: Stroke | C36: Stroke 0.9% | D36: 104418 | E36: 0.0094944245 | G36: Stroke 1.7% | H36: 15018 | I36: 0.017471506 | K36: Stroke 0.9% | L36: 5312 | M36: 0.0091706849 | O36: Stroke 0.4% | P36: 1205 | Q36: 0.0037117581 | S36: Stroke 1.0% | T36: 125953 | U36: 0.0098699385
A37: I48 | B37: Atrial fibrillation | C37: Atrial fibrillation 0.6% | D37: 67907 | E37: 0.0061745856 | G37: Atrial fibrillation 0.9% | H37: 7405 | I37: 0.0086147625 | K37: Atrial fibrillation 0.7% | L37: 3934 | M37: 0.0067916932 | O37: Atrial fibrillation 0.7% | P37: 2122 | Q37: 0.0065363906 | S37: Atrial fibrillation 0.6% | T37: 81368 | U37: 0.0063761654
A38: I50 | B38: Heart failure | C38: Heart failure 0.8% | D38: 83127 | E38: 0.0075584959 | G38: Heart failure 0.9% | H38: 7985 | I38: 0.0092895177 | K38: Heart failure 0.7% | L38: 4314 | M38: 0.0074477286 | O38: Heart failure 0.8% | P38: 2702 | Q38: 0.008322963 | S38: Heart failure 0.8% | T38: 98128 | U38: 0.0076895138
A39: Other CVD | B39: Other cardiovascular diseases | C39: Other cardiovascular diseases 2.1% | D39: 229809 | E39: 0.020895863 | G39: Other cardiovascular diseases 2.8% | H39: 23805 | I39: 0.027694047 | K39: Other cardiovascular diseases 1.8% | L39: 10563 | M39: 0.018236059 | O39: Other cardiovascular diseases 2.4% | P39: 7660 | Q39: 0.023595076 | S39: Other cardiovascular diseases 2.1% | T39: 271837 | U39: 0.021301712
A40: Q20-Q28 | B40: Congenital malformations of the circulatory system | C40: Congenital malformations of the circulatory system 0.1% | D40: 13259 | E40: 0.0012056022 | G40: Congenital malformations of the circulatory system 0.1% | H40: 896 | I40: 0.0010423804 | K40: Congenital malformations of the circulatory system 0.1% | L40: 503 | M40: 0.00086838375 | O40: Congenital malformations of the circulatory system 0.1% | P40: 274 | Q40: 0.00084400143 | S40: Congenital malformations of the circulatory system 0.1% | T40: 14932 | U40: 0.0011701025
A41: F01 | B41: Vascular dementia | C41: Vascular dementia 0% | D41: 4117 | E41: 0.00037434681 | G41: Vascular dementia 0% | H41: 362 | I41: 0.00042114031 | K41: Vascular dementia 0.1% | L41: 498 | M41: 0.00085975171 | O41: Vascular dementia 0% | P41: 19 | Q41: 5.8525647e-05 | S41: Vascular dementia 0% | T41: 4996 | U41: 0.00039149693
A42: E10-E14 | B42: Diabetes | C42: Diabetes 0.3% | D42: 38447 | E42: 0.0034958737 | G42: Diabetes 0.5% | H42: 4697 | I42: 0.0054643537 | K42: Diabetes 0.4% | L42: 2255 | M42: 0.0038930524 | O42: Diabetes 0.5% | P42: 1532 | Q42: 0.0047190153 | S42: Diabetes 0.4% | T42: 46931 | U42: 0.0036776106
A43: E66 | B43: Obesity | C43: Obesity 0.1% | D43: 8875 | E43: 0.00080697789 | G43: Obesity 0% | H43: 280 | I43: 0.00032574389 | K43: Obesity 0% | L43: 138 | M43: 0.00023824445 | O43: Obesity 0% | P43: 21 | Q43: 6.4686241e-05 | S43: Obesity 0.1% | T43: 9314 | U43: 0.00072986437
A44: G00-G99 | B44: All diseases of the nervous system | C44: All diseases of the nervous system 2% | D44: 249240 | E44: 0.022662667 | G44: All diseases of the nervous system 3% | H44: 22396 | I44: 0.026054858 | K44: All diseases of the nervous system 2% | L44: 11116 | M44: 0.019190763 | O44: All diseases of the nervous system 2% | P44: 6036 | Q44: 0.018592674 | S44: All diseases of the nervous system 2% | T44: 288788 | U44: 0.022630027
A45: J00-J99 | B45: All diseases of the respiratory system | C45: All diseases of the respiratory system 8% | D45: 863314 | E45: 0.078498627 | G45: All diseases of the respiratory system 11% | H45: 97683 | I45: 0.11364157 | K45: All diseases of the respiratory system 8% | L45: 48724 | M45: 0.084117555 | O45: All diseases of the respiratory system 10% | P45: 32445 | Q45: 0.099940242 | S45: All diseases of the respiratory system 8% | T45: 1042166 | U45: 0.081666291
A46: C00-D48 | B46: All cancer | C46: All cancer 10% | D46: 1111898 | E46: 0.10110165 | G46: All cancer 13% | H46: 114099 | I46: 0.13273947 | K46: All cancer 5% | L46: 29715 | M46: 0.051300245 | O46: All cancer 12% | P46: 40351 | Q46: 0.12429307 | S46: All cancer 10% | T46: 1296063 | U46: 0.10156219
... A50: All Other | B50: All other causes | C50: All other causes 50% | D50: 5539197 | E50: 0.50366304 | G50: All other causes 37% | H50: 317582 | I50: 0.3694657 | K50: All other causes 57% | L50: 332245 | M50: 0.57359078 | O50: All other causes 33% | P50: 106260 | Q50: 0.32731238 | S50: All other causes 49% | T50: 6295284 | U50: 0.49331152
E51: 1 | I51: 1 | M51: 1 | Q51: 1 | U51: 1
C53: All cardiovascular diseases | D53: 466494 | E53: 0.04241694 | G53: All cardiovascular diseases | H53: 56311 | I53: 0.065510586 | K53: All cardiovascular diseases | L53: 23099 | M53: 0.039878323 | O53: All cardiovascular diseases | P53: 13160 | Q53: 0.040536711 | S53: All cardiovascular diseases | T53: 6072265 | U53: 0.043809416

Sheet 2.2a
A1: Table 2.2a All inpatient episodes by main diagnosis in NHS hospitals, England, Scotland, Wales, Northern Ireland and United Kingdom, 2005/06 - 2017/18
A2: Back to Table of Contents
A3: ALL | D3: 2005/06 | E3: 2006/07 | F3: 2007/08 | G3: 2008/09 | H3: 2009/10 | I3: 2010/11 | J3: 2011/12 | K3: 2012/13 | L3: 2013/14 | M3: 2014/15 | N3: 2015/16 | O3: 2016/17 | P3: 2017/18
A5: England | B5: Heart and circulatory diseases (CVD) (I00-I99) | D5: 1244004 | E5: 1255590 | F5: 1274674 | G5: 1322295 | H5: 1358247 | I5: 1371809 | J5: 1381635 | K5: 1374094 | L5: 1401232 | M5: 1423319 | N5: 1480320 | O5: 1418802 | P5: 1448856
B6: Coronary heart disease (I20-I25) | D6: 428262 | E6: 427913 | F6: 424247 | G6: 422334 | H6: 407675 | I6: 405096 | J6: 409508 | K6: 404089 | L6: 401007 | M6: 393531 | N6: 393887 | O6: 396316 | P6: 397626
C7: Myocardial infarction (I21-I22) | K7: 143532 | L7: 148259 | M7: 148460 | N7: 154857 | O7: 159085 | P7: 163090
B8: Stroke (I60-I69) | D8: 178321 | E8: 176452 | F8: 179999 | G8: 190101 | H8: 203705 | I8: 198335 | J8: 194436 | K8: 196081 | L8: 197356 | M8: 197793 | N8: 203582 | O8: 205680 | P8: 210932
B9: Other cardiovascular disease | D9: 637421 | E9: 651225 | F9: 670428 | G9: 709860 | H9: 746867 | I9: 768378 | J9: 777691 | K9: 773924 | L9: 802869 | M9: 831995 | N9: 882851 | O9: 816806 | P9: 840298
A11: Scotland | B11: Heart and circulatory diseases (CVD) (I00-I99) | H11: 144900 | I11: 149032 | J11: 148739 | K11: 148766 | L11: 157298 | M11: 157676 | N11: 169303 | O11: 165884 | P11: 164572
B12: Coronary heart disease (I20-I25) | H12: 47923 | I12: 50157 | J12: 48699 | K12: 47640 | L12: 49615 | M12: 48336 | N12: 49424 | O12: 50845 | P12: 49936
C13: Myocardial infarction (I21-I22)** | K13: 22077 | L13: 25860 | M13: 25362 | N13: 26454 | O13: 26924 | P13: 25783
B14: Stroke (I60-I69) | H14: 22441 | I14: 22639 | J14: 22662 | K14: 23737 | L14: 19257 | M14: 26607 | N14: 28359 | O14: 29392 | P14: 29387
B15: Other cardiovascular disease | H15: 74536 | I15: 76236 | J15: 77378 | K15: 77389 | L15: 88426 | M15: 82733 | N15: 91520 | O15: 85647 | P15: 85249
A17: Wales | B17: Heart and circulatory diseases (CVD) (I00-I99) | D17: 74824 | E17: 75338 | F17: 75981 | G17: 78714 | H17: 81599 | I17: 80903 | J17: 77589 | K17: 80953 | L17: 88105 | M17: 83308 | N17: 85068 | O17: 79167 | P17: 72374
B18: Coronary heart disease (I20-I25) | D18: 24516 | E18: 25060 | F18: 25156 | G18: 25074 | H18: 24893 | I18: 24300 | J18: 23904 | K18: 24335 | L18: 25647 | M18: 22832 | N18: 23398 | O18: 22399 | P18: 20761
C19: Myocardial infarction (I21-I22) | K19: 9031 | L19: 9731 | M19: 8688 | N19: 9960 | O19: 9844 | P19: 10053
B20: Stroke (I60-I69) | D20: 11660 | E20: 11143 | F20: 11188 | G20: 12313 | H20: 12411 | I20: 12471 | J20: 11460 | K20: 12080 | L20: 13265 | M20: 12476 | N20: 12405 | O20: 11648 | P20: 10807
B21: Other cardiovascular disease | D21: 38648 | E21: 39135 | F21: 39637 | G21: 41327 | H21: 44295 | I21: 44132 | J21: 42225 | K21: 44538 | L21: 49193 | M21: 48000 | N21: 49265 | O21: 45120 | P21: 40806
A23: Northern Ireland | B23: Heart and circulatory diseases (CVD) (I00-I99) | I23: 42887 | J23: 46617 | K23: 42875 | L23: 44296 | M23: 44592 | N23: 44488 | O23: 42515 | P23: 43016
B24: Coronary heart disease (I20-I25) | I24: 14409 | J24: 14060 | K24: 14520 | L24: 15378 | M24: 15014 | N24: 14963 | O24: 14262 | P24: 14158
C25: Myocardial infarction (I21-I22) | K25: 4614 | L25: 5288 | M25: 5369 | N25: 5776 | O25: 5985 | P25: 6081
B26: Stroke (I60-I69) | I26: 4872 | J26: 3199 | K26: 2943 | L26: 3383 | M26: 2486 | N26: 2202 | O26: 2208 | P26: 2313
B27: Other cardiovascular disease | I27: 23606 | J27: 29358 | K27: 25412 | L27: 25535 | M27: 27092 | N27: 27323 | O27: 26045 | P27: 26545
A29: United Kingdom | B29: Heart and circulatory diseases (CVD) (I00-I99) | I29: 1644631 | J29: 1654580 | K29: 1646688 | L29: 1690931 | M29: 1708895 | N29: 1779179 | O29: 1706368 | P29: 1728818
B30: Coronary heart disease (I20-I25) | I30: 493962 | J30: 496171 | K30: 490584 | L30: 491647 | M30: 479713 | N30: 481672 | O30: 483822 | P30: 482481
C31: Myocardial infarction (I21-I22) | K31: 179254 | L31: 189138 | M31: 187879 | N31: 197047 | O31: 201838 | P31: 205007
B32: Stroke (I60-I69) | I32: 238317 | J32: 231757 | K32: 234841 | L32: 233261 | M32: 239362 | N32: 246548 | O32: 248928 | P32: 253439
B33: Other cardiovascular disease | I33: 912352 | J33: 926652 | K33: 921263 | L33: 966023 | M33: 989820 | N33: 1050959 | O33: 973618 | P33: 992898
A35: Notes: | B35: Finished consultant episodes; ordinary admissions and day cases combined. Pregnancy cases not included. ICD-10 codes in parentheses.
B36: ** Scotland - figures for 2012/13 to 2014/15 do not include subsequent myocardial infarction (I22)
A38: Source: | B38: NHS Digital (2018). Hospital Episode Statistics. | D38: https://digital.nhs.uk/data-and-information/publications/statistical/hospital-admitted-patient-care-activity/
B39: Information Services Division Scotland (2019) Main diagnosis discharges from hospital. Personal correspondence.
B40: NHS Wales Informatics Service (2018). The Patient Episode Database for Wales. | I40: www.infoandstats.wales.nhs.uk
B41: Hospital Information Branch (2018). Northern Ireland Episode Based Inpatient and Day Case Activity Data | I41: www.health-ni.gov.uk/articles/episode-based-activity

Sheet 2.2b
A1: Table 2.2b Inpatient episodes by main diagnosis in NHS hospitals in men, England, Scotland, Wales, Northern Ireland and United Kingdom, 2005/06 - 2017/18
A2: Back to Table of Contents
A3: MEN | D3: 2005/06 | E3: 2006/07 | F3: 2007/08 | G3: 2008/09 | H3: 2009/10 | I3: 2010/11 | J3: 2011/12 | K3: 2012/13 | L3: 2013/14 | M3: 2014/15 | N3: 2015/16 | O3: 2016/17 | P3: 2017/18
A5: England | B5: Heart and circulatory diseases (CVD) (I00-I99) | D5: 694974 | E5: 705822 | F5: 715200 | G5: 741384 | H5: 759672 | I5: 767889 | J5: 779921 | K5: 777888 | L5: 793952 | M5: 804412 | N5: 838567 | O5: 811101 | P5: 831328
B6: Coronary heart disease (I20-I25) | D6: 274816 | E6: 276900 | F6: 275069 | G6: 274163 | H6: 265667 | I6: 263538 | J6: 266954 | K6: 265102 | L6: 264934 | M6: 260052 | N6: 261024 | O6: 263513 | P6: 265359
C7: Myocardial infarction (I21-I22) | K7: 89924 | L7: 94323 | M7: 94566 | N7: 99026 | O7: 102729 | P7: 105637
B8: Stroke (I60-I69) | D8: 85041 | E8: 84271 | F8: 86372 | G8: 91363 | H8: 97878 | I8: 96364 | J8: 95294 | K8: 96502 | L8: 97593 | M8: 98597 | N8: 102188 | O8: 103758 | P8: 106514
B9: Other cardiovascular disease | D9: 335117 | E9: 344651 | F9: 353759 | G9: 375858 | H9: 396127 | I9: 407987 | J9: 417673 | K9: 416284 | L9: 431425 | M9: 445763 | N9: 475355 | O9: 443830 | P9: 459455
A11: Scotland | B11: Heart and circulatory diseases (CVD) (I00-I99) | H11: 80575 | I11: 83336 | J11: 83040 | K11: 83723 | L11: 87460 | M11: 88497 | N11: 95072 | O11: 94081 | P11: 92871
B12: Coronary heart disease (I20-I25) | H12: 30871 | I12: 32357 | J12: 31154 | K12: 31154 | L12: 31695 | M12: 31625 | N12: 31866 | O12: 33206 | P12: 32448
C13: Myocardial infarction (I21-I22)** | K13: 14001 | L13: 16003 | M13: 16024 | N13: 16488 | O13: 16932 | P13: 16090
B14: Stroke (I60-I69) | H14: 10898 | I14: 10965 | J14: 10864 | K14: 11565 | L14: 9430 | M14: 13025 | N14: 14078 | O14: 14697 | P14: 14369
B15: Other cardiovascular disease | H15: 38806 | I15: 40014 | J15: 41022 | K15: 41004 | L15: 46335 | M15: 43847 | N15: 49128 | O15: 46178 | P15: 46054
A17: Wales | B17: Heart and circulatory diseases (CVD) (I00-I99) | D17: 40598 | E17: 41128 | F17: 41525 | G17: 43120 | H17: 44510 | I17: 44492 | J17: 42800 | K17: 45446 | L17: 49671 | M17: 46862 | N17: 47575 | O17: 45283 | P17: 41027
B18: Coronary heart disease (I20-I25) | D18: 15153 | E18: 15597 | F18: 15821 | G18: 15946 | H18: 15915 | I18: 15621 | J18: 15240 | K18: 15745 | L18: 16806 | M18: 15129 | N18: 15128 | O18: 14620 | P18: 13537
C19: Myocardial infarction (I21-I22) | K19: 5606 | L19: 6194 | M19: 5619 | N19: 6338 | O19: 6255 | P19: 6482
B20: Stroke (I60-I69) | D20: 5461 | E20: 5460 | F20: 5304 | G20: 5715 | H20: 5827 | I20: 6045 | J20: 5389 | K20: 5672 | L20: 6617 | M20: 6009 | N20: 5961 | O20: 5960 | P20: 5495
B21: Other cardiovascular disease | D21: 19984 | E21: 20071 | F21: 20400 | G21: 21459 | H21: 22768 | I21: 22826 | J21: 22171 | K21: 24029 | L21: 26248 | M21: 25724 | N21: 26486 | O21: 24703 | P21: 21995
A23: Northern Ireland | B23: Heart and circulatory diseases (CVD) (I00-I99) | I23: 24499 | J23: 26591 | K23: 24154 | L23: 25674 | M23: 25773 | N23: 25922 | O23: 24750 | P23: 25032
B24: Coronary heart disease (I20-I25) | I24: 9800 | J24: 9521 | K24: 9846 | L24: 10697 | M24: 10418 | N24: 10386 | O24: 9798 | P24: 9863
C25: Myocardial infarction (I21-I22) | K25: 2962 | L25: 3461 | M25: 3518 | N25: 3784 | O25: 3938 | P25: 4082
B26: Stroke (I60-I69) | I26: 2485 | J26: 1628 | K26: 1437 | L26: 1742 | M26: 1242 | N26: 1126 | O26: 1039 | P26: 1108
B27: Other cardiovascular disease | I27: 12214 | J27: 15442 | K27: 12871 | L27: 13235 | M27: 14113 | N27: 14410 | O27: 13913 | P27: 14061
A29: United Kingdom | B29: Heart and circulatory diseases (CVD) (I00-I99) | I29: 920216 | J29: 932352 | K29: 931211 | L29: 956757 | M29: 965544 | N29: 1007136 | O29: 975215 | P29: 990258
B30: Coronary heart disease (I20-I25) | I30: 321316 | J30: 322869 | K30: 321847 | L30: 324132 | M30: 317224 | N30: 318404 | O30: 321137 | P30: 321207
C31: Myocardial infarction (I21-I22) | K31: 112493 | L31: 119981 | M31: 119727 | N31: 125636 | O31: 129854 | P31: 132291
B32: Stroke (I60-I69) | I32: 115859 | J32: 113175 | K32: 115176 | L32: 115382 | M32: 118873 | N32: 123353 | O32: 125454 | P32: 127486
B33: Other cardiovascular disease | I33: 483041 | J33: 496308 | K33: 494188 | L33: 517243 | M33: 529447 | N33: 565379 | O33: 528624 | P33: 541565
A35: Notes: | B35: Finished consultant episodes; ordinary admissions and day cases combined. Pregnancy cases not included. ICD-10 codes in parentheses.
B36: ** Scotland - figures for 2012/13 to 2014/15 do not include subsequent myocardial infarction (I22)
A38: Source: | B38: NHS Digital (2018). Hospital Episode Statistics. | D38: https://digital.nhs.uk/data-and-information/publications/statistical/hospital-admitted-patient-care-activity/
B39: Information Services Division Scotland (2019) Main diagnosis discharges from hospital. Personal correspondence.
B40: NHS Wales Informatics Service (2018). The Patient Episode Database for Wales. | I40: www.infoandstats.wales.nhs.uk
B41: Hospital Information Branch (2018). Northern Ireland Episode Based Inpatient and Day Case Activity Data | I41: www.health-ni.gov.uk/articles/episode-based-activity

Sheet 2.2c
A1: Table 2.2c Inpatient episodes by main diagnosis in NHS hospitals in women, England, Scotland, Wales, Northern Ireland and United Kingdom, 2005/06 - 2017/18
A2: Back to Table of Contents
A3: WOMEN | D3: 2005/06 | E3: 2006/07 | F3: 2007/08 | G3: 2008/09 | H3: 2009/10 | I3: 2010/11 | J3: 2011/12 | K3: 2012/13 | L3: 2013/14 | M3: 2014/15 | N3: 2015/16 | O3: 2016/17 | P3: 2017/18
A5: England | B5: Heart and circulatory diseases (CVD) (I00-I99) | D5: 549030 | E5: 549768 | F5: 559474 | G5: 580911 | H5: 598575 | I5: 603920 | J5: 601714 | K5: 596206 | L5: 607280 | M5: 618907 | N5: 641753 | O5: 607701 | P5: 617528
B6: Coronary heart disease (I20-I25) | D6: 153446 | E6: 151013 | F6: 149178 | G6: 148171 | H6: 142008 | I6: 141558 | J6: 142554 | K6: 138987 | L6: 136073 | M6: 133479 | N6: 132863 | O6: 132803 | P6: 132267
C7: Myocardial infarction (I21-I22) | K7: 53608 | L7: 53936 | M7: 53894 | N7: 55831 | O7: 56356 | P7: 57453
B8: Stroke (I60-I69) | D8: 93280 | E8: 92181 | F8: 93627 | G8: 98738 | H8: 105827 | I8: 101971 | J8: 99142 | K8: 99579 | L8: 99763 | M8: 99196 | N8: 101394 | O8: 101922 | P8: 104418
B9: Other cardiovascular disease | D9: 302304 | E9: 306574 | F9: 316669 | G9: 334002 | H9: 350740 | I9: 360391 | J9: 360018 | K9: 357640 | L9: 371444 | M9: 386232 | N9: 407496 | O9: 372976 | P9: 380843
A11: Scotland | B11: Heart and circulatory diseases (CVD) (I00-I99) | H11: 64325 | I11: 65696 | J11: 65699 | K11: 65043 | L11: 69838 | M11: 69179 | N11: 74231 | O11: 71803 | P11: 71701
B12: Coronary heart disease (I20-I25) | H12: 17052 | I12: 17800 | J12: 17545 | K12: 16486 | L12: 17920 | M12: 16711 | N12: 17558 | O12: 17639 | P12: 17488
C13: Myocardial infarction (I21-I22)** | K13: 8076 | L13: 9857 | M13: 9338 | N13: 9966 | O13: 9992 | P13: 9693
B14: Stroke (I60-I69) | H14: 11543 | I14: 11674 | J14: 11798 | K14: 12172 | L14: 9827 | M14: 13582 | N14: 14281 | O14: 14695 | P14: 15018
B15: Other cardiovascular disease | H15: 35730 | I15: 36222 | J15: 36356 | K15: 36385 | L15: 42091 | M15: 38886 | N15: 42392 | O15: 39469 | P15: 39195
A17: Wales | B17: Heart and circulatory diseases (CVD) (I00-I99) | D17: 34220 | E17: 34207 | F17: 34456 | G17: 35594 | H17: 37089 | I17: 36410 | J17: 34789 | K17: 38084 | L17: 38434 | M17: 36446 | N17: 37493 | O17: 33884 | P17: 31347
B18: Coronary heart disease (I20-I25) | D18: 9357 | E18: 9461 | F18: 9335 | G18: 9128 | H18: 8978 | I18: 8679 | J18: 8664 | K18: 9214 | L18: 8841 | M18: 7703 | N18: 8270 | O18: 7779 | P18: 7224
C19: Myocardial infarction (I21-I22) | K19: 3425 | L19: 3537 | M19: 3069 | N19: 3622 | O19: 3589 | P19: 3571
B20: Stroke (I60-I69) | D20: 6199 | E20: 5683 | F20: 5884 | G20: 6598 | H20: 6584 | I20: 6426 | J20: 6071 | K20: 6878 | L20: 6648 | M20: 6467 | N20: 6444 | O20: 5688 | P20: 5312
B21: Other cardiovascular disease | D21: 18664 | E21: 19063 | F21: 19237 | G21: 19868 | H21: 21527 | I21: 21305 | J21: 20054 | K21: 21992 | L21: 22945 | M21: 22276 | N21: 22779 | O21: 20417 | P21: 18811
A23: Northern Ireland | B23: Heart and circulatory diseases (CVD) (I00-I99) | I23: 18388 | J23: 20026 | K23: 18721 | L23: 18622 | M23: 18819 | N23: 18566 | O23: 17765 | P23: 17984
B24: Coronary heart disease (I20-I25) | I24: 4609 | J24: 4539 | K24: 4674 | L24: 4681 | M24: 4596 | N24: 4577 | O24: 4464 | P24: 4295
C25: Myocardial infarction (I21-I22) | K25: 1652 | L25: 1827 | M25: 1851 | N25: 1992 | O25: 2047 | P25: 1999
B26: Stroke (I60-I69) | I26: 2387 | J26: 1571 | K26: 1506 | L26: 1641 | M26: 1244 | N26: 1076 | O26: 1169 | P26: 1205
B27: Other cardiovascular disease | I27: 11392 | J27: 13916 | K27: 12541 | L27: 12300 | M27: 12979 | N27: 12913 | O27: 12132 | P27: 12484
A29: United Kingdom | B29: Heart and circulatory diseases (CVD) (I00-I99) | I29: 724414 | J29: 722228 | K29: 718054 | L29: 734174 | M29: 743351 | N29: 772043 | O29: 731153 | P29: 738560
B30: Coronary heart disease (I20-I25) | I30: 172646 | J30: 173302 | K30: 169361 | L30: 167515 | M30: 162489 | N30: 163268 | O30: 162685 | P30: 161274
C31: Myocardial infarction (I21-I22) | K31: 66761 | L31: 69157 | M31: 68152 | N31: 71411 | O31: 71984 | P31: 72716
B32: Stroke (I60-I69) | I32: 122458 | J32: 118582 | K32: 120135 | L32: 117879 | M32: 120489 | N32: 123195 | O32: 123474 | P32: 125953
B33: Other cardiovascular disease | I33: 429310 | J33: 430344 | K33: 428558 | L33: 448780 | M33: 460373 | N33: 485580 | O33: 444994 | P33: 451333
A35: Notes: | B35: Finished consultant episodes; ordinary admissions and day cases combined. Pregnancy cases not included. ICD-10 codes in parentheses.
B36: For England, data for females up to and including 2011/12 is calculated as the difference between total finished consultant episodes and male consultant episodes.
B37: ** Scotland - figures for 2012/13 to 2014/15 do not include subsequent myocardial infarction (I22)
A39: Source: | B39: NHS Digital (2018). Hospital Episode Statistics. | D39: https://digital.nhs.uk/data-and-information/publications/statistical/hospital-admitted-patient-care-activity/
B40: Information Services Division Scotland (2019) Main diagnosis discharges from hospital. Personal correspondence.
B41: NHS Wales Informatics Service (2018). The Patient Episode Database for Wales. | I41: www.infoandstats.wales.nhs.uk
B42: Hospital Information Branch (2018). Northern Ireland Episode Based Inpatient and Day Case Activity Data | I42: www.health-ni.gov.uk/articles/episode-based-activity

Sheet 2.2d
A1: Back to Table of Contents

Sheet 2.2e
A1: Back to Table of Contents

Sheet 2.2f
A1: Back to Table of Contents

Sheet 2.2g
A1: Back to Table of Contents

Sheet Data for figs 2.2
A1: Data for figures 2.2d to 2.2g
A3: Figure 2.2d | B3: England | C3: 2005/06 | D3: 2006/07 | E3: 2007/08 | F3: 2008/09 | G3: 2009/10 | H3: 2010/11 | I3: 2011/12 | J3: 2012/13 | K3: 2013/14 | L3: 2014/15 | M3: 2015/16 | N3: 2016/17 | O3: 2017/18
B5: Cardiovascular disease (men) | C5: 694974 | D5: 705822 | E5: 715200 | F5: 741384 | G5: 759672 | H5: 767889 | I5: 779921 | J5: 777888 | K5: 793952 | L5: 804412 | M5: 838567 | N5: 811101 | O5: 831328
B6: Cardiovascular disease (women) | C6: 549030 | D6: 549768 | E6: 559474 | F6: 580911 | G6: 598575 | H6: 603920 | I6: 601714 | J6: 596206 | K6: 607280 | L6: 618907 | M6: 641753 | N6: 607701 | O6: 617528
B7: Coronary heart disease (men) | C7: 274816 | D7: 276900 | E7: 275069 | F7: 274163 | G7: 265667 | H7: 263538 | I7: 266954 | J7: 265102 | K7: 264934 | L7: 260052 | M7: 261024 | N7: 263513 | O7: 265359
B8: Coronary heart disease (women) | C8: 153446 | D8: 151013 | E8: 149178 | F8: 148171 | G8: 142008 | H8: 141558 | I8: 142554 | J8: 138987 | K8: 136073 | L8: 133479 | M8: 132863 | N8: 132803 | O8: 132267
B9: Acute myocardial infarction (men) | J9: 88314 | K9: 93389 | L9: 93729 | M9: 98250 | N9: 101801 | O9: 104702
B10: Acute myocardial infarction (women) | J10: 52676 | K10: 53311 | L10: 53382 | M10: 55263 | N10: 55755 | O10: 56913
B11: Stroke (men) | C11: 85041 | D11: 84271 | E11: 86372 | F11: 91363 | G11: 97878 | H11: 96364 | I11: 95294 | J11: 96502 | K11: 97593 | L11: 98597 | M11: 102188 | N11: 103758 | O11: 106514
B12: Stroke (women) | C12: 93280 | D12: 92181 | E12: 93627 | F12: 98738 | G12: 105827 | H12: 101971 | I12: 99142 | J12: 99579 | K12: 99763 | L12: 99196 | M12: 101394 | N12: 101922 | O12: 104418
B13: Other cardiovascular disease (men) | C13: 335117 | D13: 344651 | E13: 353759 | F13: 375858 | G13: 396127 | H13: 407987 | I13: 417673 | J13: 416284 | K13: 431425 | L13: 445763 | M13: 475355 | N13: 443830 | O13: 459455
B14: Other cardiovascular disease (women) | C14: 302304 | D14: 306574 | E14: 316669 | F14: 334002 | G14: 350740 | H14: 360391 | I14: 360018 | J14: 357640 | K14: 371444 | L14: 386232 | M14: 407496 | N14: 372976 | O14: 380843
A18: Figure 2.2e | B18: Scotland | C18: 2009/10 | D18: 2010/11 | E18: 2011/12 | F18: 2012/13 | G18: 2013/14 | H18: 2014/15 | I18: 2015/16 | J18: 2016/17 | K18: 2017/18
B20: Cardiovascular disease (men) | C20: 80575 | D20: 83336 | E20: 83040 | F20: 83723 | G20: 87460 | H20: 88497 | I20: 95072 | J20: 94081 | K20: 92871
B21: Cardiovascular disease (women) | C21: 64325 | D21: 65696 | E21: 65699 | F21: 65043 | G21: 69838 | H21: 69179 | I21: 74231 | J21: 71803 | K21: 71701
B22: Coronary heart disease (men) | C22: 30871 | D22: 32357 | E22: 31154 | F22: 31154 | G22: 31695 | H22: 31625 | I22: 31866 | J22: 33206 | K22: 32448
B23: Coronary heart disease (women) | C23: 17052 | D23: 17800 | E23: 17545 | F23: 16486 | G23: 17920 | H23: 16711 | I23: 17558 | J23: 17639 | K23: 17488
B24: Acute myocardial infarction (men) | F24: 14001 | G24: 16003 | H24: 16024 | I24: 16350 | J24: 16790 | K24: 15980
B25: Acute myocardial infarction (women) | F25: 8076 | G25: 9857 | H25: 9338 | I25: 9825 | J25: 9899 | K25: 9611
B26: Stroke (men) | C26: 10898 | D26: 10965 | E26: 10864 | F26: 11565 | G26: 9430 | H26: 13025 | I26: 14078 | J26: 14697 | K26: 14369
B27: Stroke (women) | C27: 11543 | D27: 11674 | E27: 11798 | F27: 12172 | G27: 9827 | H27: 13582 | I27: 14281 | J27: 14695 | K27: 15018
B28: Other cardiovascular disease (men) | C28: 38806 | D28: 40014 | E28: 41022 | F28: 41004 | G28: 46335 | H28: 43847 | I28: 49128 | J28: 46178 | K28: 46054
B29: Other cardiovascular disease (women) | C29: 35730 | D29: 36222 | E29: 36356 | F29: 36385 | G29: 42091 | H29: 38886 | I29: 42392 | J29: 39469 | K29: 39195
A32: Figure 2.2f | B32: Wales | C32: 2005/06 | D32: 2006/07 | E32: 2007/08 | F32: 2008/09 | G32: 2009/10 | H32: 2010/11 | I32: 2011/12 | J32: 2012/13 | K32: 2013/14 | L32: 2014/15 | M32: 2015/16 | N32: 2016/17 | O32: 2017/18
B34: Cardiovascular disease (men) | C34: 40598 | D34: 41128 | E34: 41525 | F34: 43120 | G34: 44510 | H34: 44492 | I34: 42800 | J34: 45446 | K34: 49671 | L34: 46862 | M34: 47575 | N34: 45283 | O34: 41027
B35: Cardiovascular disease (women) | C35: 34220 | D35: 34207 | E35: 34456 | F35: 35594 | G35: 37089 | H35: 36410 | I35: 34789 | J35: 35507 | K35: 38434 | L35: 36446 | M35: 37493 | N35: 33884 | O35: 31347
B36: Coronary heart disease (men) | C36: 15153 | D36: 15597 | E36: 15821 | F36: 15946 | G36: 15915 | H36: 15621 | I36: 15240 | J36: 15745 | K36: 16806 | L36: 15129 | M36: 15128 | N36: 14620 | O36: 13537
B37: Coronary heart disease (women) | C37: 9357 | D37: 9461 | E37: 9335 | F37: 9128 | G37: 8978 | H37: 8679 | I37: 8664 | J37: 8590 | K37: 8841 | L37: 7703 | M37: 8270 | N37: 7779 | O37: 7224
B38: Acute myocardial infarction (men) | J38: 4963 | K38: 6126 | L38: 5584 | M38: 6285 | N38: 6225 | O38: 6423
B39: Acute myocardial infarction (women) | J39: 3023 | K39: 3021 | L39: 3043 | M39: 3598 | N39: 3549 | O39: 3537
B40: Stroke (men) | C40: 5461 | D40: 5460 | E40: 5304 | F40: 5715 | G40: 5827 | H40: 6045 | I40: 5389 | J40: 5672 | K40: 6617 | L40: 6009 | M40: 5961 | N40: 5960 | O40: 5495
B41: Stroke (women) | C41: 6199 | D41: 5683 | E41: 5884 | F41: 6598 | G41: 6584 | H41: 6426 | I41: 6071 | J41: 6408 | K41: 6648 | L41: 6467 | M41: 6444 | N41: 5688 | O41: 5312
B42: Other cardiovascular disease (men) | C42: 19984 | D42: 20071 | E42: 20400 | F42: 21459 | G42: 22768 | H42: 22826 | I42: 22171 | J42: 24029 | K42: 26248 | L42: 25724 | M42: 26486 | N42: 24703 | O42: 21995
B43: Other cardiovascular disease (women) | C43: 18664 | D43: 19063 | E43: 19237 | F43: 19868 | G43: 21527 | H43: 21305 | I43: 20054 | J43: 20509 | K43: 22945 | L43: 22276 | M43: 22779 | N43: 20417 | O43: 18811
A47: Figure 2.2g | B47: Northern Ireland | C47: 2010/11 | D47: 2011/12 | E47: 2012/13 | F47: 2013/14 | G47: 2014/15 | H47: 2015/16 | I47: 2016/17 | J47: 2017/18
B49: Cardiovascular disease (men) | C49: 24499 | D49: 26591 | E49: 24154 | F49: 25674 | G49: 25733 | H49: 25922 | I49: 24750 | J49: 25032
B50: Cardiovascular disease (women) | C50: 18388 | D50: 20026 | E50: 18721 | F50: 18622 | G50: 18819 | H50: 18566 | I50: 17765 | J50: 17984
B51: Coronary heart disease (men) | C51: 9800 | D51: 9521 | E51: 9846 | F51: 10697 | G51: 10418 | H51: 10386 | I51: 9798 | J51: 9863
B52: Coronary heart disease (women) | C52: 4609 | D52: 4539 | E52: 4674 | F52: 4681 | G52: 4596 | H52: 4577 | I52: 4464 | J52: 4295
B53: Acute myocardial infarction (men) | E53: 2938 | F53: 3426 | G53: 3468 | H53: 3766 | I53: 3924 | J53: 4071
B54: Acute myocardial infarction (women) | E54: 1642 | F54: 1799 | G54: 1846 | H54: 1982 | I54: 2035 | J54: 1991
B55: Stroke (men) | C55: 2485 | D55: 1628 | E55: 1437 | F55: 1742 | G55: 1242 | H55: 1126 | I55: 1039 | J55: 1108
B56: Stroke (women) | C56: 2387 | D56: 1571 | E56: 1506 | F56: 1641 | G56: 1244 | H56: 1076 | I56: 1169 | J56: 1205
B57: Other cardiovascular disease (men) | C57: 12214 | D57: 15442 | E57: 12871 | F57: 13235 | G57: 14113 | H57: 14410 | I57: 12132 | J57: 12484
B58: Other cardiovascular disease (women) | C58: 11392 | D58: 13916 | E58: 12541 | F58: 12300 | G58: 12979 | H58: 12913 | I58: 13913 | J58: 14061

Sheet 2.3(data)
A1: Table 2.3 Inpatient admissions by main diagnosis in National Health Service hospitals by gender, England, Scotland, Wales, Northern Ireland and United Kingdom 2017/18
A2: Back to Table of Contents
B3: England 2017/18 | D3: Scotland 2017/18 | F3: Wales 2017/18 | H3: Northern Ireland 2017/18 | J3: United Kingdom, 2017/18
B4: Men | C4: Women | D4: Men | E4: Women | F4: Men | G4: Women | H4: Men | I4: Women | J4: Men | K4: Women | L4: Both
A6: All diagnoses | B6: 7494500 | C6: 9126700 | D6: 574548.56 | E6: 627236.44 | F6: 374080.77 | G6: 474001.87 | H6: 269300 | I6: 264400 | J6: 8712429.3 | K6: 10492338 | L6: 19204768
A8: All heart and circulatory diseases (F01, I00-I99, Q20-Q28) | B8: 547300 | C8: 408900 | D8: 47859 | E8: 36947 | F8: 22482 | G8: 18008 | H8: 19000 | I8: 13700 | J8: 636641 | K8: 477555 | L8: 1114196
A9: Coronary heart disease (I20-I25) | B9: 176900 | C9: 88200 | D9: 15672 | E9: 8461 | F9: 6484 | G9: 3568 | H9: 8100 | I9: 3500 | J9: 207156 | K9: 103729 | L9: 310885
A10: Angina pectoris (I20) | B10: 28200 | C10: 17900 | D10: 2637 | E10: 1765 | F10: 960 | G10: 683 | H10: 1100 | I10: 500 | J10: 32897 | K10: 20848 | L10: 53745
A11: Myocardial infarction (I21-I22) | B11: 53300 | C11: 28900 | D11: 6640 | E11: 3872 | F11: 3297 | G11: 1792 | H11: 3000 | I11: 1400 | J11: 66237 | K11: 35964 | L11: 102201
A12: Stroke (160-169) | B12: 56200 | C12: 55100 | D12: 5869 | E12: 5933 | F12: 3538 | G12: 3471 | H12: 700 | I12: 700 | J12: 66307 | K12: 65204 | L12: 131511
A13: Atrial fibrillation (I48) | B13: 60100 | C13: 49800 | D13: 5151 | E13: 4502 | F13: 2018 | G13: 2077 | H13: 2200 | I13: 1700 | J13: 69469 | K13: 58079 | L13: 127548
A14: Heart failure (I50) | B14: 46100 | C14: 39300 | D14: 4058 | E14: 3507 | F14: 2200 | G14: 2012 | H14: 1500 | I14: 1500 | J14: 53858 | K14: 46319 | L14: 100177
A15: Other cardiovascular disease | B15: 195500 | C15: 164900 | D15: 16344 | E15: 13815 | F15: 7855 | G15: 6470 | H15: 6200 | I15: 6000 | J15: 225899 | K15: 191185 | L15: 417084
A16: Congenital malformations of the circulatory system (Q20-Q28) | B16: 10800 | C16: 9800 | D16: 589 | E16: 553 | F16: 115 | G16: 111 | H16: 300 | I16: 300 | J16: 11804 | K16: 10764 | L16: 22568
A17: Vascular dementia (F01) | B17: 1700 | C17: 1800 | D17: 176 | E17: 176 | F17: 272 | G17: 299 | H17: x | I17: x | J17: 2148 | K17: 2275 | L17: 4423
A19: Diabetes (E10-E14) | B19: 30500 | C19: 23800 | D19: 3141 | E19: 2636 | F19: 1588 | G19: 1360 | H19: 800 | I19: 800 | J19: 36029 | K19: 28596
A20: Obesity (E66) | B20: 2900 | C20: 7900 | D20: 86 | E20: 170 | F20: 42 | G20: 76 | H20: x | I20: x | J20: 3028 | K20: 8146
A22: All cancer (C00-D48) | B22: 1002000 | C22: 1023800 | D22: 84654 | E22: 99248 | F22: 16254 | G22: 16617 | H22: 35100 | I22: 37700 | J22: 1138008 | K22: 1177365
A23: All diseases of the nervous system (G00-G99) | B23: 170000 | C23: 203200 | D23: 14081 | E23: 17329 | F23: 4326 | G23: 5005 | H23: 3500 | I23: 4700 | J23: 191907 | K23: 230234
A24: All diseases of the respiratory system (J00-J99) | B24: 522000 | C24: 539300 | D24: 51292 | E24: 56469 | F24: 30568 | G24: 30839 | H24: 17400 | I24: 19200 | J24: 621260 | K24: 645808
A25: All diseases of the digestive system (K00-K93) | B25: 1061200 | C25: 1084500 | D25: 78445 | E25: 80244 | F25: 17926 | G25: 19297 | H25: 32300 | I25: 32200 | J25: 1189871 | K25: 1216241
A26: All diseases of the genitourinary system (N00-N99) | B26: 379000 | C26: 515700 | D26: 32932 | E26: 43886 | F26: 12292 | G26: 17054 | H26: 63900 | I26: 53700 | J26: 488124 | K26: 630340
A27: Injury and poisoning (S00-T98) | B27: 506100 | C27: 521800 | D27: 50474 | E27: 49160 | F27: 22679 | G27: 23982 | H27: 14700 | I27: 14900 | J27: 593953 | K27: 609842
A28: All other diagnoses | B28: 3273500 | C28: 4797800 | D28: 211584.56 | E28: 241147.44 | F28: 245923.77 | G28: 341763.87 | H28: 82600 | I28: 87500 | J28: 3813608.3 | K28: 5468211.3
A30: Notes: | B30: Finished consultant episodes (FCE); ordinary admissions and day cases combined. Pregnancy cases not included. ICD-10 codes in parentheses.
B31: For England and Northern Ireland, male/female estimates are pro rata based on finished consultant episodes splits, rounded to nearest hundred.
B32: x - data not recorded
A34: Source: | B34: NHS Digital (2018). Hospital Episode Statistics 2017/18. | F34: https://digital.nhs.uk/data-and-information/publications/statistical/hospital-admitted-patient-care-activity/2017-18
B35: Information Services Division Scotland (2019) Main diagnosis discharges from hospital 2017/18. Personal correspondence.
B36: NHS Wales Informatics Service (2018). The Patient Episode Database for Wales- 2017/18. | J36: www.infoandstats.wales.nhs.uk
B37: Hospital Information Branch (2018). Northern Ireland Episode Based Inpatient and Day Case Activity Data (2017/18) | J37: www.health-ni.gov.uk/publications/acute-episode-based-activity-201718

Sheet 2.3ab
A1: Back to Table of Contents

Sheet 2.3cd
A1: Back to Table of Contents

Sheet 2.3ef
A1: Back to Table of Contents

Sheet 2.3gh
A1: Back to Table of Contents

Sheet 2.3ij
A1: Back to Table of Contents

Sheet Data for Figs 2.3
A1: Admissions | D1: England | H1: Scotland | L1: Wales | P1: Northern Ireland | T1: United Kingdom
D2: Men | H2: Men | L2: Men | P2: Men | T2: Men
D3: 3 | H3: 5 | L3: 7 | P3: 9 | T3: 11
D4: Figure 2.3c | H4: Figure 2.3e | L4: Figure 2.3g | P4: Figure 2.3i | T4: Figure 2.3a
D5: 7494500 | H5: 574548.56 | L5: 374080.77 | P5: 269300 | T5: 8712429.3
A6: Total | C6: All diagnoses | D6: 7494500 | G6: All diagnoses | H6: 574548.56 | K6: All diagnoses | L6: 374080.77 | O6: All diagnoses | P6: 269300 | S6: All diagnoses | T6: 8712429.3
A8: I20-I25 | B8: Coronary heart disease | C8: Coronary heart disease 2.4% | D8: 176900 | E8: 0.023603976 | G8: Coronary heart disease 2.7% | H8: 15672 | I8: 0.027277068 | K8: Coronary heart disease 1.7% | L8: 6484 | M8: 0.017333155 | O8: Coronary heart disease 3.0% | P8: 8100 | Q8: 0.03007798 | S8: Coronary heart disease 2.4% | T8: 207156 | U8: 0.023777065
A9: I60-I69 | B9: Stroke | C9: Stroke 0.7% | D9: 56200 | E9: 0.0074988325 | G9: Stroke 1.0% | H9: 5869 | I9: 0.010214977 | K9: Stroke 0.9% | L9: 3538 | M9: 0.0094578506 | O9: Stroke 0.3% | P9: 700 | Q9: 0.0025993316 | S9: Stroke 0.8% | T9: 66307 | U9: 0.0076106213
A10: I48 | B10: Atrial fibrillation | C10: Atrial fibrillation 0.8% | D10: 60100 | E10: 0.0080192141 | G10: Atrial fibrillation 0.9% | H10: 5151 | I10: 0.0089652997 | K10: Atrial fibrillation 0.5% | L10: 2018 | M10: 0.0053945569 | O10: Atrial fibrillation 0.8% | P10: 2200 | Q10: 0.0081693279 | S10: Atrial fibrillation 0.8% | T10: 69469 | U10: 0.0079735511
A11: I50 | B11: Heart failure | C11: Heart failure 0.6% | D11: 46100 | E11: 0.0061511775 | G11: Heart failure 0.7% | H11: 4058 | I11: 0.0070629366 | K11: Heart failure 0.6% | L11: 2200 | M11: 0.0058810829 | O11: Heart failure 0.6% | P11: 1500 | Q11: 0.0055699963 | S11: Heart failure 0.6% | T11: 53858 | U11: 0.0061817431
A12: Other CVD | B12: Other cardiovascular diseases | C12: Other cardiovascular diseases 2.6% | D12: 195500 | E12: 0.026085796 | G12: Other cardiovascular diseases 2.8% | H12: 16344 | I12: 0.028446682 | K12: Other cardiovascular diseases 2.1% | L12: 7855 | M12: 0.020998139 | O12: Other cardiovascular diseases 2.3% | P12: 6200 | Q12: 0.023022651 | S12: Other cardiovascular diseases 2.6% | T12: 225899 | U12: 0.02592836
A13: Q20-Q28 | B13: Congenital malformations of the circulatory system | C13: Congenital malformations of the circulatory system 0.1% | D13: 10800 | E13: 0.0014410568 | G13: Congenital malformations of the circulatory system 0.1% | H13: 589 | I13: 0.0010251527 | K13: Congenital malformations of the circulatory system 0% | L13: 115 | M13: 0.00030742024 | O13: Congenital malformations of the circulatory system 0.1% | P13: 300 | Q13: 0.0011139993 | S13: Congenital malformations of the circulatory system 0.1% | T13: 11804 | U13: 0.001354846
A14: F01 | B14: Vascular dementia | C14: Vascular dementia 0% | D14: 1700 | E14: 0.00022683301 | G14: Vascular dementia 0% | H14: 176 | I14: 0.00030632746 | K14: Vascular dementia 0.1% | L14: 272 | M14: 0.0007271157 | O14: Vascular dementia 0% | P14: 0 | Q14: 0 | S14: Vascular dementia 0% | T14: 2148 | U14: 0.00024654432
A15: E10-E14 | B15: Diabetes | C15: Diabetes 0.4% | D15: 30500 | E15: 0.0040696511 | G15: Diabetes 0.5% | H15: 3141 | I15: 0.0054669009 | K15: Diabetes 0.4% | L15: 1588 | M15: 0.0042450726 | O15: Diabetes 0.3% | P15: 800 | Q15: 0.0029706647 | S15: Diabetes 0.4% | T15: 36029 | U15: 0.0041353564
A16: E66 | B16: Obesity | C16: Obesity 0% | D16: 2900 | E16: 0.00038695043 | G16: Obesity 0% | H16: 86 | I16: 0.00014968274 | K16: Obesity 0% | L16: 42 | M16: 0.00011227522 | O16: Obesity 0% | P16: 0 | Q16: 0 | S16: Obesity 0% | T16: 3028 | U16: 0.00034754945
A17: G00-G99 | B17: All diseases of the nervous system | C17: All diseases of the nervous system 2% | D17: 170000 | E17: 0.022683301 | G17: All diseases of the nervous system 2% | H17: 14081 | I17: 0.024507937 | K17: All diseases of the nervous system 1% | L17: 4326 | M17: 0.011564348 | O17: All diseases of the nervous system 1% | P17: 3500 | Q17: 0.012996658 | S17: All diseases of the nervous system 2% | T17: 191907 | U17: 0.022026807
A18: J00-J99 | B18: All diseases of the respiratory system | C18: All diseases of the respiratory system 7% | D18: 522000 | E18: 0.069651077 | G18: All diseases of the respiratory system 9% | H18: 51292 | I18: 0.089273569 | K18: All diseases of the respiratory system 8% | L18: 30568 | M18: 0.081714974 | O18: All diseases of the respiratory system 6% | P18: 17400 | Q18: 0.064611957 | S18: All diseases of the respiratory system 7% | T18: 621260 | U18: 0.071307322
A19: C00-D48 | B19: All cancer | C19: All cancer 13% | D19: 1002000 | E19: 0.13369805 | G19: All cancer 15% | H19: 84654 | I19: 0.14734003 | K19: All cancer 4% | L19: 16254 | M19: 0.04345051 | O19: All cancer 13% | P19: 35100 | Q19: 0.13033791 | S19: All cancer 13% | T19: 1138008 | U19: 0.13061891
... A23: All Other | B23: All other causes | C23: All other causes 44% | D23: 3273500 | E23: 0.43678698 | G23: All other causes 37% | H23: 211584.56 | I23: 0.36826227 | K23: All other causes 66% | L23: 245923.77 | M23: 0.65740821 | O23: All other causes 31% | P23: 82600 | Q23: 0.30672113 | S23: All other causes 44% | T23: 3813608.3 | U23: 0.43772043
E24: 1 | I24: 1 | M24: 1 | Q24: 1 | U24: 1
C26: All cardiovascular diseases | D26: 428600 | E26: 0.057188605 | G26: All cardiovascular diseases | H26: 37885 | I26: 0.065938726 | K26: All cardiovascular diseases | L26: 17877 | M26: 0.047789145 | O26: All cardiovascular diseases | P26: 15000 | Q26: 0.055699963 | S26: All cardiovascular diseases | T26: 4004101 | U26: 0.057316046
D28: Women | H28: Women | L28: Women | P28: Women | T28: Women
D29: 4 | H29: 6 | L29: 8 | P29: 10 | T29: 12
D30: Figure 2.3d
H31: Figure 2.3f | L31: Figure 2.3h | P31: Figure 2.3j | T31: Figure 2.3b
D32: 9126700 | H32: 627236.44 | L32: 474001.87 | P32: 264400 | T32: 10492338
A33: Total | C33: All diagnoses | D33: 9126700 | G33: All diagnoses | H33: 627236.44 | K33: All diagnoses | L33: 474001.87 | O33: All diagnoses | P33: 264400 | S33: All diagnoses | T33: 10492338
A35: I20-I25 | B35: Coronary heart disease | C35: Coronary heart disease 1.0% | D35: 88200 | E35: 0.009663953 | G35: Coronary heart disease 1.3% | H35: 8461 | I35: 0.013489331 | K35: Coronary heart disease 0.8% | L35: 3568 | M35: 0.0075273965 | O35: Coronary heart disease 1.3% | P35: 3500 | Q35: 0.013237519 | S35: Coronary heart disease 1.0% | T35: 103729 | U35: 0.0098861662
A36: I60-I69 | B36: Stroke | C36: Stroke 0.6% | D36: 55100 | E36: 0.0060372314 | G36: Stroke 0.9% | H36: 5933 | I36: 0.0094589529 | K36: Stroke 0.7% | L36: 3471 | M36: 0.007322756 | O36: Stroke 0.3% | P36: 700 | Q36: 0.0026475038 | S36: Stroke 0.6% | T36: 65204 | U36: 0.0062144393
A37: I48 | B37: Atrial fibrillation | C37: Atrial fibrillation 0.5% | D37: 49800 | E37: 0.0054565177 | G37: Atrial fibrillation 0.7% | H37: 4502 | I37: 0.0071775166 | K37: Atrial fibrillation 0.4% | L37: 2077 | M37: 0.0043818393 | O37: Atrial fibrillation 0.6% | P37: 1700 | Q37: 0.006429652 | S37: Atrial fibrillation 0.6% | T37: 58079 | U37: 0.0055353724
A38: I50 | B38: Heart failure | C38: Heart failure 0.4% | D38: 39300 | E38: 0.0043060471 | G38: Heart failure 0.6% | H38: 3507 | I38: 0.005591193 | K38: Heart failure 0.4% | L38: 2012 | M38: 0.004244709 | O38: Heart failure 0.6% | P38: 1500 | Q38: 0.0056732224 | S38: Heart failure 0.4% | T38: 46319 | U38: 0.0044145546
A39: Other CVD | B39: Other cardiovascular diseases | C39: Other cardiovascular diseases 1.8% | D39: 164900 | E39: 0.018067867 | G39: Other cardiovascular diseases 2.2% | H39: 13815 | I39: 0.022025187 | K39: Other cardiovascular diseases 1.4% | L39: 6470 | M39: 0.013649735 | O39: Other cardiovascular diseases 2.3% | P39: 6000 | Q39: 0.02269289 | S39: Other cardiovascular diseases 1.8% | T39: 191185 | U39: 0.018221391
A40: Q20-Q28 | B40: Congenital malformations of the circulatory system | C40: Congenital malformations of the circulatory system 0.1% | D40: 9800 | E40: 0.0010737726 | G40: Congenital malformations of the circulatory system 0.1% | H40: 553 | I40: 0.0008816452 | K40: Congenital malformations of the circulatory system 0% | L40: 111 | M40: 0.00023417629 | O40: Congenital malformations of the circulatory system 0.1% | P40: 300 | Q40: 0.0011346445 | S40: Congenital malformations of the circulatory system 0.1% | T40: 10764 | U40: 0.0010258914
A41: F01 | B41: Vascular dementia | C41: Vascular dementia 0% | D41: 1800 | E41: 0.00019722353 | G41: Vascular dementia 0% | H41: 176 | I41: 0.00028059594 | K41: Vascular dementia 0.1% | L41: 299 | M41: 0.0006307992 | O41: Vascular dementia 0% | P41: 0 | Q41: 0 | S41: Vascular dementia 0% | T41: 2275 | U41: 0.00021682488
A42: E10-E14 | B42: Diabetes | C42: Diabetes 0.3% | D42: 23800 | E42: 0.0026077334 | G42: Diabetes 0.4% | H42: 2636 | I42: 0.0042025619 | K42: Diabetes 0.3% | L42: 1360 | M42: 0.002869187 | O42: Diabetes 0.3% | P42: 800 | Q42: 0.0030257186 | S42: Diabetes 0.3% | T42: 28596 | U42: 0.0027254173
A43: E66 | B43: Obesity | C43: Obesity 0.1% | D43: 7900 | E43: 0.00086559216 | G43: Obesity 0% | H43: 170 | I43: 0.00027103017 | K43: Obesity 0% | L43: 76 | M43: 0.00016033692 | O43: Obesity 0% | P43: 0 | Q43: 0 | S43: Obesity 0.1% | T43: 8146 | U43: 0.00077637603
A44: G00-G99 | B44: All diseases of the nervous system | C44: All diseases of the nervous system 2% | D44: 203200 | E44: 0.022264345 | G44: All diseases of the nervous system 3% | H44: 17329 | I44: 0.02762754 | K44: All diseases of the nervous system 1% | L44: 5005 | M44: 0.01055903 | O44: All diseases of the nervous system 2% | P44: 4700 | Q44: 0.017776097 | S44: All diseases of the nervous system 2% | T44: 230234 | U44: 0.021943059
A45: J00-J99 | B45: All diseases of the respiratory system | C45: All diseases of the respiratory system 6% | D45: 539300 | E45: 0.059090361 | G45: All diseases of the respiratory system 9% | H45: 56469 | I45: 0.090028251 | K45: All diseases of the respiratory system 7% | L45: 30839 | M45: 0.065060925 | O45: All diseases of the respiratory system 7% | P45: 19200 | Q45: 0.072617247 | S45: All diseases of the respiratory system 6% | T45: 645808 | U45: 0.061550436
A46: C00-D48 | B46: All cancer | C46: All cancer 11% | D46: 1023800 | E46: 0.11217636 | G46: All cancer 16% | H46: 99248 | I46: 0.1582306 | K46: All cancer 4% | L46: 16617 | M46: 0.035056824 | O46: All cancer 14% | P46: 37700 | Q46: 0.14258699 | S46: All cancer 11% | T46: 1177365 | U46: 0.11221188
... A50: All Other | B50: All other causes | C50: All other causes 53% | D50: 4797800 | E50: 0.52568836 | G50: All other causes 38% | H50: 241147.44 | I50: 0.38446019 | K50: All other causes 72% | L50: 341763.87 | M50: 0.72101798 | O50: All other causes 33% | P50: 87500 | Q50: 0.33093797 | S50: All other causes 52% | T50: 5468211.3 | U50: 0.52116231
E51: 1 | I51: 1 | M51: 1 | Q51: 1 | U51: 1
C53: All cardiovascular diseases | D53: 308200 | E53: 0.033769051 | G53: All cardiovascular diseases | H53: 28209 | I53: 0.044973471 | K53: All cardiovascular diseases | L53: 13509 | M53: 0.028499888 | O53: All cardiovascular diseases | P53: 10200 | Q53: 0.038577912 | S53: All cardiovascular diseases | T53: 6072265 | U53: 0.57873325

Sheet 2.4a
A1: Table 2.4a All inpatient admissions by main diagnosis in NHS hospitals, England, Scotland, Wales, Northern Ireland and United Kingdom, 2005/06 - 2017/18
A2: Back to Table of Contents
A3: ALL | D3: 2005/06 | E3: 2006/07 | F3: 2007/08 | G3: 2008/09 | H3: 2009/10 | I3: 2010/11 | J3: 2011/12 | K3: 2012/13 | L3: 2013/14 | M3: 2014/15 | N3: 2015/16 | O3: 2016/17 | P3: 2017/18
A5: England | B5: Heart and circulatory diseases (CVD) (I00-I99) | I5: 944100 | J5: 949600 | K5: 938000 | L5: 952300 | M5: 969800 | N5: 1001800 | O5: 925500 | P5: 932100
B6: Coronary heart disease (I20-I25) | I6: 281800 | J6: 282600 | K6: 278300 | L6: 275500 | M6: 270700 | N6: 268500 | O6: 268200 | P6: 265100
C7: Myocardial infarction (I21-I22) | K7: 77000 | L7: 79100 | M7: 78900 | N7: 80500 | O7: 81500 | P7: 82200
B8: Stroke (I60-I69) | C8: Stroke (I60-I69) | I8: 106800 | J8: 108900 | K8: 109900 | L8: 109200 | M8: 109700 | N8: 111200 | O8: 110200 | P8: 111300
B9: Other cardiovascular disease | C9: Other cardiovascular disease | I9: 555500 | J9: 558100 | K9: 549800 | L9: 567600 | M9: 589400 | N9: 622100 | O9: 547100 | P9: 555700
A11: Scotland | B11: Heart and circulatory diseases (CVD) (I00-I99) | N11: 90763 | O11: 84136 | P11: 83312
B12: Coronary heart disease (I20-I25) | N12: 24110 | O12: 24414 | P12: 24133
C13: Myocardial infarction (I21-I22) | N13: 10489 | O13: 10648 | P13: 10512
B14: Stroke (I60-I69) | N14: 11779 | O14: 11884 | P14: 11802
B15: Other cardiovascular disease | N15: 54874 | O15: 47838 | P15: 47377
A17: Wales | B17: Heart and circulatory diseases (CVD) (I00-I99) | D17: 50076 | E17: 48971 | F17: 47853 | G17: 48251 | H17: 46217 | I17: 45846 | J17: 44759 | K17: 43739 | L17: 44360 | M17: 41758 | N17: 41573 | O17: 41478 | P17: 39693
B18: Coronary heart disease (I20-I25) | D18: 14363 | E18: 14021 | F18: 13614 | G18: 13559 | H18: 12777 | I18: 12403 | J18: 12054 | K18: 11399 | L18: 10954 | M18: 10138 | N18: 10366 | O18: 10299 | P18: 10052
C19: Myocardial infarction (I21-I22) | K19: 4408 | L19: 4586 | M19: 4426 | N19: 5111 | O19: 5062 | P19: 5089
B20: Stroke (I60-I69) | C20: Stroke (I60-I69) | D20: 7091 | E20: 6750 | F20: 6745 | G20: 7312 | H20: 6892 | I20: 7111 | J20: 7066 | K20: 7031 | L20: 7351 | M20: 7303 | N20: 7342 | O20: 7294 | P20: 7009
B21: Other cardiovascular disease | C21: Other cardiovascular disease | D21: 28622 | E21: 28200 | F21: 27494 | G21: 27380 | H21: 26548 | I21: 26332 | J21: 25639 | K21: 25309 | L21: 26055 | M21: 24317 | N21: 23865 | O21: 23885 | P21: 22632
A23: Northern Ireland | B23: Heart and circulatory diseases (CVD) (I00-I99) | J23: 39000 | K23: 35700 | L23: 36800 | M23: 35800 | N23: 34700 | O23: 32800 | P23: 32100
B24: Coronary heart disease (I20-I25) | J24: 12300 | K24: 12700 | L24: 13700 | M24: 13000 | N24: 12700 | O24: 12100 | P24: 11600
C25: Myocardial infarction (I21-I22) | K25: 3600 | L25: 4100 | M25: 4100 | N25: 4300 | O25: 4500 | P25: 4400
B26: Stroke (I60-I69) | J26: 2200 | K26: 2000 | L26: 2200 | M26: 1600 | N26: 1400 | O26: 1400 | P26: 1400
B27: Other cardiovascular disease | J27: 24500 | K27: 21000 | L27: 20900 | M27: 21200 | N27: 20600 | O27: 19300 | P27: 19100
A29: United Kingdom | B29: Heart and circulatory diseases (CVD) (I00-I99) | N29: 1168836 | O29: 1083914 | P29: 1087205
B30: Coronary heart disease (I20-I25) | N30: 315676 | O30: 315013 | P30: 310885
C31: Myocardial infarction (I21-I22) | N31: 100400 | O31: 101710 | P31: 102201
B32: Stroke (I60-I69) | N32: 131721 | O32: 130778 | P32: 131511
B33: Other cardiovascular disease | N33: 721439 | O33: 638123 | P33: 644909
A35: Notes: | B35: Finished consultant episodes; ordinary admissions and day cases combined. Pregnancy cases not included. ICD-10 codes in parentheses.
B36: For England and Northern Ireland, male/female estimates are pro rata based on finished consultant episodes splits, rounded to nearest hundred.
A38: Source: | B38: NHS Digital (2018). Hospital Episode Statistics. | D38: https://digital.nhs.uk/data-and-information/publications/statistical/hospital-admitted-patient-care-activity/
B39: Information Services Division Scotland (2019) Main diagnosis discharges from hospital. Personal correspondence.
B40: NHS Wales Informatics Service (2018). The Patient Episode Database for Wales. | I40: www.infoandstats.wales.nhs.uk
B41: Hospital Information Branch (2018). Northern Ireland Episode Based Inpatient and Day Case Activity Data | I41: www.health-ni.gov.uk/articles/episode-based-activity

Sheet 2.4b
A1: Table 2.4b All inpatient admissions by main diagnosis in NHS hospitals in men, England, Scotland, Wales, Northern Ireland and United Kingdom, 2005/06 - 2017/18
A2: Back to Table of Contents
A3: MEN | D3: 2005/06 | E3: 2006/07 | F3: 2007/08 | G3: 2008/09 | H3: 2009/10 | I3: 2010/11 | J3: 2011/12 | K3: 2012/13 | L3: 2013/14 | M3: 2014/15 | N3: 2015/16 | O3: 2016/17 | P3: 2017/18
A5: England | B5: Heart and circulatory diseases (CVD) (I00-I99) | I5: 528500 | J5: 536000 | K5: 531000 | L5: 539600 | M5: 548100 | N5: 567500 | O5: 529100 | P5: 534800
B6: Coronary heart disease (I20-I25) | I6: 183300 | J6: 184200 | K6: 182600 | L6: 182000 | M6: 178900 | N6: 177900 | O6: 178300 | P6: 176900
C7: Myocardial infarction (I21-I22) | K7: 48200 | L7: 50300 | M7: 50300 | N7: 51400 | O7: 52600 | P7: 53300
B8: Stroke (I60-I69) | I8: 51900 | J8: 53400 | K8: 54100 | L8: 54000 | M8: 54700 | N8: 55800 | O8: 55600 | P8: 56200
B9: Other cardiovascular disease | I9: 293300 | J9: 298400 | K9: 294300 | L9: 303600 | M9: 314500 | N9: 333800 | O9: 295200 | P9: 301700
A11: Scotland | B11: Heart and circulatory diseases (CVD) (I00-I99) | N11: 50474 | O11: 47729 | P11: 47094
B12: Coronary heart disease (I20-I25) | N12: 15589 | O12: 15985 | P12: 15672
C13: Myocardial infarction (I21-I22) | N13: 6622 | O13: 6777 | P13: 6640
B14: Stroke (I60-I69) | N14: 5900 | O14: 6017 | P14: 5869
B15: Other cardiovascular disease | N15: 28985 | O15: 25727 | P15: 25553
A17: Wales | B17: Heart and circulatory diseases (CVD) (I00-I99) | D17: 27053 | E17: 26680 | F17: 26154 | G17: 26444 | H17: 25634 | I17: 25513 | J17: 24832 | K17: 24584 | L17: 24790 | M17: 23220 | N17: 22810 | O17: 23368 | P17: 22095
B18: Coronary heart disease (I20-I25) | D18: 8786 | E18: 8609 | F18: 8447 | G18: 8503 | H18: 8142 | I18: 7965 | J18: 7646 | K18: 7260 | L18: 7036 | M18: 6542 | N18: 6578 | O18: 6653 | P18: 6484
C19: Myocardial infarction (I21-I22) | K19: 2751 | L19: 2926 | M19: 2860 | N19: 3274 | O19: 3241 | P19: 3297
B20: Stroke (I60-I69) | D20: 3276 | E20: 3295 | F20: 3153 | G20: 3382 | H20: 3318 | I20: 3467 | J20: 3341 | K20: 3355 | L20: 3645 | M20: 3540 | N20: 3559 | O20: 3709 | P20: 3538
B21: Other cardiovascular disease | D21: 14991 | E21: 14776 | F21: 14554 | G21: 14559 | H21: 14174 | I21: 14081 | J21: 13845 | K21: 13969 | L21: 14109 | M21: 13138 | N21: 12673 | O21: 13006 | P21: 12073
A23: Northern Ireland | B23: Heart and circulatory diseases (CVD) (I00-I99) | J23: 22200 | K23: 20100 | L23: 21300 | M23: 20700 | N23: 20200 | O23: 19100 | P23: 18700
B24: Coronary heart disease (I20-I25) | J24: 8300 | K24: 8600 | L24: 9500 | M24: 9000 | N24: 8800 | O24: 8300 | P24: 8100
C25: Myocardial infarction (I21-I22) | K25: 2300 | L25: 2700 | M25: 2700 | N25: 2800 | O25: 3000 | P25: 3000
B26: Stroke (I60-I69) | J26: 1100 | K26: 1000 | L26: 1100 | M26: 800 | N26: 700 | O26: 700 | P26: 700
B27: Other cardiovascular disease | J27: 12800 | K27: 10500 | L27: 10700 | M27: 10900 | N27: 10700 | O27: 10100 | P27: 9900
A29: United Kingdom | B29: Heart and circulatory diseases (CVD) (I00-I99) | N29: 660984 | O29: 619297 | P29: 622689
B30: Coronary heart disease (I20-I25) | N30: 208867 | O30: 209238 | P30: 207156
C31: Myocardial infarction (I21-I22) | N31: 64096 | O31: 65618 | P31: 66237
B32: Stroke (I60-I69) | N32: 65959 | O32: 66026 | P32: 66307
B33: Other cardiovascular disease | N33: 386158 | O33: 344033 | P33: 349326
A35: Notes: | B35: Finished consultant episodes; ordinary admissions and day cases combined. Pregnancy cases not included. ICD-10 codes in parentheses.
B36: For England and Northern Ireland, male/female estimates are pro rata based on finished consultant episodes splits, rounded to nearest hundred.
A38: Source: | B38: NHS Digital (2018). Hospital Episode Statistics. | D38: https://digital.nhs.uk/data-and-information/publications/statistical/hospital-admitted-patient-care-activity/
B39: Information Services Division Scotland (2019) Main diagnosis discharges from hospital. Personal correspondence.
B40: NHS Wales Informatics Service (2018). The Patient Episode Database for Wales. | I40: www.infoandstats.wales.nhs.uk
B41: Hospital Information Branch (2018). Northern Ireland Episode Based Inpatient and Day Case Activity Data | I41: www.health-ni.gov.uk/articles/episode-based-activity

Sheet 2.4c
A1: Table 2.4c Inpatient admissions by main diagnosis in NHS hospitals in women, England, Scotland, Wales, Northern Ireland and United Kingdom, 2005/06 - 2017/18
A2: Back to Table of Contents
A3: WOMEN | D3: 2005/06 | E3: 2006/07 | F3: 2007/08 | G3: 2008/09 | H3: 2009/10 | I3: 2010/11 | J3: 2011/12 | K3: 2012/13 | L3: 2013/14 | M3: 2014/15 | N3: 2015/16 | O3: 2016/17 | P3: 2017/18
A5: England | B5: Heart and circulatory diseases (CVD) (I00-I99) | I5: 415600 | J5: 413600 | K5: 407000 | L5: 412700 | M5: 421700 | N5: 434300 | O5: 396400 | P5: 397300
B6: Coronary heart disease (I20-I25) | I6: 98500 | J6: 98400 | K6: 95700 | L6: 93500 | M6: 91800 | N6: 90600 | O6: 89900 | P6: 88200
C7: Myocardial infarction (I21-I22) | K7: 28800 | L7: 28800 | M7: 28600 | N7: 29100 | O7: 28900 | P7: 28900
B8: Stroke (I60-I69) | I8: 54900 | J8: 55500 | K8: 55800 | L8: 55200 | M8: 55000 | N8: 55400 | O8: 54600 | P8: 55100
B9: Other cardiovascular disease | I9: 262200 | J9: 259700 | K9: 255500 | L9: 264000 | M9: 274900 | N9: 288300 | O9: 251900 | P9: 254000
A11: Scotland | B11: Heart and circulatory diseases (CVD) (I00-I99) | N11: 40289 | O11: 36407 | P11: 36218
B12: Coronary heart disease (I20-I25) | N12: 8521 | O12: 8429 | P12: 8461
C13: Myocardial infarction (I21-I22) | N13: 3867 | O13: 3871 | P13: 3872
B14: Stroke (I60-I69) | N14: 5879 | O14: 5867 | P14: 5933
B15: Other cardiovascular disease | N15: 25889 | O15: 22111 | P15: 21824
A17: Wales | B17: Heart and circulatory diseases (CVD) (I00-I99) | D17: 23023 | E17: 22291 | F17: 21699 | G17: 21807 | H17: 20583 | I17: 20333 | J17: 19927 | K17: 19155 | L17: 19570 | M17: 18538 | N17: 18763 | O17: 18110 | P17: 17598
B18: Coronary heart disease (I20-I25) | D18: 5577 | E18: 5412 | F18: 5167 | G18: 5056 | H18: 4635 | I18: 4438 | J18: 4408 | K18: 4139 | L18: 3918 | M18: 3596 | N18: 3788 | O18: 3646 | P18: 3568
C19: Myocardial infarction (I21-I22) | K19: 1657 | L19: 1660 | M19: 1566 | N19: 1837 | O19: 1821 | P19: 1792
B20: Stroke (I60-I69) | D20: 3815 | E20: 3455 | F20: 3592 | G20: 3930 | H20: 3574 | I20: 3644 | J20: 3725 | K20: 3676 | L20: 3706 | M20: 3763 | N20: 3783 | O20: 3585 | P20: 3471
B21: Other cardiovascular disease | D21: 13631 | E21: 13424 | F21: 12940 | G21: 12821 | H21: 12374 | I21: 12251 | J21: 11794 | K21: 11340 | L21: 11946 | M21: 11179 | N21: 11192 | O21: 10879 | P21: 10559
A23: Northern Ireland | B23: Heart and circulatory diseases (CVD) (I00-I99) | J23: 16800 | K23: 15600 | L23: 15500 | M23: 15100 | N23: 14500 | O23: 13700 | P23: 13400
B24: Coronary heart disease (I20-I25) | J24: 4000 | K24: 4100 | L24: 4200 | M24: 4000 | N24: 3900 | O24: 3800 | P24: 3500
C25: Myocardial infarction (I21-I22) | K25: 1300 | L25: 1400 | M25: 1400 | N25: 1500 | O25: 1500 | P25: 1400
B26: Stroke (I60-I69) | J26: 1100 | K26: 1000 | L26: 1100 | M26: 800 | N26: 700 | O26: 700 | P26: 700
B27: Other cardiovascular disease | J27: 11700 | K27: 10500 | L27: 10200 | M27: 10300 | N27: 9900 | O27: 9200 | P27: 9200
A29: United Kingdom | B29: Heart and circulatory diseases (CVD) (I00-I99) | N29: 507852 | O29: 464617 | P29: 464516
B30: Coronary heart disease (I20-I25) | N30: 106809 | O30: 105775 | P30: 103729
C31: Myocardial infarction (I21-I22) | N31: 36304 | O31: 36092 | P31: 35964
B32: Stroke (I60-I69) | N32: 65762 | O32: 64752 | P32: 65204
B33: Other cardiovascular disease | N33: 335281 | O33: 294090 | P33: 295583
A35: Notes: | B35: Finished consultant episodes; ordinary admissions and day cases combined. Pregnancy cases not included. ICD-10 codes in parentheses.
B36: For England and Northern Ireland, male/female estimates are pro rata based on finished consultant episodes splits, rounded to nearest hundred.
A38: Source: | B38: NHS Digital (2018). Hospital Episode Statistics. | D38: https://digital.nhs.uk/data-and-information/publications/statistical/hospital-admitted-patient-care-activity/
B39: Information Services Division Scotland (2019) Main diagnosis discharges from hospital. Personal correspondence.
B40: NHS Wales Informatics Service (2018). The Patient Episode Database for Wales. | I40: www.infoandstats.wales.nhs.uk
B41: Hospital Information Branch (2018). Northern Ireland Episode Based Inpatient and Day Case Activity Data | I41: www.health-ni.gov.uk/articles/episode-based-activity

Sheet 2.4d
A1: Back to Table of Contents

Sheet 2.4e
A1: Back to Table of Contents

Sheet 2.4f
A1: Back to Table of Contents

Sheet 2.4g
A1: Back to Table of Contents

Sheet Data for figs 2.4
A1: Data for figures 2.4d to 2.4g
A3: Figure 2.4d | B3: England | C3: 2005/06 | D3: 2006/07 | E3: 2007/08 | F3: 2008/09 | G3: 2009/10 | H3: 2010/11 | I3: 2011/12 | J3: 2012/13 | K3: 2013/14 | L3: 2014/15 | M3: 2015/16 | N3: 2016/17 | O3: 2017/18
B5: Cardiovascular disease (men) | H5: 528500 | I5: 536000 | J5: 531000 | K5: 539600 | L5: 548100 | M5: 567500 | N5: 529100 | O5: 534800
B6: Cardiovascular disease (women) | H6: 415600 | I6: 413600 | J6: 407000 | K6: 412700 | L6: 421700 | M6: 434300 | N6: 396400 | O6: 397300
B7: Coronary heart disease (men) | H7: 183300 | I7: 184200 | J7: 182600 | K7: 182000 | L7: 178900 | M7: 177900 | N7: 178300 | O7: 176900
B8: Coronary heart disease (women) | H8: 98500 | I8: 98400 | J8: 95700 | K8: 93500 | L8: 91800 | M8: 90600 | N8: 89900 | O8: 88200
B9: Acute myocardial infarction (men)
B10: Acute myocardial infarction (women)
B11: Stroke (men) | H11: 51900 | I11: 53400 | J11: 54100 | K11: 54000 | L11: 54700 | M11: 55800 | N11: 55600 | O11: 56200
B12: Stroke (women) | H12: 54900 | I12: 55500 | J12: 55800 | K12: 55200 | L12: 55000 | M12: 55400 | N12: 54600 | O12: 55100
B13: Other cardiovascular disease (men) | H13: 293300 | I13: 298400 | J13: 294300 | K13: 303600 | L13: 314500 | M13: 333800 | N13: 295200 | O13: 301700
B14: Other cardiovascular disease (women) | H14: 262200 | I14: 259700 | J14: 255500 | K14: 264000 | L14: 274900 | M14: 288300 | N14: 251900 | O14: 254000
A18: Figure 2.4e | B18: Scotland | C18: 2005/06 | D18: 2006/07 | E18: 2007/08 | F18: 2008/09 | G18: 2009/10 | H18: 2010/11 | I18: 2011/12 | J18: 2012/13 | K18: 2013/14 | L18: 2014/15 | M18: 2015/16 | N18: 2016/17 | O18: 2017/18
B20: Cardiovascular disease (men) | H20: ='2.4b'!I11 -> 0 | I20: ='2.4b'!J11 -> 0 | J20: ='2.4b'!K11 -> 0 | K20: ='2.4b'!L11 -> 0 | L20: ='2.4b'!M11 -> 0 | M20: ='2.4b'!N11 -> 50474 | N20: ='2.4b'!O11 -> 47729 | O20: ='2.4b'!P11 -> 47094
B21: Cardiovascular disease (women) | H21: ='2.4c'!I11 -> 0 | I21: ='2.4c'!J11 -> 0 | J21: ='2.4c'!K11 -> 0 | K21: ='2.4c'!L11 -> 0 | L21: ='2.4c'!M11 -> 0 | M21: ='2.4c'!N11 -> 40289 | N21: ='2.4c'!O11 -> 36407 | O21: ='2.4c'!P11 -> 36218
B22: Coronary heart disease (men) | H22: ='2.4b'!I12 -> 0 | I22: ='2.4b'!J12 -> 0 | J22: ='2.4b'!K12 -> 0 | K22: ='2.4b'!L12 -> 0 | L22: ='2.4b'!M12 -> 0 | M22: ='2.4b'!N12 -> 15589 | N22: ='2.4b'!O12 -> 15985 | O22: ='2.4b'!P12 -> 15672
B23: Coronary heart disease (women) | H23: ='2.4c'!I12 -> 0 | I23: ='2.4c'!J12 -> 0 | J23: ='2.4c'!K12 -> 0 | K23: ='2.4c'!L12 -> 0 | L23: ='2.4c'!M12 -> 0 | M23: ='2.4c'!N12 -> 8521 | N23: ='2.4c'!O12 -> 8429 | O23: ='2.4c'!P12 -> 8461
B24: Acute myocardial infarction (men)
B25: Acute myocardial infarction (women)
B26: Stroke (men) | H26: ='2.4b'!I14 -> 0 | I26: ='2.4b'!J14 -> 0 | J26: ='2.4b'!K14 -> 0 | K26: ='2.4b'!L14 -> 0 | L26: ='2.4b'!M14 -> 0 | M26: ='2.4b'!N14 -> 5900 | N26: ='2.4b'!O14 -> 6017 | O26: ='2.4b'!P14 -> 5869
B27: Stroke (women) | H27: ='2.4c'!I14 -> 0 | I27: ='2.4c'!J14 -> 0 | J27: ='2.4c'!K14 -> 0 | K27: ='2.4c'!L14 -> 0 | L27: ='2.4c'!M14 -> 0 | M27: ='2.4c'!N14 -> 5879 | N27: ='2.4c'!O14 -> 5867 | O27: ='2.4c'!P14 -> 5933
B28: Other cardiovascular disease (men) | H28: ='2.4b'!I15 -> 0 | I28: ='2.4b'!J15 -> 0 | J28: ='2.4b'!K15 -> 0 | K28: ='2.4b'!L15 -> 0 | L28: ='2.4b'!M15 -> 0 | M28: ='2.4b'!N15 -> 28985 | N28: ='2.4b'!O15 -> 25727 | O28: ='2.4b'!P15 -> 25553
B29: Other cardiovascular disease (women) | H29: ='2.4c'!I15 -> 0 | I29: ='2.4c'!J15 -> 0 | J29: ='2.4c'!K15 -> 0 | K29: ='2.4c'!L15 -> 0 | L29: ='2.4c'!M15 -> 0 | M29: ='2.4c'!N15 -> 25889 | N29: ='2.4c'!O15 -> 22111 | O29: ='2.4c'!P15 -> 21824
A32: Figure 2.4f | B32: Wales | C32: 2005/06 | D32: 2006/07 | E32: 2007/08 | F32: 2008/09 | G32: 2009/10 | H32: 2010/11 | I32: 2011/12 | J32: 2012/13 | K32: 2013/14 | L32: 2014/15 | M32: 2015/16 | N32: 2016/17 | O32: 2017/18
B34: Cardiovascular disease (men) | C34: ='2.4b'!D17 -> 27053 | D34: ='2.4b'!E17 -> 26680 | E34: ='2.4b'!F17 -> 26154 | F34: ='2.4b'!G17 -> 26444 | G34: ='2.4b'!H17 -> 25634 | H34: ='2.4b'!I17 -> 25513 | I34: ='2.4b'!J17 -> 24832 | J34: ='2.4b'!K17 -> 24584 | ... O34: ='2.4b'!P17 -> 22095
B35: Cardiovascular disease (women) | C35: ='2.4c'!D17 -> 23023 | D35: ='2.4c'!E17 -> 22291 | E35: ='2.4c'!F17 -> 21699 | F35: ='2.4c'!G17 -> 21807 | G35: ='2.4c'!H17 -> 20583 | H35: ='2.4c'!I17 -> 20333 | I35: ='2.4c'!J17 -> 19927 | J35: ='2.4c'!K17 -> 19155 | ... O35: ='2.4c'!P17 -> 17598
B36: Coronary heart disease (men) | C36: ='2.4b'!D18 -> 8786 | D36: ='2.4b'!E18 -> 8609 | E36: ='2.4b'!F18 -> 8447 | F36: ='2.4b'!G18 -> 8503 | G36: ='2.4b'!H18 -> 8142 | H36: ='2.4b'!I18 -> 7965 | I36: ='2.4b'!J18 -> 7646 | J36: ='2.4b'!K18 -> 7260 | ... O36: ='2.4b'!P18 -> 6484
B37: Coronary heart disease (women) | C37: ='2.4c'!D18 -> 5577 | D37: ='2.4c'!E18 -> 5412 | E37: ='2.4c'!F18 -> 5167 | F37: ='2.4c'!G18 -> 5056 | G37: ='2.4c'!H18 -> 4635 | H37: ='2.4c'!I18 -> 4438 | I37: ='2.4c'!J18 -> 4408 | J37: ='2.4c'!K18 -> 4139 | ... O37: ='2.4c'!P18 -> 3568
B38: Acute myocardial infarction (men)
B39: Acute myocardial infarction (women)
B40: Stroke (men) | C40: ='2.4b'!D20 -> 3276 | D40: ='2.4b'!E20 -> 3295 | E40: ='2.4b'!F20 -> 3153 | F40: ='2.4b'!G20 -> 3382 | G40: ='2.4b'!H20 -> 3318 | H40: ='2.4b'!I20 -> 3467 | I40: ='2.4b'!J20 -> 3341 | J40: ='2.4b'!K20 -> 3355 | ... O40: ='2.4b'!P20 -> 3538
B41: Stroke (women) | C41: ='2.4c'!D20 -> 3815 | D41: ='2.4c'!E20 -> 3455 | E41: ='2.4c'!F20 -> 3592 | F41: ='2.4c'!G20 -> 3930 | G41: ='2.4c'!H20 -> 3574 | H41: ='2.4c'!I20 -> 3644 | I41: ='2.4c'!J20 -> 3725 | J41: ='2.4c'!K20 -> 3676 | ... O41: ='2.4c'!P20 -> 3471
B42: Other cardiovascular disease (men) | C42: ='2.4b'!D21 -> 14991 | D42: ='2.4b'!E21 -> 14776 | E42: ='2.4b'!F21 -> 14554 | F42: ='2.4b'!G21 -> 14559 | G42: ='2.4b'!H21 -> 14174 | H42: ='2.4b'!I21 -> 14081 | I42: ='2.4b'!J21 -> 13845 | J42: ='2.4b'!K21 -> 13969 | ... O42: ='2.4b'!P21 -> 12073
B43: Other cardiovascular disease (women) | C43: ='2.4c'!D21 -> 13631 | D43: ='2.4c'!E21 -> 13424 | E43: ='2.4c'!F21 -> 12940 | F43: ='2.4c'!G21 -> 12821 | G43: ='2.4c'!H21 -> 12374 | H43: ='2.4c'!I21 -> 12251 | I43: ='2.4c'!J21 -> 11794 | J43: ='2.4c'!K21 -> 11340 | ... O43: ='2.4c'!P21 -> 10559
A47: Figure 2.4g | B47: Northern Ireland | C47: 2005/06 | D47: 2006/07 | E47: 2007/08 | F47: 2008/09 | G47: 2009/10 | H47: 2011/12 | I47: 2012/13 | J47: 2013/14 | K47: 2014/15 | L47: 2015/16 | M47: 2016/17 | N47: 2017/18
B49: Cardiovascular disease (men) | H49: 22200 | I49: 20100 | J49: 21300 | K49: 20700 | L49: 20200 | M49: 19100 | N49: 18700
B50: Cardiovascular disease (women) | H50: 16800 | I50: 15600 | J50: 15500 | K50: 15100 | L50: 14500 | M50: 13700 | N50: 13400
B51: Coronary heart disease (men) | H51: 8300 | I51: 8600 | J51: 9500 | K51: 9000 | L51: 8800 | M51: 8300 | N51: 8100
B52: Coronary heart disease (women) | H52: 4000 | I52: 4100 | J52: 4200 | K52: 4000 | L52: 3900 | M52: 3800 | N52: 3500
B53: Acute myocardial infarction (men)
B54: Acute myocardial infarction (women)
B55: Stroke (men) | H55: 1100 | I55: 1000 | J55: 1100 | K55: 800 | L55: 700 | M55: 700 | N55: 700
B56: Stroke (women) | H56: 1100 | I56: 1000 | J56: 1100 | K56: 800 | L56: 700 | M56: 700 | N56: 700
B57: Other cardiovascular disease (men) | H57: 11700 | I57: 10500 | J57: 10200 | K57: 10300 | L57: 9900 | M57: 9200 | N57: 9200
B58: Other cardiovascular disease (women) | H58: 12800 | I58: 10500 | J58: 10700 | K58: 10900 | L58: 10700 | M58: 10100 | N58: 9900

Sheet 2.5
A1: Table 2.5 Prevalence of selected cardiovascular conditions by nation and region, United Kingdom 2017/18
A2: Back to Table of Contents | D2: Chronic Heart Disease | E2: Chronic Heart Disease | F2: Stroke & Transient Ischaemic Attack | G2: Stroke & Transient Ischaemic Attack | H2: Hypertension | I2: Hypertension | J2: Heart Failure | K2: Heart Failure | L2: Atrial Fibrillation | M2: Atrial Fibrillation | N2: Peripheral Arterial Disease | O2: Peripheral Arterial Disease | P2: Diabetes | Q2: Diabetes
A3: Nation/Region | B3: List size | D3: Coronary Heart Disease Register | F3: Stroke or Transient Ischaemic Attacks (TIA) Register | H3: Hypertension Register | J3: Heart Failure Register | L3: Atrial Fibrillation Register | N3: Peripheral Arterial Disease (PAD) Register | P3: BHF CVD estimate
D4: N | E4: % | F4: N | G4: % | H4: N | I4: % | J4: N | K4: % | L4: N | M4: % | N4: N | O4: % | P4: N | Q4: %
A5: East Midlands | B5: 4996060 | D5: 169132 | E5: 3.3853076 | F5: 94135 | G5: 1.8841847 | H5: 731968 | I5: 14.650905 | J5: 49275 | K5: 0.98627719 | L5: 101359 | M5: 2.0287787 | N5: 29672 | O5: 0.593908 | P5: 560000 | Q5: 11.208833
A6: East of England | B6: 6458693 | D6: 198857 | E6: 3.0789047 | F6: 112049 | G6: 1.7348556 | H6: 921341 | I6: 14.265131 | J6: 50468 | K6: 0.78139648 | L6: 128126 | M6: 1.983776 | N6: 31881 | O6: 0.4936138 | P6: 660000 | Q6: 10.218786
A7: London | B7: 9792591 | D7: 192858 | E7: 1.9694277 | F7: 103493 | G7: 1.05685 | H7: 1080733 | I7: 11.036231 | J7: 51680 | K7: 0.52774593 | L7: 105721 | M7: 1.0796019 | N7: 32617 | O7: 0.33307834 | P7: 620000 | Q7: 6.3313172
A8: North East England | B8: 2764436 | D8: 115053 | E8: 4.1618978 | F8: 61813 | G8: 2.2360076 | H8: 433854 | I8: 15.694124 | J8: 31645 | K8: 1.1447181 | L8: 58410 | M8: 2.1129084 | N8: 24601 | O8: 0.88991027 | P8: 370000 | Q8: 13.384285
A9: North West England | B9: 7724133 | D9: 281605 | E9: 3.6457813 | F9: 151345 | G9: 1.9593785 | H9: 1129919 | I9: 14.628425 | J9: 77173 | K9: 0.99911537 | L9: 157501 | M9: 2.0390767 | N9: 63429 | O9: 0.82117954 | P9: 930000 | Q9: 12.040186
A10: South East England | B10: 9524806 | D10: 272807 | E10: 2.8641738 | F10: 165275 | G10: 1.7352059 | H10: 1319745 | I10: 13.855873 | J10: 70664 | K10: 0.74189438 | L10: 198424 | M10: 2.083234 | N10: 49405 | O10: 0.51869823 | P10: 960000 | Q10: 10.078945
A11: South West England | B11: 5746112 | D11: 202891 | E11: 3.5309267 | F11: 124775 | G11: 2.1714683 | H11: 854185 | I11: 14.865443 | J11: 55303 | K11: 0.96244208 | L11: 141428 | M11: 2.4612816 | N11: 37879 | O11: 0.65921096 | P11: 710000 | Q11: 12.356181
A12: West Midlands | B12: 6181839 | D12: 200885 | E12: 3.2495994 | F12: 114580 | G12: 1.8534938 | H12: 918346 | I12: 14.855547 | J12: 52507 | K12: 0.84937508 | L12: 119666 | M12: 1.935767 | N12: 36996 | O12: 0.59846269 | P12: 670000 | Q12: 10.838199
A13: Yorkshire and The Humber | B13: 5748396 | D13: 209340 | E13: 3.6417115 | F13: 112447 | G13: 1.9561457 | H13: 825905 | I13: 14.367573 | J13: 50326 | K13: 0.875479 | L13: 114139 | M13: 1.98558 | N13: 40588 | O13: 0.70607523 | P13: 670000 | Q13: 11.655425
A14: England | B14: 58937066 | D14: 1843428 | E14: 3.1277906 | F14: 1039912 | G14: 1.7644448 | H14: 8215996 | I14: 13.940287 | J14: 489041 | K14: 0.82976815 | L14: 1124774 | M14: 1.9084323 | N14: 347068 | O14: 0.58887899 | P14: 6150000 | Q14: 10.434859
A15: Scotland | B15: 5698741 | D15: 218585 | E15: 3.96 | F15: 123730 | G15: 2.24 | H15: 760580 | I15: 13.77 | J15: 45979 | K15: 0.83 | L15: 100896 | M15: 1.83 | N15: 46493 | O15: 0.84 | P15: 700000 | Q15: 12.283415
A16: Wales | B16: 3231317 | D16: 118148 | E16: 3.656342 | F16: 67615 | G16: 2.0924905 | H16: 506031 | I16: 15.660209 | J16: 33192 | K16: 1.0271973 | L16: 72293 | M16: 2.2372612 | N16: - | O16: - | P16: 375000 | Q16: 11.605175
A17: Northern Ireland | B17: 1970735 | D17: 73835 | E17: 3.7465717 | F17: 37199 | G17: 1.8875699 | H17: 268400 | I17: 13.619284 | J17: 17402 | K17: 0.8830208 | L17: 37325 | M17: 1.8939634 | N17: - | O17: - | P17: 225000 | Q17: 11.41706
A18: UK | B18: 69837859 | D18: 2253996 | E18: 3.2 | F18: 1268456 | G18: 1.82 | H18: 9751007 | I18: 13.96 | J18: 585614 | K18: 0.84 | L18: 1335288 | M18: 1.91 | N18: - | O18: - | P18: 7450000 | Q18: 10.67
A20: Notes: | B20: QOF England - Copyright © Health and Social Care Information Centre 2018.
B21: These data show raw prevalence rates and unadjusted total numbers of people on GP patient registers in each area.
B22: South East England includes 2016/17 data for Aylesbury Vale/Chiltern (now Buckinghamshire CCG) as they did not provide data for QOF
B23: For Scotland, some practices are missing from the registers, so diagnosed numbers may be slightly higher (97% coverage)
B24: BHF CVD estimates based on latest prevalence data; NHS Digital/ISD Scotland/StatsWales/DH Northern Ireland and health surveys with CVD fieldwork: NHS Digital (England) and Scottish Government.
A26: Source: | B26: England - Health and Social Care Information Centre. QOF achievement data 2017/18
B27: https://digital.nhs.uk/data-and-information/publications/statistical/quality-and-outcomes-framework-achievement-prevalence-and-exceptions-data/2017-18
B28: Wales - StatsWales. QOF achievement data 2017/18
B29: http://gov.wales/statistics-and-research/general-medical-services-contract/?lang=en
B30: Scotland - ISD Scotland. prevalence data 2017/18 obtained via personal communication
B31: Northern Ireland - Department of Health, Social Services and Public Safety. QOF exception reporting data 2017/18
B32: https://www.health-ni.gov.uk/topics/doh-statistics-and-research/quality-outcomes-framework-qof

Sheet 2.6
A1: Table 2.6 Incidence of cardiovascular disease (CVD), coronary heart disease (CHD), and stroke (CBVD) by nation and region, United Kingdom 2017
A2: Back to Table of Contents
A4: Country | B4: English Region | D4: Incidence CVD 2017 est | E4: Incidence A/S CVD 2017 est | G4: Incidence CHD 2017 est | H4: Incidence A/S CHD 2017 est | J4: Incidence Stroke 2017 est | K4: Incidence Stroke A/S 2017
A5: England | B5: East Midlands | D5: 109898.28 | E5: 1180.521 | G5: 22445.213 | H5: 234.26265 | J5: 7655.5635 | K5: 85.546608
A6: England | B6: East of England | D6: 147745.73 | E6: 1197.9477 | G6: 28711.817 | H6: 225.87384 | J6: 10085.404 | K6: 84.737823
A7: England | B7: Greater London | D7: 141586.63 | E7: 1223.32 | G7: 26479.935 | H7: 227.47909 | J7: 9470.1611 | K7: 82.723097
A8: England | B8: North East England | D8: 64928.507 | E8: 1231.5975 | G8: 13699.137 | H8: 251.99041 | J8: 4537.6452 | K8: 89.457434
A9: England | B9: North West England | D9: 170886.56 | E9: 1237.8504 | G9: 35200.83 | H9: 248.00559 | J9: 11953.067 | K9: 89.777502
A10: England | B10: South East England | D10: 216660.5 | E10: 1209.828 | G10: 40055.708 | H10: 218.22812 | J10: 14442.109 | K10: 83.512296
A11: England | B11: South West England | D11: 150429.36 | E11: 1241.8597 | G11: 28317.36 | H11: 227.00855 | J11: 10159.263 | K11: 87.059189
A12: England | B12: West Midlands | D12: 128051.75 | E12: 1156.7975 | G12: 27044.722 | H12: 236.4452 | J12: 9361.7285 | K12: 87.50856
A13: England | B13: Yorkshire and the Humber | D13: 121062.87 | E13: 1169.8734 | G13: 26045.395 | H13: 244.4398 | J13: 8901.8133 | K13: 88.91595
A14: England | D14: 1251250.2 | E14: 1206.1574 | G14: 248000.12 | H14: 232.92167 | J14: 86566.755 | K14: 86.254892
A15: Scotland | D15: 131073.7 | E15: 1243.4728 | G15: 23056.451 | H15: 211.70072 | J15: 11389.518 | K15: 109.42083
A16: Wales | D16: 76542.204 | E16: 1183.8934 | G16: 10583.942 | H16: 156.05392 | J16: 6265.7116 | K16: 98.898577
A17: Northern Ireland | D17: 39192.491 | E17: 1225.4749 | G17: 6755.6824 | H17: 204.33893 | J17: 3150.2181 | K17: 99.769069
A18: United Kingdom | D18: 1498058.6 | E18: 1208.8517 | G18: 288396.19 | H18: 226.28408 | J18: 107372.2 | K18: 89.242677
A20: Notes: | B20: All figures are estimates. A/S = age standardised rate per 100,000 inhabitants.
B21: ICD-10 codes for cardiovascular disease (CVD) B33.2, G45-G46.8, I01-I01.9, I02.0, I05-I09.9, I11-I11.9, I20-I25.9, I28-I28.8, I30-I31.1, I31.8-I37.8, I38-I41.9, I42.1-I42.8,
B22: I43-I43.9, I47-I48.9, I51.0-I51.4, I60-I63.9, I65-I66.9, I67.0-I67.3, I67.5-I67.6, I68.0-I68.2, I69.0-I69.3, I70.2-I70.8, I71-I73.9, I77-I83.9, I86-I89.0, I89.9, I98, K75.1
B23: ICD-10 codes for coronary heart disease (CHD) I20-I25.9
B24: ICD-10 codes for stroke (CBVD) G45-G46.8, I60-I63.9, I65-I66.9, I67.0-I67.3, I67.5-I67.6, I68.1-I68.2, I69.0-I69.3
A26: Source: | B26: Global Health Data Exchange, GBD Results Tool | E26: http://ghdx.healthdata.org/gbd-results-tool

Sheet 2.7
A1: Table 2.7 Prevalence of cardiovascular disease (CVD), coronary heart disease (CHD), and stroke (CBVD) by nation and region, United Kingdom 2017
A2: Back to Table of Contents
A4: Nation | B4: English Region | C4: Prevalence A/S CVD 2017 est | D4: Prevalence A/S CHD 2017 est | E4: Prevalence Stroke A/S 2017
A5: England | B5: East Midlands | C5: 6257.4686 | D5: 1835.8483 | E5: 846.67826
A6: England | B6: East of England | C6: 6195.2229 | D6: 1808.5009 | E6: 807.14885
A7: England | B7: Greater London | C7: 6270.0823 | D7: 1799.1563 | E7: 776.55117
A8: England | B8: North East England | C8: 6452.354 | D8: 1971.9087 | E8: 894.32402
A9: England | B9: North West England | C9: 6430.3011 | D9: 1965.2777 | E9: 892.64835
A10: England | B10: South East England | C10: 5976.9707 | D10: 1726.6838 | E10: 784.20188
A11: England | B11: South West England | C11: 6161.569 | D11: 1815.2411 | E11: 827.99633
A12: England | B12: West Midlands | C12: 6270.1987 | D12: 1854.2948 | E12: 884.60011
A13: England | B13: Yorkshire and the Humber | C13: 6296.0664 | D13: 1945.716 | E13: 895.48864
A14: England | C14: 6225.0083 | D14: 1844.8274 | E14: 838.06536
A15: Scotland | C15: 6044.154 | D15: 1716.3416 | E15: 1143.4358
A16: Wales | C16: 6068.7156 | D16: 1519.4612 | E16: 963.04347
A17: Northern Ireland | C17: 6151.9536 | D17: 1755.9446 | E17: 932.06515
A18: United Kingdom | C18: 6199.858 | D18: 1814.082 | E18: 873.45749
A20: Notes: | B20: All figures are estimates. A/S = age standardised rate per 100,000 inhabitants.
B21: ICD-10 codes for Cardiovascular disease (CVD) B33.2, G45-G46.8, I01-I01.9, I02.0, I05-I09.9, I11-I11.9, I20-I25.9, I28-I28.8, I30-I31.1, I31.8-I37.8, I38-I41.9, I42.1-I42.8,
B22: I43-I43.9, I47-I48.9, I51.0-I51.4, I60-I63.9, I65-I66.9, I67.0-I67.3, I67.5-I67.6, I68.0-I68.2, I69.0-I69.3, I70.2-I70.8, I71-I73.9, I77-I83.9, I86-I89.0, I89.9, I98, K75.1
B23: ICD-10 codes for Coronary Heart disease (CHD) I20-I25.9
B24: ICD-10 codes for Stroke (CBVD) G45-G46.8, I60-I63.9, I65-I66.9, I67.0-I67.3, I67.5-I67.6, I68.1-I68.2, I69.0-I69.3
A26: Source: | B26: Global Health Data Exchange, GBD Results Tool | E26: http://ghdx.healthdata.org/gbd-results-tool

Sheet 2.8
A1: Table 2.8 Prevalence of selected cardiovascular conditions, England 2004/05-2017/18
A2: Back to Table of Contents
B3: 2004/05 | C3: 2005/06 | D3: 2006/07 | E3: 2007/08 | F3: 2008/09 | G3: 2009/10 | H3: 2010/11 | I3: 2011/12 | J3: 2012/13 | K3: 2013/14 | L3: 2014/15 | M3: 2015/16 | N3: 2016/17 | O3: 2017/18
B4: % | C4: % | D4: % | E4: % | F4: % | G4: % | H4: % | I4: % | J4: % | K4: % | L4: % | M4: % | N4: % | O4: %
A5: CHD | B5: 3.6 | C5: 3.6 | D5: 3.5367477 | E5: 3.5 | F5: 3.4733623 | G5: 3.4376499 | H5: 3.4031723 | I5: 3.4 | J5: 3.3 | K5: 3.3392698 | L5: 3.2 | M5: 3.1957254 | N5: 3.1532033 | O5: 3.1299242
A6: Stroke and TIA | B6: 1.5 | C6: 1.6 | D6: 1.6074056 | E6: 1.6 | F6: 1.6595692 | G6: 1.6810299 | H6: 1.7112654 | I6: 1.7 | J6: 1.7 | K6: 1.6986849 | L6: 1.7 | M6: 1.7353098 | N6: 1.7464706 | O6: 1.7656926
A7: Atrial fibrillation | D7: 1.2891949 | E7: 1.3 | F7: 1.3487371 | G7: 1.38952 | H7: 1.4340749 | I7: 1.5 | J7: 1.5 | K7: 1.5164707 | L7: 1.6 | M7: 1.7083448 | N7: 1.8362651 | O7: 1.9073154
A8: Heart failure | D8: 0.78213005 | E8: 0.8 | F8: 0.73105354 | G8: 0.71720398 | H8: 0.71208182 | I8: 0.7 | J8: 0.7 | K8: 0.70975384 | L8: 0.7 | M8: 0.75561957 | N8: 0.78890355 | O8: 0.83167838
A10: Notes: | B10: CHD: Coronary Heart Disease.
B11: TIA: Transient Ischaemic Attack.
A13: Source: | B13: England - Health and Social Care Information Centre. QOF achievement data,
B14: https://digital.nhs.uk/data-and-information/publications/statistical/quality-and-outcomes-framework-achievement-prevalence-and-exceptions-data/2017-18

Sheet 2.8F
A1: Back to Table of Contents | D1: Chronic Heart Disease | E1: Chronic Heart Disease | F1: Stroke & Transient Ischaemic Attack | G1: Stroke & Transient Ischaemic Attack | H1: Hypertension | I1: Hypertension | J1: Heart Failure | K1: Heart Failure | L1: Atrial Fibrillation | M1: Atrial Fibrillation | N1: Peripheral Arterial Disease | O1: Peripheral Arterial Disease | P1: Diabetes | Q1: Diabetes

Sheet 2.9
A1: Table 2.9 Prevalence of selected cardiovascular conditions, Scotland 2008/09-2017/18
A2: Back to Table of Contents
B3: 2008/09 | C3: 2009/10 | D3: 2010/11 | E3: 2011/12 | F3: 2012/13 | G3: 2013/14 | H3: 2014/15 | I3: 2015/16 | J3: 2016/17 | K3: 2017/18
B4: % | C4: % | D4: % | E4: % | F4: % | G4: % | H4: % | I4: % | J4: % | K4: %
A5: CHD | B5: 4.4247053 | C5: 4.3803439 | D5: 4.3718091 | E5: 4.3572518 | F5: 4.2872644 | G5: 4.2617248 | H5: 4.1423035 | I5: 4.0999226 | J5: 4.03 | K5: 3.96
A6: Stroke and TIA | B6: 2.0227794 | C6: 2.0597931 | D6: 2.1026563 | E6: 2.1475546 | F6: 2.1196178 | G6: 2.1629781 | H6: 2.1642143 | I6: 2.2033176 | J6: 2.23 | K6: 2.24
A7: Atrial fibrillation | B7: 1.3242137 | C7: 1.3727377 | D7: 1.4226005 | E7: 1.491858 | F7: 1.5261275 | G7: 1.5933632 | H7: 1.64467 | I7: 1.7105749 | J7: 1.77 | K7: 1.83
A8: Heart failure | B8: 0.83699294 | C8: 0.81839833 | D8: 0.80737623 | E8: 0.81062868 | F8: 0.818293 | G8: 0.83210305 | H8: 0.82157191 | I8: 0.84802661 | J8: 0.84 | K8: 0.83
A10: Notes: | B10: CHD: Coronary Heart Disease.
B11: TIA: Transient Ischaemic Attack.
A13: Source: | B13: Scotland - ISD Scotland. QOF achievement data to 2015/16. Prevalence data for 2016/17 and 2017/18 obtained via personal communication

Sheet 2.9F
A1: Back to Table of Contents | D1: Chronic Heart Disease | E1: Chronic Heart Disease | F1: Stroke & Transient Ischaemic Attack | G1: Stroke & Transient Ischaemic Attack | H1: Hypertension | I1: Hypertension | J1: Heart Failure | K1: Heart Failure | L1: Atrial Fibrillation | M1: Atrial Fibrillation | N1: Peripheral Arterial Disease | O1: Peripheral Arterial Disease | P1: Diabetes | Q1: Diabetes

Sheet 2.10
A1: Table 2.10 Prevalence of selected cardiovascular conditions, Wales 2006/07-2017/18
A2: Back to Table of Contents
B3: 2006/07 | C3: 2007/08 | D3: 2008/09 | E3: 2009/10 | F3: 2010/11 | G3: 2011/12 | H3: 2012/13 | I3: 2013/14 | J3: 2014/15 | K3: 2015/16 | L3: 2016/17 | M3: 2017/18
B4: % | C4: % | D4: % | E4: % | F4: % | G4: % | H4: % | I4: % | J4: % | K4: % | L4: % | M4: %
A5: CHD | B5: 4.3 | C5: 4.2 | D5: 4.2 | E5: 4.1 | F5: 4 | G5: 4 | H5: 3.9 | I5: 3.875765 | J5: 3.8 | K5: 3.7539603 | L5: 3.6998758 | M5: 3.656342
A6: Stroke and TIA | B6: 2 | C6: 2 | D6: 2 | E6: 2 | F6: 2.1 | G6: 2.1 | H6: 2 | I6: 2.0247246 | J6: 2 | K6: 2.0495528 | L6: 2.0724865 | M6: 2.0924905
A7: Atrial fibrillation | B7: 1.6 | C7: 1.6 | D7: 1.7 | E7: 1.7 | F7: 1.7 | G7: 1.8 | H7: 1.8 | I7: 1.9064184 | J7: 2 | K7: 2.0282029 | L7: 2.1036696 | M7: 2.2372612
A8: Heart failure | B8: 1 | C8: 0.9 | D8: 0.9 | E8: 0.9 | F8: 0.9 | G8: 0.9 | H8: 0.9 | I8: 0.9536199 | J8: 1 | K8: 0.98837897 | L8: 1.0130653 | M8: 1.0271973
A10: Notes: | B10: CHD: Coronary Heart Disease.
B11: TIA: Transient Ischaemic Attack.
A13: Source: | B13: Wales - StatsWales. QOF achievement data
B14: http://gov.wales/statistics-and-research/general-medical-services-contract/?lang=en

Sheet 2.10F
A1: Back to Table of Contents | D1: Chronic Heart Disease | E1: Chronic Heart Disease | F1: Stroke & Transient Ischaemic Attack | G1: Stroke & Transient Ischaemic Attack | H1: Hypertension | I1: Hypertension | J1: Heart Failure | K1: Heart Failure | L1: Atrial Fibrillation | M1: Atrial Fibrillation | N1: Peripheral Arterial Disease | O1: Peripheral Arterial Disease | P1: Diabetes | Q1: Diabetes

Sheet 2.11
A1: Table 2.11 Prevalence of selected cardiovascular conditions, Northern Ireland 2004/05-2017/18
A2: Back to Table of Contents
B3: 2004/05 | C3: 2005/06 | D3: 2006/07 | E3: 2007/08 | F3: 2008/09 | G3: 2009/10 | H3: 2010/11 | I3: 2011/12 | J3: 2012/13 | K3: 2013/14 | L3: 2014/15 | M3: 2015/16 | N3: 2016/17 | O3: 2017/18
B4: % | C4: % | D4: % | E4: % | F4: % | G4: % | H4: % | I4: % | J4: % | K4: % | L4: % | M4: % | N4: % | O4: %
A5: CHD | B5: 4.1714712 | C5: 4.2286574 | D5: 4.1958697 | E5: 4.1443181 | F5: 4.0646276 | G5: 4.0308504 | H5: 3.9851212 | I5: 3.9401528 | J5: 3.9096273 | K5: 3.8812939 | L5: 3.8420442 | M5: 3.8197028 | N5: 3.7837114 | O5: 3.7465717
A6: Stroke and TIA | B6: 1.4143393 | C6: 1.5660746 | D6: 1.6191297 | E6: 1.6477133 | F6: 1.6772434 | G6: 1.7141698 | H6: 1.7527161 | I6: 1.7829418 | J6: 1.7529636 | K6: 1.794021 | L6: 1.8126991 | M6: 1.8461684 | N6: 1.870524 | O6: 1.8875699
A7: Atrial fibrillation | D7: 1.2523783 | E7: 1.255611 | F7: 1.2865363 | G7: 1.3333684 | H7: 1.3833486 | I7: 1.4336976 | J7: 1.4539071 | K7: 1.5115955 | L7: 1.5884615 | M7: 1.6760564 | N7: 1.7705346 | O7: 1.8939634
A8: Heart failure | D8: 0.81832853 | E8: 0.79980365 | F8: 0.750691 | G8: 0.75602256 | H8: 0.75764416 | I8: 0.75143604 | J8: 0.75471184 | K8: 0.76425595 | L8: 0.78199117 | M8: 0.80478999 | N8: 0.85342242 | O8: 0.8830208
A10: Notes: | B10: CHD: Coronary Heart Disease.
B11: TIA: Transient Ischaemic Attack.
B12: Department of Health, Social Services and Public Safety. QOF exception reporting data 2017/18
A13: Source:
B14: https://www.health-ni.gov.uk/topics/doh-statistics-and-research/quality-outcomes-framework-qof

Sheet 2.11F
A1: Back to Table of Contents | D1: Chronic Heart Disease | E1: Chronic Heart Disease | F1: Stroke & Transient Ischaemic Attack | G1: Stroke & Transient Ischaemic Attack | H1: Hypertension | I1: Hypertension | J1: Heart Failure | K1: Heart Failure | L1: Atrial Fibrillation | M1: Atrial Fibrillation | N1: Peripheral Arterial Disease | O1: Peripheral Arterial Disease | P1: Diabetes | Q1: Diabetes

Sheet 2.12
A1: Table 2.12 Prevalence of selected cardiovascular conditions by gender, England 2003-2017
A2: Back to Table of Contents
C3: 2003 | D3: 2006 | E3: 2011 | F3: 2017
C4: % | D4: % | E4: % | F4: %
A6: Myocardial infarction | B6: Men | C6: 3.8 | D6: 4.1 | E6: 3.7 | F6: 3.7699008
B7: Women | C7: 1.7 | D7: 1.7 | E7: 1.6 | F7: 1.297371
B8: All adults | C8: 2.8 | D8: 2.9 | E8: 2.6 | F8: 2.5093623
A10: Angina | B10: Men | C10: 4.8 | D10: 4.8 | E10: 3.9 | F10: 3.214962
B11: Women | C11: 3.4 | D11: 3.3 | E11: 2.5 | F11: 2.1101253
B12: All adults | C12: 4.1 | D12: 4 | E12: 3.2 | F12: 2.6516971
A14: CHD | B14: Men | C14: 6.4 | D14: 6.4832819 | E14: 5.732688 | F14: 5.6054115
B15: Women | C15: 4.1 | D15: 3.9731066 | E15: 3.453229 | F15: 2.8329114
B16: All adults | C16: 5.2378361 | D16: 5.1878789 | E16: 4.570905 | F16: 4.1919429
A18: Stroke | B18: Men | C18: 2.4 | D18: 2.412914 | E18: 2.652269 | F18: 2.7113593
B19: Women | C19: 2.2 | D19: 2.1880198 | E19: 2.07432 | F19: 2.0198125
B20: All adults | C20: 2.2541699 | D20: 2.2968676 | E20: 2.357728 | F20: 2.3587968
A22: Any CVD | B22: Men | C22: 13.6 | D22: 13.6 | E22: 13.9 | F22: 14.613225
B23: Women | C23: 13 | D23: 13 | E23: 13.4 | F23: 12.517235
B24: All adults | C24: 13.3 | D24: 13.3 | E24: 13.6 | F24: 13.545532
A26: Notes: | B26: For adults aged 16 years and over. Data have been weighted for non-response.
B27: CHD: Coronary heart disease, reported as doctor-diagnosed heart attack or angina.
B28: CVD: Cardiovascular disease, i.e. doctor-diagnosed heart attack, angina, heart murmur, abnormal heart rhythm or stroke.
B29: Where an "all adults" percentage was not available, a crude average of male/female values has been used.
B30: Copyright © 2018 NHS Digital. NHS Digital is the trading name of The Health and Social Care Information Centre
A32: Source: | B32: Health Survey for England 2017, NHS Digital (2018) (accessed December 2018).
B33: https://digital.nhs.uk/data-and-information/publications/statistical/health-survey-for-england/2017

Sheet 2.12F
A1: Back to Table of Contents | D1: Chronic Heart Disease | E1: Chronic Heart Disease | F1: Stroke & Transient Ischaemic Attack | G1: Stroke & Transient Ischaemic Attack | H1: Hypertension | I1: Hypertension | J1: Heart Failure | K1: Heart Failure | L1: Atrial Fibrillation | M1: Atrial Fibrillation | N1: Peripheral Arterial Disease | O1: Peripheral Arterial Disease | P1: Diabetes | Q1: Diabetes

Sheet Data for fig 2.12a
A1: Data for figure 2.12
A2: England
C3: 2003 | D3: 2004 | E3: 2005 | F3: 2006 | G3: 2007 | H3: 2008 | I3: 2009 | J3: 2010 | K3: 2011 | L3: =K3+1 -> 2012 | M3: =L3+1 -> 2013 | N3: =M3+1 -> 2014 | O3: =N3+1 -> 2015 | P3: =O3+1 -> 2016 | Q3: =P3+1 -> 2017
A4: Myocardial infarction | B4: Men | C4: 3.8 | F4: 4.1 | K4: 3.7 | Q4: ='2.12'!F6 -> 3.7699008
B5: Women | C5: 1.7 | F5: 1.7 | K5: 1.6 | Q5: ='2.12'!F7 -> 1.297371
A7: Angina | B7: Men | C7: 4.8 | F7: 4.8 | K7: 3.9 | Q7: ='2.12'!F10 -> 3.214962
B8: Women | C8: 3.4 | F8: 3.3 | K8: 2.5 | Q8: ='2.12'!F11 -> 2.1101253
A10: CHD | B10: Men | C10: 6.4 | F10: 6.4832819 | K10: 5.732688 | Q10: ='2.12'!F14 -> 5.6054115
B11: Women | C11: 4.1 | F11: 3.9731066 | K11: 3.453229 | Q11: ='2.12'!F15 -> 2.8329114
A13: Stroke | B13: Men | C13: 2.4 | F13: 2.412914 | K13: 2.652269 | Q13: ='2.12'!F18 -> 2.7113593
B14: Women | C14: 2.2 | F14: 2.1880198 | K14: 2.07432 | Q14: ='2.12'!F19 -> 2.0198125
A16: Any CVD | B16: Men | C16: 13.6 | F16: 13.6 | K16: 13.9 | Q16: 14.613225
B17: Women | C17: 13 | F17: 13 | K17: 13.4 | Q17: 12.517235

Sheet 2.13
A1: Table 2.13 Prevalence of selected cardiovascular conditions by gender, Scotland 2003-2017
A2: Back to Table of Contents
C3: 2003 | D3: 2008 | E3: 2009 | F3: 2010 | G3: 2011 | H3: 2012 | I3: 2013 | J3: 2014 | K3: 2015 | L3: 2016 | M3: 2017
C4: % | D4: % | E4: % | F4: % | G4: % | H4: % | I4: % | J4: % | K4: % | L4: % | M4: %
A6: CHD | B6: Men | C6: 8.2 | D6: 6.9 | E6: 7.4 | F6: 7.5 | G6: 7.5 | H6: 7.3 | I6: 7.0545 | J6: 7.8 | K6: 7.4 | L6: 6.7336 | M6: 6.4167
B7: Women | C7: 6.5 | D7: 5.6 | E7: 5.2 | F7: 5.2 | G7: 4.9 | H7: 5.7 | I7: 5.2945 | J7: 4.7 | K7: 4.57 | L7: 4.2344 | M7: 3.9848
B8: All adults | C8: 7.3 | D8: 6.2 | E8: 6.2 | F8: 6.3 | G8: 6.2 | H8: 6.5 | I8: 6.1387 | J8: 6.2 | K8: 5.96 | L8: 5.435 | M8: 5.1546
A10: Stroke | B10: Men | C10: 2.4 | D10: 2.5 | E10: 2.7 | F10: 3.3 | G10: 2.9 | H10: 2.8 | I10: 3.1664 | J10: 3.3 | K10: 2.58 | L10: 3.2024 | M10: 3.1565
B11: Women | C11: 2.1 | D11: 2.8 | E11: 2.2 | F11: 2.5 | G11: 2.7 | H11: 2.8 | I11: 2.6562 | J11: 3.1 | K11: 2.61 | L11: 2.7116 | M11: 2.8231
B12: All adults | C12: 2.2 | D12: 2.6 | E12: 2.5 | F12: 2.9 | G12: 2.8 | H12: 2.8 | I12: 2.9009 | J12: 3.2 | K12: 2.6 | L12: 2.9474 | M12: 2.9835
A14: Any CVD | B14: Men | C14: 14.9 | D14: 15.1 | E14: 15.2 | F14: 16.3 | G14: 15.6 | H14: 16.6 | I14: 15.6839 | J14: 18.2 | K14: 15.62 | L14: 15.5134 | M14: 16.180782
B15: Women | C15: 14.5 | D15: 15.5 | E15: 13.7 | F15: 14 | G15: 13.8 | H15: 15.9 | I15: 15.3194 | J15: 13.8 | K15: 14.54 | L15: 14.9753 | M15: 14.604348
B16: All adults | C16: 14.7 | D16: 15.3 | E16: 14.4 | F16: 15.1 | G16: 14.6 | H16: 16.2 | I16: 15.4943 | J16: 15.9 | K16: 15.06 | L16: 15.234 | M16: 15.3628
A18: Notes: | B18: For adults aged 16 years and over.
B19: CHD: Coronary heart disease.
B20: CVD: Cardiovascular disease.
A22: Source: | B22: The Scottish Government (2018). The Scottish Health Survey 2017.
B23: https://www.gov.scot/publications/scottish-health-survey-2017-volume-1-main-report/pages/20/

Sheet 2.13F
A1: Back to Table of Contents | D1: Chronic Heart Disease | E1: Chronic Heart Disease | F1: Stroke & Transient Ischaemic Attack | G1: Stroke & Transient Ischaemic Attack | H1: Hypertension | I1: Hypertension | J1: Heart Failure | K1: Heart Failure | L1: Atrial Fibrillation | M1: Atrial Fibrillation | N1: Peripheral Arterial Disease | O1: Peripheral Arterial Disease | P1: Diabetes | Q1: Diabetes

Sheet Data for fig 2.13
A1: Data for Figure 2.13
A2: Scotland
E3: 2003 | F3: 2004 | G3: 2005 | H3: 2006 | I3: 2007 | J3: 2008 | K3: 2009 | L3: 2010 | M3: 2011 | N3: 2012 | O3: 2013 | P3: 2014 | Q3: 2015 | R3: 2016 | S3: 2017
A4: CHD | C4: Men | E4: 8.2 | J4: 6.9 | K4: 7.4 | L4: 7.5 | M4: 7.5 | N4: 7.3 | O4: 7.0545 | P4: 7.8 | Q4: 7.4 | R4: ='2.13'!L6 -> 6.7336 | S4: ='2.13'!M6 -> 6.4167
C5: Women | E5: 6.5 | J5: 5.6 | K5: 5.2 | L5: 5.2 | M5: 4.9 | N5: 5.7 | O5: 5.2945 | P5: 4.7 | Q5: 4.57 | R5: ='2.13'!L7 -> 4.2344 | S5: ='2.13'!M7 -> 3.9848
A7: Stroke | C7: Men | E7: 2.4 | J7: 2.5 | K7: 2.7 | L7: 3.3 | M7: 2.9 | N7: 2.8 | O7: 3.1664 | P7: 3.3 | Q7: 2.58 | R7: ='2.13'!L10 -> 3.2024 | S7: ='2.13'!M10 -> 3.1565
C8: Women | E8: 2.1 | J8: 2.8 | K8: 2.2 | L8: 2.5 | M8: 2.7 | N8: 2.8 | O8: 2.6562 | P8: 3.1 | Q8: 2.61 | R8: ='2.13'!L11 -> 2.7116 | S8: ='2.13'!M11 -> 2.8231
A10: Any CVD | C10: Men | E10: 14.9 | J10: 15.1 | K10: 15.2 | L10: 16.3 | M10: 15.6 | N10: 16.6 | O10: 15.6839 | P10: 18.2 | Q10: 15.62 | R10: 15.5134 | S10: 16.180782
C11: Women | E11: 14.5 | J11: 15.5 | K11: 13.7 | L11: 14 | M11: 13.8 | N11: 15.9 | O11: 15.3194 | P11: 13.8 | Q11: 14.54 | R11: 14.9753 | S11: 14.604348

Sheet 2.14
A1: Table 2.14 Prevalence of selected heart conditions and stroke by gender, Wales 2003/04-2015
A2: Back to Table of Contents
C3: %
C4: 2003/04 | D4: 2007 | E4: 2008 | F4: 2009 | G4: 2010 | H4: 2011 | I4: 2012 | J4: 2013 | K4: 2014 | L4: 2015
A6: Myocardial infarction | B6: Men | C6: 6 | D6: 6 | E6: 6 | F6: 5 | G6: 5.0459142 | H6: 5.0800025 | I6: 5.0981093 | J6: 5.0203268 | K6: 4.6 | L6: 4.9399576
B7: Women | C7: 3 | D7: 3 | E7: 2 | F7: 3 | G7: 2.5727453 | H7: 2.5062377 | I7: 2.5838957 | J7: 2.2599106 | K7: 2.4 | L7: 2.3455842
B8: All adults | C8: 5 | D8: 4 | E8: 4 | F8: 4 | G8: 3.769854 | H8: 3.7565901 | I8: 3.8105756 | J8: 3.6088576 | K8: 3.5 | L8: 3.6120564
A10: Angina | B10: Men | C10: 6 | D10: 5 | E10: 4 | F10: 5 | G10: 4.0778625 | H10: 4.0459003 | I10: 3.8688668 | J10: 3.7876436 | K10: 3.3 | L10: 3.1448392
B11: Women | C11: 5 | D11: 4 | E11: 4 | F11: 4 | G11: 3.3743721 | H11: 3.4521183 | I11: 3.2214321 | J11: 3.0755797 | K11: 3 | L11: 2.8565402
B12: All adults | C12: 5 | D12: 5 | E12: 4 | F12: 4 | G12: 3.7165365 | H12: 3.7418797 | I12: 3.5383955 | J12: 3.4236802 | K12: 3.2 | L12: 2.9975029
A14: Heart failure | B14: Men | C14: 2 | D14: 2 | E14: 2 | F14: 2 | G14: 1.5824007 | H14: 1.9117011 | I14: 1.4783988 | J14: 1.8724916 | K14: 1.6 | L14: 1.8153266
B15: Women | C15: 1 | D15: 1 | E15: 1 | F15: 1 | G15: 1.1536325 | H15: 1.204793 | I15: 1.0760008 | J15: 1.2124898 | K15: 1 | L15: 1.0832781
B16: All adults | C16: 2 | D16: 2 | E16: 1 | F16: 1 | G16: 1.362386 | H16: 1.549858 | I16: 1.2732198 | J16: 1.5352248 | K16: 1.3 | L16: 1.4422097
A18: Any heart condition | B18: Men | C18: 11 | D18: 11 | E18: 10 | F18: 10 | G18: 9.4733416 | H18: 9.7337003 | I18: 9.8533859 | J18: 9.9197035 | K18: 9.6 | L18: 9.3989463
B19: Women | C19: 9 | D19: 8 | E19: 8 | F19: 8 | G19: 7.3337545 | H19: 7.5781951 | I19: 7.5697207 | J19: 7.0197515 | K19: 7.5 | L19: 7.2750117
B20: All adults | C20: 10 | D20: 9 | E20: 9 | F20: 9 | G20: 8.3755469 | H20: 8.6324313 | I20: 8.6905477 | J20: 8.4432385 | K20: 8.5 | L20: 8.3167266
A22: Stroke | B22: Men | C22: 3 | D22: 2 | E22: 3 | F22: 3 | G22: 2.8 | H22: 2.8 | I22: 2.68 | J22: 3 | K22: 3.01 | L22: 3
B23: Women | C23: 3 | D23: 2 | E23: 2 | F23: 2 | G23: 2.1 | H23: 2.3 | I23: 2.02 | J23: 2.48 | K23: 2.32 | L23: 2.5
B24: All adults | C24: 3 | D24: 2 | E24: 2 | F24: 2 | G24: 2.5 | H24: 2.6 | I24: 2.34 | J24: 2.73 | K24: 2.66 | L24: 2.7
A26: Notes: | B26: For adults aged 16 years and over.
B27: The Welsh Health Survey was replaced with the National Survey for Wales from 2016-17 onwards.
A29: Source: | B29: The Welsh Government (2016). Welsh Health Surveys: 2003/04 - 2015 (accessed January 2017)
B30: http://gov.wales/statistics-and-research/welsh-health-survey/?tab=previous&lang=en
B32: New series = National Survey for Wales - data will be included in next compendium

Sheet 2.14F
A1: Back to Table of Contents | D1: Chronic Heart Disease | E1: Chronic Heart Disease | F1: Stroke & Transient Ischaemic Attack | G1: Stroke & Transient Ischaemic Attack | H1: Hypertension | I1: Hypertension | J1: Heart Failure | K1: Heart Failure | L1: Atrial Fibrillation | M1: Atrial Fibrillation | N1: Peripheral Arterial Disease | O1: Peripheral Arterial Disease | P1: Diabetes | Q1: Diabetes

Sheet Data for Fig 2.14
A1: Data for figure 2.14
A2: Wales
C3: 2003/04 | D3: 2005 | E3: 2006 | F3: 2007 | G3: 2008 | H3: 2009 | I3: 2010 | J3: 2011 | K3: 2012 | L3: 2013 | M3: 2014 | N3: 2015
A4: Myocardial infarction | B4: Men | C4: 6 | F4: 6 | G4: 6 | H4: 5 | I4: 5.0459142 | J4: 5.0800025 | K4: 5.0981093 | L4: 5.0203268 | M4: 4.6 | N4: 4.9399576
B5: Women | C5: 3 | F5: 3 | G5: 2 | H5: 3 | I5: 2.5727453 | J5: 2.5062377 | K5: 2.5838957 | L5: 2.2599106 | M5: 2.4 | N5: 2.3455842
A7: Angina | B7: Men | C7: 6 | F7: 5 | G7: 4 | H7: 5 | I7: 4.0778625 | J7: 4.0459003 | K7: 3.8688668 | L7: 3.7876436 | M7: 3.3 | N7: 3.1
B8: Women | C8: 5 | F8: 4 | G8: 4 | H8: 4 | I8: 3.3743721 | J8: 3.4521183 | K8: 3.2214321 | L8: 3.0755797 | M8: 3 | N8: 2.9
A11: Heart failure | B11: Men | C11: 2 | F11: 2 | G11: 2 | H11: 2 | I11: 1.5824007 | J11: 1.9117011 | K11: 1.4783988 | L11: 1.8724916 | M11: 1.6 | N11: 1.8153266
B12: Women | C12: 1 | F12: 1 | G12: 1 | H12: 1 | I12: 1.1536325 | J12: 1.204793 | K12: 1.0760008 | L12: 1.2124898 | M12: 1 | N12: 1.0832781
A14: Any heart condition | B14: Men | C14: 11 | F14: 11 | G14: 10 | H14: 10 | I14: 9.4733416 | J14: 9.7337003 | K14: 9.8533859 | L14: 9.9197035 | M14: 9.6 | N14: 9.3989463
B15: Women | C15: 9 | F15: 8 | G15: 8 | H15: 8 | I15: 7.3337545 | J15: 7.5781951 | K15: 7.5697207 | L15: 7.0197515 | M15: 7.5 | N15: 7.2750117

Sheet 2.15
A1: Table 2.15 Prevalence of selected cardiovascular conditions by age group, England 2003 to 2017
A2: Back to Table of Contents
C3: 2003 | D3: 2006 | E3: 2011 | F3: 2017
C4: % | D4: % | E4: % | F4: %
A6: CHD | B6: 16-24 | C6: 0.12482829 | D6: 0.11397698 | E6: - | F6: 0.24453113
B7: 25-34 | C7: - | D7: 0.16934948 | E7: 0.306665 | F7: 0.32089832
B8: 35-44 | C8: 0.73028296 | D8: 0.46881892 | E8: 0.703246 | F8: 0.38467275
B9: 45-54 | C9: 2.6535127 | D9: 2.4422349 | E9: 2.571295 | F9: 2.652936
B10: 55-64 | C10: 8.3987562 | D10: 6.9958533 | E10: 6.306695 | F10: 4.7647589
B11: 65-74 | C11: 15.282154 | D11: 15.137174 | E11: 11.126157 | F11: 11.394739
B12: 75+ | C12: 21.406348 | D12: 22.783151 | E12: 20.781485 | F12: 15.594494
B13: All adults | C13: 5.2378361 | D13: 5.1878789 | E13: 4.570905 | F13: 4.1919429
A15: Stroke | B15: 16-24 | C15: 0.18039604 | D15: 0.082242999 | E15: 0.088955 | F15: 0.23836929
B16: 25-34 | C16: 0.32622857 | D16: 0.061423036 | E16: 0.178699 | F16: 0.25456031
B17: 35-44 | C17: 0.44694724 | D17: 0.42903064 | E17: 0.322385 | F17: 0.25975945
B18: 45-54 | C18: 1.0634257 | D18: 1.0472549 | E18: 1.36981 | F18: 2.1802172
B19: 55-64 | C19: 2.3229294 | D19: 2.6226501 | E19: 3.239916 | F19: 2.7785192
B20: 65-74 | C20: 6.3580593 | D20: 5.614779 | E20: 5.717193 | F20: 5.0548865
B21: 75+ | C21: 10.585803 | D21: 11.632839 | E21: 10.557985 | F21: 8.7661959
B22: All adults | C22: 2.2541699 | D22: 2.2968676 | E22: 2.357728 | F22: 2.3587968
A24: CHD or Stroke | B24: 16-24 | C24: 0.30522433 | D24: 0.19621998 | E24: 0.088955 | F24: 0.48290042
B25: 25-34 | C25: 0.32622857 | D25: 0.23077251 | E25: 0.485364 | F25: 0.57545863
B26: 35-44 | C26: 1.0994214 | D26: 0.7994395 | E26: 1.025631 | F26: 0.6444322
B27: 45-54 | C27: 3.4352583 | D27: 3.341792 | E27: 3.5619 | F27: 4.5325098
B28: 55-64 | C28: 10.12085 | D28: 8.6850072 | E28: 8.5076 | F28: 6.9615459
B29: 65-74 | C29: 19.478508 | D29: 18.557418 | E29: 15.746443 | F29: 14.76711
B30: 75+ | C30: 28.373968 | D30: 31.343902 | E30: 27.558873 | F30: 22.328486
B31: All adults | C31: 6.8039008 | D31: 6.7968257 | E31: 6.256075 | F31: 6.013088
A33: Any CVD | B33: 16-34 | C33: 4.875 | D33: 4.525 | E33: 4.575 | F33: 4.7969975
B34: 35-44 | C34: 7.3 | D34: 6.7 | E34: 6.05 | F34: 6.4304244
B35: 45-54 | C35: 10.45 | D35: 10.6 | E35: 10.6 | F35: 10.750368
B36: 55-64 | C36: 17.5 | D36: 16.85 | E36: 17.95 | F36: 16.024175
B37: 65-74 | C37: 28.05 | D37: 27.65 | E37: 28.95 | F37: 27.213896
B38: 75+ | C38: 39.6 | D38: 40.65 | E38: 41.725 | F38: 37.110067
B39: All adults | C39: 13.3 | D39: 13.3 | E39: 13.65 | F39: 13.545532
A41: Notes: | B41: For all adults aged 16 years and over.
B42: CHD: Coronary heart disease, reported as doctor-diagnosed heart attack or angina.
B43: CVD: Cardiovascular disease, i.e. doctor-diagnosed heart attack, angina, heart murmur, abnormal heart rhythm or stroke.
B44: Data have been weighted for non-response.
B45: Data for 'Any CVD' for the years 2003, 2006, and 2011 is calculated as the unweighted average of male/female data.
B46: Copyright © 2018 NHS Digital. NHS Digital is the trading name of The Health and Social Care Information Centre
A48: Source: | B48: Health Survey for England 2017, NHS Digital (2018) (accessed December 2018).
B49: https://digital.nhs.uk/data-and-information/publications/statistical/health-survey-for-england/2017

Sheet 2.15F
A1: Back to Table of Contents | D1: Chronic Heart Disease | E1: Chronic Heart Disease | F1: Stroke & Transient Ischaemic Attack | G1: Stroke & Transient Ischaemic Attack | H1: Hypertension | I1: Hypertension | J1: Heart Failure | K1: Heart Failure | L1: Atrial Fibrillation | M1: Atrial Fibrillation | N1: Peripheral Arterial Disease | O1: Peripheral Arterial Disease | P1: Diabetes | Q1: Diabetes

Sheet Data for fig 2.15
A1: Data for Figure 2.15
A2: England
E3: 2003 | F3: 2004 | G3: 2005 | H3: 2006 | I3: 2007 | J3: 2008 | K3: 2009 | L3: 2010 | M3: 2011 | N3: 2012 | O3: 2013 | P3: 2014 | Q3: 2015 | R3: 2016 | S3: 2017
A4: CHD | C4: Aged 45-54 | E4: ='2.15'!C9 -> 2.6535127 | J4: ='2.15'!D9 -> 2.4422349 | M4: ='2.15'!E9 -> 2.571295 | S4: ='2.15'!F9 -> 2.652936
C5: Aged 55-64 | E5: ='2.15'!C10 -> 8.3987562 | J5: ='2.15'!D10 -> 6.9958533 | M5: ='2.15'!E10 -> 6.306695 | S5: ='2.15'!F10 -> 4.7647589
C6: Aged 65-74 | E6: ='2.15'!C11 -> 15.282154 | J6: ='2.15'!D11 -> 15.137174 | M6: ='2.15'!E11 -> 11.126157 | S6: ='2.15'!F11 -> 11.394739
C7: Aged 75+ | E7: ='2.15'!C12 -> 21.406348 | J7: ='2.15'!D12 -> 22.783151 | M7: ='2.15'!E12 -> 20.781485 | S7: ='2.15'!F12 -> 15.594494
A9: Stroke | C9: Aged 45-54 | E9: ='2.15'!C18 -> 1.0634257 | J9: ='2.15'!D18 -> 1.0472549 | M9: ='2.15'!E18 -> 1.36981 | S9: ='2.15'!F18 -> 2.1802172
C10: Aged 55-64 | E10: ='2.15'!C19 -> 2.3229294 | J10: ='2.15'!D19 -> 2.6226501 | M10: ='2.15'!E19 -> 3.239916 | S10: ='2.15'!F19 -> 2.7785192
C11: Aged 65-74 | E11: ='2.15'!C20 -> 6.3580593 | J11: ='2.15'!D20 -> 5.614779 | M11: ='2.15'!E20 -> 5.717193 | S11: ='2.15'!F20 -> 5.0548865
C12: Aged 75+ | E12: ='2.15'!C21 -> 10.585803 | J12: ='2.15'!D21 -> 11.632839 | M12: ='2.15'!E21 -> 10.557985 | S12: ='2.15'!F21 -> 8.7661959
A14: Any CVD | C14: Aged 45-54 | E14: ='2.15'!C35 -> 10.45 | J14: ='2.15'!D35 -> 10.6 | M14: ='2.15'!E35 -> 10.6 | S14: ='2.15'!F35 -> 10.750368
C15: Aged 55-64 | E15: ='2.15'!C36 -> 17.5 | J15: ='2.15'!D36 -> 16.85 | M15: ='2.15'!E36 -> 17.95 | S15: ='2.15'!F36 -> 16.024175
C16: Aged 65-74 | E16: ='2.15'!C37 -> 28.05 | J16: ='2.15'!D37 -> 27.65 | M16: ='2.15'!E37 -> 28.95 | S16: ='2.15'!F37 -> 27.213896
C17: Aged 75+ | E17: ='2.15'!C38 -> 39.6 | J17: ='2.15'!D38 -> 40.65 | M17: ='2.15'!E38 -> 41.725 | S17: ='2.15'!F38 -> 37.110067

Sheet 2.16
A1: Table 2.16 Prevalence of selected cardiovascular conditions by age group, Scotland 2003-2017
A2: Back to Table of Contents
C3: 2003 | D3: 2008 | E3: 2009 | F3: 2010 | G3: 2011 | H3: 2012 | I3: 2013 | J3: 2014 | K3: 2015 | L3: 2016 | M3: 2017
C4: % | D4: % | E4: % | F4: % | G4: % | H4: % | I4: % | J4: % | K4: % | L4: % | M4: %
A6: CHD | B6: 16-24 | C6: - | D6: - | E6: 0.1132 | F6: - | G6: 0.5936 | H6: - | I6: - | J6: - | K6: 0.6511 | L6: - | M6: -
B7: 25-34 | C7: 0.576 | D7: - | E7: 0.2423 | F7: 0.5073 | G7: 0.1108 | H7: 0.3415 | I7: 0.2992 | J7: 0.4669 | K7: 0.3709 | L7: - | M7: 0.0556
B8: 35-44 | C8: 0.7655 | D8: 0.8159 | E8: 0.6314 | F8: 0.9346 | G8: 0.2457 | H8: 1.4354 | I8: 0.5639 | J8: 0.7529 | K8: 1.0842 | L8: 0.1041 | M8: -
B9: 45-54 | C9: 4.2534 | D9: 2.685 | E9: 3.0226 | F9: 3.4511 | G9: 4.2728 | H9: 2.749 | I9: 2.4963 | J9: 3.654 | K9: 3.7638 | L9: 2.3681 | M9: 2.805
B10: 55-64 | C10: 11.9167 | D10: 10.1795 | E10: 9.6953 | F10: 8.8945 | G10: 7.5593 | H10: 9.3674 | I10: 7.9357 | J10: 10.188 | K10: 6.3267 | L10: 8.6251 | M10: 6.8129
B11: 65-74 | C11: 21.1191 | D11: 18.6638 | E11: 17.2239 | F11: 18.5999 | G11: 17.6325 | H11: 17.5085 | I11: 16.3311 | J11: 15.063 | K11: 13.5721 | L11: 13.3273 | M11: 13.1045
B12: 75+ | C12: 26.0468 | D12: 22.7603 | E12: 24.1901 | F12: 22.3307 | G12: 23.7046 | H12: 24.9772 | I12: 26.7271 | J12: 21.2156 | K12: 25.0102 | L12: 21.3792 | M12: 20.5004
B13: All adults | C13: 7.3 | D13: 6.2 | E13: 6.2 | F13: 6.3 | G13: 6.2 | H13: 6.5 | I13: 6.1387 | J13: 6.2 | K13: 5.96 | L13: 5.435 | M13: 5.1546
A15: Stroke | B15: 16-24 | C15: 0.1007 | D15: 0.0144 | E15: 0.0953 | F15: 0.0705 | G15: - | H15: - | I15: - | J15: - | K15: - | L15: 0.2587 | M15: -
B16: 25-34 | C16: 0.1013 | D16: - | E16: 0.097 | F16: 0.279 | G16: 0.3892 | H16: 0.4364 | I16: 0.2133 | J16: 0.1034 | K16: 0.2513 | L16: 0.0807 | M16: 0.1682
B17: 35-44 | C17: 0.7723 | D17: 0.9058 | E17: 0.64 | F17: 1.2973 | G17: 0.4233 | H17: 0.8753 | I17: 0.6085 | J17: 0.4635 | K17: 0.8285 | L17: 0.2331 | M17: 1.0176
B18: 45-54 | C18: 0.7211 | D18: 1.3971 | E18: 1.2428 | F18: 1.1172 | G18: 1.3543 | H18: 1.4929 | I18: 2.5886 | J18: 1.5051 | K18: 1.0582 | L18: 3.9213 | M18: 2.5268
B19: 55-64 | C19: 3.3182 | D19: 3.2209 | E19: 2.765 | F19: 4.5118 | G19: 3.5674 | H19: 3.3886 | I19: 4.4403 | J19: 4.8674 | K19: 3.9931 | L19: 2.7169 | M19: 3.8938
B20: 65-74 | C20: 5.4186 | D20: 6.4899 | E20: 6.648 | F20: 6.9812 | G20: 7.2346 | H20: 5.7128 | I20: 4.9454 | J20: 8.5274 | K20: 5.3196 | L20: 6.0328 | M20: 6.7183
B21: 75+ | C21: 9.3543 | D21: 11.6508 | E21: 10.4207 | F21: 10.653 | G21: 11.5281 | H21: 12.8932 | I21: 11.44 | J21: 11.491 | K21: 10.4278 | L21: 10.4635 | M21: 9.4953
B22: All adults | C22: 2.2 | D22: 2.6 | E22: 2.5 | F22: 2.9 | G22: 2.8 | H22: 2.8 | I22: 2.9009 | J22: 3.2 | K22: 2.6 | L22: 2.9474 | M22: 2.9835
A24: Any CVD | B24: 16-24 | C24: 3.6611 | D24: 5.6535 | E24: 4.0674 | F24: 5.1362 | G24: 5.4561 | H24: 4.5835 | I24: 5.9218 | J24: 4.9185 | K24: 5.5389 | L24: 4.9886 | M24: 4.5016
B25: 25-34 | C25: 5.278 | D25: 5.7911 | E25: 4.8706 | F25: 5.7402 | G25: 5.3399 | H25: 5.5157 | I25: 5.93 | J25: 6.9786 | K25: 5.5464 | L25: 7.2983 | M25: 6.0039
B26: 35-44 | C26: 7.163 | D26: 7.8805 | E26: 7.3616 | F26: 8.0929 | G26: 5.4085 | H26: 10.5824 | I26: 6.95 | J26: 9.1918 | K26: 7.5462 | L26: 8.6245 | M26: 7.2499
B27: 45-54 | C27: 10.843 | D27: 11.6246 | E27: 10.5634 | F27: 11.0723 | G27: 12.2321 | H27: 12.8157 | I27: 10.883 | J27: 12.0582 | K27: 12.7024 | L27: 12.6282 | M27: 10.0065
B28: 55-64 | C28: 20.3345 | D28: 20.4373 | E28: 18.9897 | F28: 19.0483 | G28: 16.5071 | H28: 19.4435 | I28: 19.7523 | J28: 20.498 | K28: 18.5377 | L28: 17.8973 | M28: 19.6638
B29: 65-74 | C29: 33.0754 | D29: 33.1373 | E29: 29.8487 | F29: 32.7406 | G29: 32.1616 | H29: 31.3848 | I29: 28.407 | J29: 29.1641 | K29: 24.8607 | L29: 26.3304 | M29: 30.1037
B30: 75+ | C30: 39.7538 | D30: 39.1337 | E30: 41.9318 | F30: 39.6737 | G30: 42.2542 | H30: 45.8316 | I30: 47.3408 | J30: 41.8442 | K30: 43.5929 | L30: 40.1598 | M30: 43.041
B31: All adults | C31: 14.7 | D31: 15.3 | E31: 14.4 | F31: 15.1 | G31: 14.6 | H31: 16.2 | I31: 15.4943 | J31: 15.9 | K31: 15.06 | L31: 15.234 | M31: 15.3628
A33: Notes: | B33: For all adults aged 16 years and over.
B34: CHD: Coronary heart disease.
B35: CVD: Cardiovascular disease.
A37: Source: | B37: The Scottish Government (2018). The Scottish Health Survey 2017.
B38: https://www.gov.scot/publications/scottish-health-survey-2017-volume-1-main-report/pages/20/

Sheet 2.16F
A1: Back to Table of Contents | D1: Chronic Heart Disease | E1: Chronic Heart Disease | F1: Stroke & Transient Ischaemic Attack | G1: Stroke & Transient Ischaemic Attack | H1: Hypertension | I1: Hypertension | J1: Heart Failure | K1: Heart Failure | L1: Atrial Fibrillation | M1: Atrial Fibrillation | N1: Peripheral Arterial Disease | O1: Peripheral Arterial Disease | P1: Diabetes | Q1: Diabetes

Sheet Data for fig 2.16
A1: Data for Figure 2.16
A2: Scotland
E3: 2003 | F3: 2004 | G3: 2005 | H3: 2006 | I3: 2007 | J3: 2008 | K3: 2009 | L3: 2010 | M3: 2011 | N3: 2012 | O3: 2013 | P3: 2014 | Q3: 2015 | R3: 2016 | S3: 2017
A4: CHD | C4: Aged 45-54 | E4: ='2.16'!C9 -> 4.2534 | J4: ='2.16'!D9 -> 2.685 | K4: ='2.16'!E9 -> 3.0226 | L4: ='2.16'!F9 -> 3.4511 | M4: ='2.16'!G9 -> 4.2728 | N4: ='2.16'!H9 -> 2.749 | O4: ='2.16'!I9 -> 2.4963 | P4: ='2.16'!J9 -> 3.654 | Q4: ='2.16'!K9 -> 3.7638 | ... S4: ='2.16'!M9 -> 2.805
C5: Aged 55-64 | E5: ='2.16'!C10 -> 11.9167 | J5: ='2.16'!D10 -> 10.1795 | K5: ='2.16'!E10 -> 9.6953 | L5: ='2.16'!F10 -> 8.8945 | M5: ='2.16'!G10 -> 7.5593 | N5: ='2.16'!H10 -> 9.3674 | O5: ='2.16'!I10 -> 7.9357 | P5: ='2.16'!J10 -> 10.188 | Q5: ='2.16'!K10 -> 6.3267 | ... S5: ='2.16'!M10 -> 6.8129
C6: Aged 65-74 | E6: ='2.16'!C11 -> 21.1191 | J6: ='2.16'!D11 -> 18.6638 | K6: ='2.16'!E11 -> 17.2239 | L6: ='2.16'!F11 -> 18.5999 | M6: ='2.16'!G11 -> 17.6325 | N6: ='2.16'!H11 -> 17.5085 | O6: ='2.16'!I11 -> 16.3311 | P6: ='2.16'!J11 -> 15.063 | Q6: ='2.16'!K11 -> 13.5721 | ... S6: ='2.16'!M11 -> 13.1045
C7: Aged 75+ | E7: ='2.16'!C12 -> 26.0468 | J7: ='2.16'!D12 -> 22.7603 | K7: ='2.16'!E12 -> 24.1901 | L7: ='2.16'!F12 -> 22.3307 | M7: ='2.16'!G12 -> 23.7046 | N7: ='2.16'!H12 -> 24.9772 | O7: ='2.16'!I12 -> 26.7271 | P7: ='2.16'!J12 -> 21.2156 | Q7: ='2.16'!K12 -> 25.0102 | ... S7: ='2.16'!M12 -> 20.5004
A9: Stroke | C9: Aged 45-54 | E9: ='2.16'!C18 -> 0.7211 | J9: ='2.16'!D18 -> 1.3971 | K9: ='2.16'!E18 -> 1.2428 | L9: ='2.16'!F18 -> 1.1172 | M9: ='2.16'!G18 -> 1.3543 | N9: ='2.16'!H18 -> 1.4929 | O9: ='2.16'!I18 -> 2.5886 | P9: ='2.16'!J18 -> 1.5051 | Q9: ='2.16'!K18 -> 1.0582 | ... S9: ='2.16'!M18 -> 2.5268
C10: Aged 55-64 | E10: ='2.16'!C19 -> 3.3182 | J10: ='2.16'!D19 -> 3.2209 | K10: ='2.16'!E19 -> 2.765 | L10: ='2.16'!F19 -> 4.5118 | M10: ='2.16'!G19 -> 3.5674 | N10: ='2.16'!H19 -> 3.3886 | O10: ='2.16'!I19 -> 4.4403 | P10: ='2.16'!J19 -> 4.8674 | Q10: ='2.16'!K19 -> 3.9931 | ... S10: ='2.16'!M19 -> 3.8938
C11: Aged 65-74 | E11: ='2.16'!C20 -> 5.4186 | J11: ='2.16'!D20 -> 6.4899 | K11: ='2.16'!E20 -> 6.648 | L11: ='2.16'!F20 -> 6.9812 | M11: ='2.16'!G20 -> 7.2346 | N11: ='2.16'!H20 -> 5.7128 | O11: ='2.16'!I20 -> 4.9454 | P11: ='2.16'!J20 -> 8.5274 | Q11: ='2.16'!K20 -> 5.3196 | ... S11: ='2.16'!M20 -> 6.7183
C12: Aged 75+ | E12: ='2.16'!C21 -> 9.3543 | J12: ='2.16'!D21 -> 11.6508 | K12: ='2.16'!E21 -> 10.4207 | L12: ='2.16'!F21 -> 10.653 | M12: ='2.16'!G21 -> 11.5281 | N12: ='2.16'!H21 -> 12.8932 | O12: ='2.16'!I21 -> 11.44 | P12: ='2.16'!J21 -> 11.491 | Q12: ='2.16'!K21 -> 10.4278 | ... S12: ='2.16'!M21 -> 9.4953
A14: Any CVD | C14: Aged 45-54 | E14: ='2.16'!C27 -> 10.843 | J14: ='2.16'!D27 -> 11.6246 | K14: ='2.16'!E27 -> 10.5634 | L14: ='2.16'!F27 -> 11.0723 | M14: ='2.16'!G27 -> 12.2321 | N14: ='2.16'!H27 -> 12.8157 | O14: ='2.16'!I27 -> 10.883 | P14: ='2.16'!J27 -> 12.0582 | Q14: ='2.16'!K27 -> 12.7024 | ... S14: ='2.16'!M27 -> 10.0065
C15: Aged 55-64 | E15: ='2.16'!C28 -> 20.3345 | J15: ='2.16'!D28 -> 20.4373 | K15: ='2.16'!E28 -> 18.9897 | L15: ='2.16'!F28 -> 19.0483 | M15: ='2.16'!G28 -> 16.5071 | N15: ='2.16'!H28 -> 19.4435 | O15: ='2.16'!I28 -> 19.7523 | P15: ='2.16'!J28 -> 20.498 | Q15: ='2.16'!K28 -> 18.5377 | ... S15: ='2.16'!M28 -> 19.6638
C16: Aged 65-74 | E16: ='2.16'!C29 -> 33.0754 | J16: ='2.16'!D29 -> 33.1373 | K16: ='2.16'!E29 -> 29.8487 | L16: ='2.16'!F29 -> 32.7406 | M16: ='2.16'!G29 -> 32.1616 | N16: ='2.16'!H29 -> 31.3848 | O16: ='2.16'!I29 -> 28.407 | P16: ='2.16'!J29 -> 29.1641 | Q16: ='2.16'!K29 -> 24.8607 | ... S16: ='2.16'!M29 -> 30.1037
C17: Aged 75+ | E17: ='2.16'!C30 -> 39.7538 | J17: ='2.16'!D30 -> 39.1337 | K17: ='2.16'!E30 -> 41.9318 | L17: ='2.16'!F30 -> 39.6737 | M17: ='2.16'!G30 -> 42.2542 | N17: ='2.16'!H30 -> 45.8316 | O17: ='2.16'!I30 -> 47.3408 | P17: ='2.16'!J30 -> 41.8442 | Q17: ='2.16'!K30 -> 43.5929 | ... S17: ='2.16'!M30 -> 43.041

Sheet 2.17
A1: Table 2.17 Prevalence of selected cardiovascular conditions by by equivalised household income and gender, England 2017
A2: Back to Table of Contents
C3: Equivalised household income quintile
C4: Highest | D4: 2nd | E4: 3rd | F4: 4th | G4: Lowest
C5: % | D5: % | E5: % | G5: %
A7: CHD | B7: Men | C7: 4.2107464 | D7: 5.6866023 | E7: 8.8103221 | F7: 7.8419917 | G7: 12.312198
B8: Women | C8: 4.3228876 | D8: 1.6622985 | E8: 3.7771919 | F8: 4.9698671 | G8: 4.1077869
B9: All adults | C9: 4.2624039 | D9: 3.6812743 | E9: 6.1812246 | F9: 6.2888587 | G9: 7.7104659
A11: Stroke | B11: Men | C11: 2.3547695 | D11: 2.5383809 | E11: 3.0982564 | F11: 5.7450452 | G11: 6.756231
B12: Women | C12: 1.3459871 | D12: 1.2596296 | E12: 2.1070484 | F12: 2.5350661 | G12: 3.43513
B13: All adults | C13: 1.890077 | D13: 1.9011736 | E13: 2.5804906 | F13: 4.0092136 | G13: 4.8934748
A15: Any CVD | B15: Men | C15: 15.307507 | D15: 18.067402 | E15: 18.715936 | F15: 19.921434 | G15: 27.171957
B16: Women | C16: 16.858716 | D16: 12.284904 | E16: 13.845685 | F16: 16.127441 | G16: 18.472041
B17: All adults | C17: 16.022858 | D17: 15.186253 | E17: 16.175547 | F17: 17.870986 | G17: 22.300217
A19: Notes: | B19: For all adults aged 35 years and over.
B20: CHD: Coronary heart disease, reported as doctor-diagnosed heart attack or angina.
B21: CVD: Cardiovascular disease, i.e. doctor-diagnosed heart attack, angina, heart murmur, abnormal heart rhythm or stroke.
B22: Data in this table are age-standardised.
B23: Copyright © 2018 NHS Digital. NHS Digital is the trading name of The Health and Social Care Information Centre a non-departmental body created by statute.
A25: Source: | B25: Health Survey for England 2017, NHS Digital (2018) (accessed December 2018).
B26: https://digital.nhs.uk/data-and-information/publications/statistical/health-survey-for-england/2017

Sheet 2.17F
A1: Back to Table of Contents | D1: Chronic Heart Disease | E1: Chronic Heart Disease | F1: Stroke & Transient Ischaemic Attack | G1: Stroke & Transient Ischaemic Attack | H1: Hypertension | I1: Hypertension | J1: Heart Failure | K1: Heart Failure | L1: Atrial Fibrillation | M1: Atrial Fibrillation | N1: Peripheral Arterial Disease | O1: Peripheral Arterial Disease | P1: Diabetes | Q1: Diabetes

Sheet Data for fig 2.17
A1: Data for Figure 2.17
A2: England
E3: Highest | F3: 2nd | G3: 3rd | H3: 4th | I3: Lowest
A4: CHD | C4: Men | E4: ='2.17'!C7 -> 4.2107464 | F4: ='2.17'!D7 -> 5.6866023 | G4: ='2.17'!E7 -> 8.8103221 | H4: ='2.17'!F7 -> 7.8419917 | I4: ='2.17'!G7 -> 12.312198
C5: Women | E5: ='2.17'!C8 -> 4.3228876 | F5: ='2.17'!D8 -> 1.6622985 | G5: ='2.17'!E8 -> 3.7771919 | H5: ='2.17'!F8 -> 4.9698671 | I5: ='2.17'!G8 -> 4.1077869
C6: All adults | E6: ='2.17'!C9 -> 4.2624039 | F6: ='2.17'!D9 -> 3.6812743 | G6: ='2.17'!E9 -> 6.1812246 | H6: ='2.17'!F9 -> 6.2888587 | I6: ='2.17'!G9 -> 7.7104659
A8: Stroke | C8: Men | E8: ='2.17'!C11 -> 2.3547695 | F8: ='2.17'!D11 -> 2.5383809 | G8: ='2.17'!E11 -> 3.0982564 | H8: ='2.17'!F11 -> 5.7450452 | I8: ='2.17'!G11 -> 6.756231
C9: Women | E9: ='2.17'!C12 -> 1.3459871 | F9: ='2.17'!D12 -> 1.2596296 | G9: ='2.17'!E12 -> 2.1070484 | H9: ='2.17'!F12 -> 2.5350661 | I9: ='2.17'!G12 -> 3.43513
C10: All adults | E10: ='2.17'!C13 -> 1.890077 | F10: ='2.17'!D13 -> 1.9011736 | G10: ='2.17'!E13 -> 2.5804906 | H10: ='2.17'!F13 -> 4.0092136 | I10: ='2.17'!G13 -> 4.8934748
A12: Any CVD | C12: Men | E12: ='2.17'!C15 -> 15.307507 | F12: ='2.17'!D15 -> 18.067402 | G12: ='2.17'!E15 -> 18.715936 | H12: ='2.17'!F15 -> 19.921434 | I12: ='2.17'!G15 -> 27.171957
C13: Women | E13: ='2.17'!C16 -> 16.858716 | F13: ='2.17'!D16 -> 12.284904 | G13: ='2.17'!E16 -> 13.845685 | H13: ='2.17'!F16 -> 16.127441 | I13: ='2.17'!G16 -> 18.472041
C14: All adults | E14: ='2.17'!C17 -> 16.022858 | F14: ='2.17'!D17 -> 15.186253 | G14: ='2.17'!E17 -> 16.175547 | H14: ='2.17'!F17 -> 17.870986 | I14: ='2.17'!G17 -> 22.300217

Sheet 2.18
A1: Table 2.18 Prevalence of selected cardiovascular conditions by by equivalised household income and gender, Scotland 2017
A2: Back to Table of Contents
C3: Equivalised household income quintile
C4: Highest | D4: 2nd | E4: 3rd | F4: 4th | G4: Lowest
C5: % | D5: % | E5: % | G5: %
A7: CHD | B7: Men | C7: 3.8559721 | D7: 6.1958574 | E7: 7.0465707 | F7: 9.6409912 | G7: 10.702675
B8: Women | C8: 1.3186843 | D8: 1.8815677 | E8: 4.7580372 | F8: 3.8100595 | G8: 6.2232798
B9: All adults | C9: 2.6561975 | D9: 4.1382252 | E9: 5.8096512 | F9: 6.4583648 | G9: 8.094757
A11: Stroke | B11: Men | C11: 1.5106642 | D11: 2.1365998 | E11: 4.251018 | F11: 5.543481 | G11: 5.4367841
B12: Women | C12: 0.48322089 | D12: 2.5518803 | E12: 2.2206083 | F12: 4.5131469 | G12: 4.3708527
B13: All adults | C13: 1.0248303 | D13: 2.3346613 | E13: 3.1536107 | F13: 4.9811063 | G13: 4.8161955
A15: Any CVD | B15: Men | C15: 11.298515 | D15: 18.38359 | E15: 18.145797 | F15: 20.731375 | G15: 23.056642
B16: Women | C16: 11.969822 | D16: 9.984062 | E16: 15.073951 | F16: 16.727976 | G16: 19.809246
B17: All adults | C17: 11.615947 | D17: 14.377568 | E17: 16.485508 | F17: 18.546248 | G17: 21.165998
A19: Notes: | B19: For all adults aged 16 years and over.
B20: CHD: Coronary heart disease, reported as doctor-diagnosed heart attack or angina.
B21: CVD: Cardiovascular disease, i.e. had cardiovascular condition (excluding diabetes/high BP)
A23: Source: | B23: The Scottish Government (2018). The Scottish Health Survey 2017.
B24: https://www.gov.scot/publications/scottish-health-survey-2017-volume-1-main-report/pages/20/

Sheet 2.18F
A1: Back to Table of Contents | D1: Chronic Heart Disease | E1: Chronic Heart Disease | F1: Stroke & Transient Ischaemic Attack | G1: Stroke & Transient Ischaemic Attack | H1: Hypertension | I1: Hypertension | J1: Heart Failure | K1: Heart Failure | L1: Atrial Fibrillation | M1: Atrial Fibrillation | N1: Peripheral Arterial Disease | O1: Peripheral Arterial Disease | P1: Diabetes | Q1: Diabetes

Sheet Data for fig 2.18
A1: Data for Figure 2.18
A2: Scotland
E3: Highest | F3: 2nd | G3: 3rd | H3: 4th | I3: Lowest
A4: CHD | C4: Men | E4: ='2.18'!C7 -> 3.8559721 | F4: ='2.18'!D7 -> 6.1958574 | G4: ='2.18'!E7 -> 7.0465707 | H4: ='2.18'!F7 -> 9.6409912 | I4: ='2.18'!G7 -> 10.702675
C5: Women | E5: ='2.18'!C8 -> 1.3186843 | F5: ='2.18'!D8 -> 1.8815677 | G5: ='2.18'!E8 -> 4.7580372 | H5: ='2.18'!F8 -> 3.8100595 | I5: ='2.18'!G8 -> 6.2232798
C6: All adults | E6: ='2.18'!C9 -> 2.6561975 | F6: ='2.18'!D9 -> 4.1382252 | G6: ='2.18'!E9 -> 5.8096512 | H6: ='2.18'!F9 -> 6.4583648 | I6: ='2.18'!G9 -> 8.094757
A8: Stroke | C8: Men | E8: ='2.18'!C11 -> 1.5106642 | F8: ='2.18'!D11 -> 2.1365998 | G8: ='2.18'!E11 -> 4.251018 | H8: ='2.18'!F11 -> 5.543481 | I8: ='2.18'!G11 -> 5.4367841
C9: Women | E9: ='2.18'!C12 -> 0.48322089 | F9: ='2.18'!D12 -> 2.5518803 | G9: ='2.18'!E12 -> 2.2206083 | H9: ='2.18'!F12 -> 4.5131469 | I9: ='2.18'!G12 -> 4.3708527
C10: All adults | E10: ='2.18'!C13 -> 1.0248303 | F10: ='2.18'!D13 -> 2.3346613 | G10: ='2.18'!E13 -> 3.1536107 | H10: ='2.18'!F13 -> 4.9811063 | I10: ='2.18'!G13 -> 4.8161955
A12: Any CVD | C12: Men | E12: ='2.18'!C15 -> 11.298515 | F12: ='2.18'!D15 -> 18.38359 | G12: ='2.18'!E15 -> 18.145797 | H12: ='2.18'!F15 -> 20.731375 | I12: ='2.18'!G15 -> 23.056642
C13: Women | E13: ='2.18'!C16 -> 11.969822 | F13: ='2.18'!D16 -> 9.984062 | G13: ='2.18'!E16 -> 15.073951 | H13: ='2.18'!F16 -> 16.727976 | I13: ='2.18'!G16 -> 19.809246
C14: All adults | E14: ='2.18'!C17 -> 11.615947 | F14: ='2.18'!D17 -> 14.377568 | G14: ='2.18'!E17 -> 16.485508 | H14: ='2.18'!F17 -> 18.546248 | I14: ='2.18'!G17 -> 21.165998

Sheet 2.19
A1: Table 2.19 Percentage of coronary heart disease (CHD) patients with each comorbidity 4N and UK
A2: Back to Table of Contents
B3: THIN base | C3: % of CHD patients with each comorbidity
C4: Atrial Fibrillation (AF) | D4: Heart failure | E4: Stroke/ transient ischaemic attack (TIA) | F4: Peripheral Vascular Disease (PVD) | G4: Hypertension | H4: Diabetes | I4: Dementia | J4: Dementia and/or Stroke | K4: Hypertension and/or Dementia | L4: Hypertension and/or Stroke | M4: Heart Failure and/or Dementia | N4: Heart Failure and/or Stroke | O4: Diabetes and/or Dementia and/or Stroke | P4: Heart Failure and/or Stroke and/or Dementia | Q4: Hypertension and/or Stroke and/or Dementia | R4: AF and/or Stroke and/or Dementia | S4: Any CVD* comorbidity | T4: Any CVD* comorbidity or hypertension | U4: Any CVD* comorbidity or hypertension or dementia | V4: Any comordibity (at least 1) | W4: 3 or more comorbidities
A5: England | B5: 81585 | C5: 0.15385181 | D5: 0.12010786 | E5: 0.13452228 | F5: 0.073089416 | G5: 0.56131642 | H5: 0.25855243 | I5: 0.050462708 | J5: 0.17124471 | K5: 0.58015567 | L5: 0.60469449 | M5: 0.16287308 | N5: 0.23052032 | O5: 0.37950604 | P5: 0.26186186 | Q5: 0.61923148 | R5: 0.28234357 | S5: 0.35609487 | T5: 0.6906294 | U5: 0.70069253 | V5: 0.92194644 | W5: 0.56613348
A6: Wales | B6: 17138 | C6: 0.15987863 | D6: 0.14027308 | E6: 0.14295717 | F6: 0.066285448 | G6: 0.57731357 | H6: 0.27208542 | I6: 0.033551173 | J6: 0.16612207 | K6: 0.59020889 | L6: 0.62142607 | M6: 0.16775586 | N6: 0.25638931 | O6: 0.38843506 | P6: 0.27611156 | Q6: 0.6312872 | R6: 0.28264675 | S6: 0.37361419 | T6: 0.70766717 | U6: 0.71496091 | V6: 0.92822967 | W6: 0.57719687
A7: Scotland | B7: 31145 | C7: 0.13986194 | D7: 0.13433938 | E7: 0.14811366 | F7: 0.089934179 | G7: 0.53575213 | H7: 0.24475839 | I7: 0.049381923 | J7: 0.1812811 | K7: 0.55485632 | L7: 0.58744582 | M7: 0.17646492 | N7: 0.2566062 | O7: 0.37511639 | P7: 0.285118 | Q7: 0.60109167 | R7: 0.28091186 | S7: 0.37961149 | T7: 0.68524643 | U7: 0.69503933 | V7: 0.9238401 | W7: 0.57447423
A8: Northern Ireland | B8: 8069 | C8: 0.15367456 | D8: 0.12108068 | E8: 0.13458917 | F8: 0.084521006 | G8: 0.55607882 | H8: 0.25306729 | I8: 0.048580989 | J8: 0.1697856 | K8: 0.57541207 | L8: 0.60044615 | M8: 0.16123435 | N8: 0.22976825 | O8: 0.37030611 | P8: 0.25963564 | Q8: 0.61531788 | R8: 0.28243896 | S8: 0.35890445 | T8: 0.6879415 | U8: 0.69859958 | V8: 0.92403024 | W8: 0.60069401
A9: UK estimate | B9: n/a | C9: 0.15369716 | D9: 0.12284126 | E9: 0.13605488 | F9: 0.073687013 | G9: 0.56135619 | H9: 0.25896209 | I9: 0.048704392 | J9: 0.17122622 | K9: 0.57964909 | L9: 0.60527377 | M9: 0.16400536 | N9: 0.23437172 | O9: 0.37984049 | P9: 0.26438985 | Q9: 0.61932156 | R9: 0.28230105 | S9: 0.35911854 | T9: 0.69191146 | U9: 0.70171134 | V9: 0.92272328 | W9: 0.56877568
A10: Estimated number of CHD patients with each comorbidity in the UK | B10: n/a | C10: 350000 | D10: 280000 | E10: 300000 | F10: 170000 | G10: 1300000 | H10: 600000 | I10: 110000 | J10: 390000 | K10: 1300000 | L10: 1400000 | M10: 370000 | N10: 530000 | O10: 860000 | P10: 600000 | Q10: 1400000 | R10: 640000 | S10: 810000 | T10: 1600000 | U10: 1600000 | V10: 2100000 | W10: 1300000
A12: Notes:
A13: * CVD here includes: Atrial fibrillation, heart failure, stroke, TIA and PVD
A15: Example lines:
A16: 15.4% of CHD patients in the UK are living with atrial fibrillation
A17: 55.5% of CHD patients in Scotland are living with hypertension and/or dementia
A18: 92.3% of CHD patients in the UK are living with at least one other comorbidity
A20: Source
A21: The Health Improvement Network (THIN) 2015

Sheet 2.20
A1: Table 2.20 Percentage of coronary heart disease (CHD) patients with each comorbidity by age band
A2: Back to Table of Contents
A3: Age band | B3: THIN base | C3: % of CHD patients with each comorbidity
C4: Atrial Fibrillation (AF) | D4: Heart failure | E4: Stroke/ TIA | F4: Peripheral Vascular Disease (PVD) | G4: Hypertension | H4: Diabetes | I4: Dementia | J4: Dementia and/or Stroke | K4: Hypertension and/or Dementia | L4: Hypertension and/or Stroke | M4: Heart Failure and/or Dementia | N4: Heart Failure and/or Stroke | O4: Heart Failure and/or Stroke and/or Dementia | P4: Hypertension and/or Stroke and/or Dementia | Q4: AF and/or Stroke and/or Dementia | R4: Diabetes and/or Dementia and/or Stroke | S4: Any CVD* comorbidity | T4: Any CVD* comorbidity or hypertension | U4: Any CVD* comorbidity or hypertension or dementia | V4: Any comordibity (at least 1) | W4: 3 or more comorbidities
A5: 45-54 | B5: 8190 | C5: 0.029304029 | D5: 0.065323565 | E5: 0.051037851 | F5: 0.033333333 | G5: 0.31807082 | H5: 0.21404151 | I5: 0.00097680098 | J5: 0.051892552 | K5: 0.31831502 | L5: 0.34456654 | M5: 0.066056166 | N5: 0.10989011 | O5: 0.11050061 | P5: 0.34481074 | Q5: 0.078144078 | R5: 0.24896215 | S5: 0.15677656 | T5: 0.41404151 | U5: 0.41416361 | V5: 0.78827839 | W5: 0.29401709
A6: 55-64 | B6: 22413 | C6: 0.060411368 | D6: 0.080979789 | E6: 0.075358051 | F6: 0.060232901 | G6: 0.44237719 | H6: 0.25556597 | I6: 0.0032124214 | J6: 0.077767367 | K6: 0.44407264 | L6: 0.47481372 | M6: 0.083701423 | N6: 0.14567439 | O6: 0.14777138 | P6: 0.47619685 | Q6: 0.12934458 | R6: 0.30540311 | S6: 0.22821577 | T6: 0.55641815 | U6: 0.55771204 | V6: 0.86092893 | W6: 0.40213269
A7: 65-74 | B7: 41917 | C7: 0.11971277 | D7: 0.10318009 | E7: 0.11076651 | F7: 0.078130591 | G7: 0.54972923 | H7: 0.27657037 | I7: 0.018369635 | J7: 0.1243171 | K7: 0.55798363 | L7: 0.58923587 | M7: 0.11937877 | N7: 0.19741394 | O7: 0.20958084 | P7: 0.5957726 | Q7: 0.22062648 | R7: 0.35773075 | S7: 0.31839111 | T7: 0.67678985 | U7: 0.6818236 | V7: 0.92103443 | W7: 0.52644512
A8: 75+ | B8: 63975 | C8: 0.22269637 | D8: 0.16529894 | E8: 0.19265338 | F8: 0.088565846 | G8: 0.64051583 | H8: 0.2517077 | I8: 0.090207112 | J8: 0.25642829 | K8: 0.67368503 | L8: 0.69725674 | M8: 0.24109418 | N8: 0.31970301 | O8: 0.37380227 | P8: 0.72214146 | Q8: 0.40706526 | R8: 0.43964048 | S8: 0.47268464 | T8: 0.79213755 | U8: 0.80925361 | V8: 0.96817507 | W8: 0.70332161
A10: Notes:
A11: * CVD here includes: Atrial fibrillation, heart failure, stroke, TIA and PVD
A13: Source
A14: The Health Improvement Network (THIN) 2015

Sheet 2.21
A1: Table 2.21 Percentage of coronary heart disease (CHD) patients with each comorbidity by Townsend score
A2: Back to Table of Contents
A3: Townsend | B3: THIN base | C3: % of CHD patients with each comorbidity
C4: Atrial Fibrillation (AF) | D4: Heart failure | E4: Stroke/ TIA | F4: Peripheral Vascular Disease (PVD) | G4: Hypertension | H4: Diabetes | I4: Dementia | J4: Dementia and/or Stroke | K4: Hypertension and/or Dementia | L4: Hypertension and/or Stroke | M4: Heart Failure and/or Dementia | N4: Heart Failure and/or Stroke | O4: Heart Failure and/or Stroke and/or Dementia | P4: Hypertension and/or Stroke and/or Dementia | Q4: AF and/or Stroke and/or Dementia | R4: Diabetes and/or Dementia and/or Stroke | S4: Any CVD* comorbidity | T4: Any CVD* comorbidity or hypertension | U4: Any CVD* comorbidity or hypertension or dementia | V4: Any comordibity (at least 1) | W4: 3 or more comorbidities
A5: 1 (Least deprived) | B5: 29694 | C5: 0.15878629 | D5: 0.11298579 | E5: 0.12510945 | F5: 0.059574325 | G5: 0.54846097 | H5: 0.22118947 | I5: 0.045227992 | J5: 0.15807907 | K5: 0.56604028 | L5: 0.58968142 | M5: 0.15245504 | N5: 0.21735031 | O5: 0.24644709 | P5: 0.60332054 | Q5: 0.27611639 | R5: 0.33791338 | S5: 0.34232505 | T5: 0.6769381 | U5: 0.68660335 | V5: 0.91045329 | W5: 0.51885903
A6: 2 | B6: 29662 | C6: 0.15733936 | D6: 0.12372733 | E6: 0.13333558 | F6: 0.067594903 | G6: 0.55387364 | H6: 0.23589104 | I6: 0.050502326 | J6: 0.17008293 | K6: 0.57342728 | L6: 0.59770076 | M6: 0.16600364 | N6: 0.23282314 | O6: 0.26387297 | P6: 0.6129054 | Q6: 0.28231407 | R6: 0.35931495 | S6: 0.35412312 | T6: 0.68471445 | U6: 0.69526667 | V6: 0.91150293 | W6: 0.54062437
A7: 3 | B7: 28299 | C7: 0.15565921 | D7: 0.12572882 | E7: 0.13739001 | F7: 0.077599915 | G7: 0.56341213 | H7: 0.25940846 | I7: 0.04823492 | J7: 0.17141948 | K7: 0.58129263 | L7: 0.6058518 | M7: 0.16668434 | N7: 0.23866568 | O7: 0.26778331 | P7: 0.6192445 | Q7: 0.28417965 | R7: 0.38146224 | S7: 0.36548995 | T7: 0.69638503 | U7: 0.70603202 | V7: 0.9270999 | W7: 0.57510866
A8: 4 | B8: 26142 | C8: 0.14340907 | D8: 0.13158901 | E8: 0.14555122 | F8: 0.0875985 | G8: 0.56575625 | H8: 0.2832224 | I8: 0.048925101 | J8: 0.17986382 | K8: 0.58362023 | L8: 0.61269222 | M8: 0.17251932 | N8: 0.25032515 | O8: 0.27962665 | P8: 0.62592763 | Q8: 0.28295463 | R8: 0.40677836 | S8: 0.37506694 | T8: 0.69799556 | U8: 0.70748221 | V8: 0.9335552 | W8: 0.609479
A9: 5 (Most deprived) | B9: 19028 | C9: 0.13506412 | D9: 0.13858524 | E9: 0.15613832 | F9: 0.099852848 | G9: 0.55565482 | H9: 0.30239647 | I9: 0.045301661 | J9: 0.18756569 | K9: 0.57289258 | L9: 0.61057389 | M9: 0.17568846 | N9: 0.26503048 | O9: 0.29120244 | P9: 0.62350221 | Q9: 0.28174269 | R9: 0.42700231 | S9: 0.38795459 | T9: 0.70380492 | U9: 0.71258146 | V9: 0.94071894 | W9: 0.63669329
A11: Notes:
A12: * CVD here includes: Atrial fibrillation, heart failure, stroke, TIA and PVD
A14: Source
A15: The Health Improvement Network (THIN) 2015

Sheet 2.22
A1: Table 2.22 Percentage of coronary heart disease (CHD) patients with each comorbidity by age band and BMI category
A2: Back to Table of Contents
A3: Age | B3: BMI category | C3: THIN base | D3: % of CHD patients with each comorbidity
D4: Atrial Fibrillation (AF) | E4: Heart failure | F4: Stroke/TIA | G4: Peripheral Vascular Disease (PVD) | H4: Hypertension | I4: Diabetes | J4: Dementia | K4: Dementia and/or Stroke | L4: Hyp and/or Dementia | M4: Hyp and/or Stroke | N4: HF and/or Dementia | O4: HF and/or Stroke | P4: HF and/or Stroke and/or Dementia | Q4: Hyp and/or Stroke and/or Dementia | R4: AF and/or Stroke and/or Dementia | S4: Diabetes and/or Dementia and/or Stroke | T4: Any CVD* comorbidity | U4: Any CVD* comorbidity or hypertension | V4: Any CVD* comorbidity or hypertension or dementia | W4: Any comordibity (at least 1) | X4: 3 or more comorbidities
A5: 65-74 | B5: Not obese | C5: 25379 | D5: 0.10859372 | E5: 0.092911462 | F5: 0.10721463 | G5: 0.078765909 | H5: 0.49659167 | I5: 0.21088301 | J5: 0.019464912 | K5: 0.12183301 | L5: 0.50628472 | M5: 0.53954057 | N5: 0.11032744 | O5: 0.18582292 | P5: 0.19902281 | Q5: 0.54734229 | R5: 0.20796722 | S5: 0.2996966 | T5: 0.30139091 | U5: 0.63260964 | V5: 0.63852004 | W5: 0.90393633 | X5: 0.47220143
B6: Obese | C6: 15677 | D6: 0.13829177 | E6: 0.11934681 | F6: 0.11634879 | G6: 0.077246922 | H6: 0.64565925 | I6: 0.39312368 | J6: 0.015245264 | K6: 0.12725649 | L6: 0.6505709 | M6: 0.67850992 | N6: 0.13229572 | O6: 0.21579384 | P6: 0.225362 | Q6: 0.68220961 | R6: 0.24079862 | S6: 0.46029215 | T6: 0.34662244 | U6: 0.75626714 | V6: 0.75913759 | W6: 0.95426421 | X6: 0.62288703
A7: 75+ | B7: Not obese | C7: 47284 | D7: 0.21884781 | E7: 0.15728365 | F7: 0.1926233 | G7: 0.090474579 | H7: 0.62080196 | I7: 0.22299298 | J7: 0.091024448 | K7: 0.25738093 | L7: 0.65569749 | M7: 0.68046274 | N7: 0.23449793 | O7: 0.31350986 | P7: 0.36887742 | Q7: 0.70681414 | R7: 0.40436511 | S7: 0.41785805 | T7: 0.46666949 | U7: 0.77910075 | V7: 0.79724643 | W7: 0.96396244 | X7: 0.68403688
B8: Obese | C8: 14503 | D8: 0.23388264 | E8: 0.1926498 | F8: 0.18223816 | G8: 0.086602772 | H8: 0.71764463 | I8: 0.3693029 | J8: 0.05950493 | K8: 0.22388471 | L8: 0.73260705 | M8: 0.75867062 | N8: 0.2396056 | O8: 0.33117286 | P8: 0.36509688 | Q8: 0.77011653 | R8: 0.39164311 | S8: 0.50237882 | T8: 0.48562366 | U8: 0.83817141 | V8: 0.84548025 | W8: 0.98386541 | X8: 0.77032338
A10: Notes:
A11: * CVD here includes: Atrial fibrillation, heart failure, stroke, TIA and PVD
A13: Source
A14: The Health Improvement Network (THIN) 2015

Sheet 2.23
A1: Table 2.23 Percentage of stroke (CBVD) patients with each comorbidity for each Nation and the UK
A2: Back to Table of Contents
B3: THIN base | C3: % of stroke patients with each comorbidity
C4: Atrial Fibrillation (AF) | D4: Heart failure | E4: Coronary Heart Disease (CHD) | F4: Peripheral Vascular Disease (PVD) | G4: Hypertension | H4: Diabetes | I4: Dementia | J4: Dementia and/or CHD | K4: Hypertension and/or Dementia | L4: Hypertension and/or CHD | M4: Heart Failure and/or Dementia | N4: Heart Failure and/or CHD | O4: Heart Failure and/or CHD and/or Dementia | P4: Hypertension and/or CHD and/or Dementia | Q4: AF and/or CHD and/or Dementia | R4: Diabetes and/or Dementia and/or CHD | S4: Any CVD* comorbidity | T4: Any CVD* comorbidity or Hypertension | U4: Any CVD* comorbidity or Hypertension or dementia | V4: Any comordibity (at least 1) | W4: 3 or more comorbidities
A5: England | B5: 56149 | C5: 0.17920177 | D5: 0.069475859 | E5: 0.21425137 | F5: 0.059359917 | G5: 0.60177385 | H5: 0.20450943 | I5: 0.084257957 | J5: 0.27624713 | K5: 0.63139148 | L5: 0.66975369 | M5: 0.1465921 | N5: 0.24515129 | O5: 0.30392349 | P5: 0.69265704 | Q5: 0.38686352 | R5: 0.40383622 | S5: 0.37612424 | T5: 0.72190066 | U5: 0.76717306 | V5: 0.93298189 | W5: 0.60261091
A6: Wales | B6: 15505 | C6: 0.17607223 | D6: 0.075846501 | E6: 0.22554015 | F6: 0.059658175 | G6: 0.61851016 | H6: 0.21773621 | I6: 0.058948726 | J6: 0.26862302 | K6: 0.63714931 | L6: 0.68803612 | M6: 0.12808771 | N6: 0.25881974 | O6: 0.29887133 | P6: 0.70177362 | Q6: 0.37439536 | R6: 0.40586907 | S6: 0.38226379 | T6: 0.73679458 | U6: 0.77400838 | V6: 0.93627862 | W6: 0.60206385
A7: Scotland | B7: 24035 | C7: 0.15614729 | D7: 0.06881631 | E7: 0.2396089 | F7: 0.07389224 | G7: 0.58215103 | H7: 0.19667152 | I7: 0.085874766 | J7: 0.29956314 | K7: 0.61497816 | L7: 0.66561265 | M7: 0.14753485 | N7: 0.26627834 | O7: 0.32340337 | P7: 0.68953609 | Q7: 0.38872478 | R7: 0.41452049 | S7: 0.38552112 | T7: 0.71412523 | U7: 0.7583108 | V7: 0.93521947 | W7: 0.60120657
A8: Northern Ireland | B8: 5586 | C8: 0.17185822 | D8: 0.085392052 | E8: 0.24740422 | F8: 0.077873255 | G8: 0.594343 | H8: 0.20139635 | I8: 0.083780881 | J8: 0.30827068 | K8: 0.62441819 | L8: 0.67382743 | M8: 0.16147512 | N8: 0.28249194 | O8: 0.34031507 | P8: 0.69566774 | Q8: 0.40422485 | R8: 0.41800931 | S8: 0.40297172 | T8: 0.72234157 | U8: 0.75957752 | V8: 0.93805943 | W8: 0.62799857
A9: UK estimate | B9: n/a | C9: 0.1765636 | D9: 0.070210437 | E9: 0.21829614 | F9: 0.061336779 | G9: 0.60052234 | H9: 0.20435206 | I9: 0.083061179 | J9: 0.2790567 | K9: 0.62988591 | L9: 0.67043498 | M9: 0.14613537 | N9: 0.24902905 | O9: 0.30662011 | P9: 0.69292167 | Q9: 0.38688859 | R9: 0.40540204 | S9: 0.37814911 | T9: 0.72194083 | U9: 0.76644656 | V9: 0.93352315 | W9: 0.60318053
A10: Estimated number of stroke survivors with each comorbidity in the UK | B10: n/a | C10: 220000 | D10: 90000 | E10: 280000 | F10: 80000 | G10: 760000 | H10: 260000 | I10: 100000 | J10: 350000 | K10: 800000 | L10: 850000 | M10: 190000 | N10: 320000 | O10: 390000 | P10: 880000 | Q10: 490000 | R10: 510000 | S10: 480000 | T10: 920000 | U10: 970000 | V10: 1200000 | W10: 770000
A12: Notes
A13: * CVD here includes: Atrial fibrillation, heart failure, CHD and PVD
A15: Example lines:
A16: 17.7% of stroke patients in the UK are living with atrial fibrillation
A17: 30% of stroke patients in Scotland are living with dementia and/or CHD
A18: 93.4% of stroke patients in the UK are living with at least one other comorbidity
A20: Source
A21: The Health Improvement Network (THIN) 2015

Sheet 2.24
A1: Table 2.24 Percentage of stroke (CBVD) patients with each comorbidity by age band
A2: Back to Table of Contents
A3: Age band | B3: THIN base | C3: % of stroke patients with each comorbidity
C4: Atrial Fibrillation (AF) | D4: Heart failure | E4: Coronary Heart Disease (CHD) | F4: Peripheral Vascular Disease (PVD) | G4: Hypertension | H4: Diabetes | I4: Dementia | J4: Dementia and/or CHD | K4: Hypertension and/or Dementia | L4: Hypertension and/or CHD | M4: Heart Failure and/or Dementia | N4: Heart Failure and/or CHD | O4: Heart Failure and/or CHD and/or Dementia | P4: Hypertension and/or CHD and/or Dementia | Q4: AF and/or CHD and/or Dementia | R4: Diabetes and/or Dementia and/or CHD | S4: Any CVD* comorbidity | T4: Any CVD* comorbidity or Hypertension | U4: Any CVD* comorbidity or Hypertension or dementia | V4: Any comordibity (at least 1) | W4: 3 or more comorbidities
A5: 45-54 | B5: 6879 | C5: 0.030818433 | D5: 0.019188836 | E5: 0.073411833 | F5: 0.024276784 | G5: 0.33682221 | H5: 0.133595 | I5: 0.0040703591 | J5: 0.077336822 | K5: 0.34002035 | L5: 0.3746184 | M5: 0.023113825 | N5: 0.083733101 | O5: 0.08751272 | P5: 0.37781654 | Q5: 0.10335805 | R5: 0.18752726 | S5: 0.12312836 | T5: 0.40282018 | U5: 0.45369967 | V5: 0.81014682 | W5: 0.32039541
A6: 55-64 | B6: 14355 | C6: 0.070498084 | D6: 0.033577151 | E6: 0.14294671 | F6: 0.046116336 | G6: 0.48672936 | H6: 0.19491466 | I6: 0.01107628 | J6: 0.15242076 | K6: 0.49230233 | L6: 0.54740509 | M6: 0.044235458 | N6: 0.15729711 | O6: 0.16663184 | P6: 0.5523511 | Q6: 0.2057123 | R6: 0.29453152 | S6: 0.23295019 | T6: 0.59031696 | U6: 0.63650296 | V6: 0.89007315 | W6: 0.44750958
A7: 65-74 | B7: 26233 | C7: 0.13845157 | D7: 0.055235772 | E7: 0.21209926 | F7: 0.069187664 | G7: 0.60538253 | H7: 0.22852895 | I7: 0.037586246 | J7: 0.24019365 | K7: 0.62055426 | L7: 0.67975451 | M7: 0.090458583 | N7: 0.2345519 | O7: 0.26192201 | P7: 0.69172416 | Q7: 0.33328251 | R7: 0.38695536 | S7: 0.35215187 | T7: 0.72984409 | U7: 0.77086113 | V7: 0.93977052 | W7: 0.56966416
A8: 75+ | B8: 50637 | C8: 0.24898789 | D8: 0.10055888 | E8: 0.28615439 | F8: 0.075280921 | G8: 0.69253708 | H8: 0.21375674 | I8: 0.13821909 | J8: 0.38540988 | K8: 0.74007149 | L8: 0.77597409 | M8: 0.22596125 | N8: 0.32922567 | O8: 0.42275411 | P8: 0.81126449 | Q8: 0.52576179 | R8: 0.50111578 | S8: 0.49363114 | T8: 0.83395541 | U8: 0.87755989 | V8: 0.97778304 | W8: 0.73264609
A10: Notes
A11: * CVD here includes: Atrial fibrillation, heart failure, CHD and PVD
A13: Source
A14: The Health Improvement Network (THIN) 2015

Sheet 2.25
A1: Table 2.25 Percentage of stroke (CBVD) patients with each comorbidity by Townsend score
A2: Back to Table of Contents
A3: Townsend score | B3: THIN base | C3: % of stroke patients with each comorbidity
C4: Atrial Fibrillation (AF) | D4: Heart failure | E4: Coronary Heart Disease (CHD) | F4: Peripheral Vascular Disease (PVD) | G4: Hypertension | H4: Diabetes | I4: Dementia | J4: Dementia and/or CHD | K4: Hypertension and/or Dementia | L4: Hypertension and/or CHD | M4: Heart Failure and/or Dementia | N4: Heart Failure and/or CHD | O4: Heart Failure and/or CHD and/or Dementia | P4: Hypertension and/or CHD and/or Dementia | Q4: AF and/or CHD and/or Dementia | R4: Diabetes and/or Dementia and/or CHD | S4: Any CVD* comorbidity | T4: Any CVD* comorbidity or Hypertension | U4: Any CVD* comorbidity or Hypertension or dementia | V4: Any comordibity (at least 1) | W4: 3 or more comorbidities
A5: 1 (Least deprived) | B5: 19234 | C5: 0.19034002 | D5: 0.065768951 | E5: 0.20489758 | F5: 0.05011958 | G5: 0.59254445 | H5: 0.17359884 | I5: 0.074451492 | J5: 0.25938442 | K5: 0.61911199 | L5: 0.65961318 | M5: 0.13387751 | N5: 0.23619632 | O5: 0.28740772 | P5: 0.6797338 | Q5: 0.38114797 | R5: 0.3684621 | S5: 0.37158157 | T5: 0.71659561 | U5: 0.75621296 | V5: 0.9256005 | W5: 0.56405324
A6: 2 | B6: 19670 | C6: 0.186121 | D6: 0.070462633 | E6: 0.21286223 | F6: 0.0587697 | G6: 0.60498221 | H6: 0.18729029 | I6: 0.087951195 | J6: 0.27844433 | K6: 0.63711235 | L6: 0.67478393 | M6: 0.15083884 | N6: 0.24412811 | O6: 0.30625318 | P6: 0.69959329 | Q6: 0.39176411 | R6: 0.39339095 | S6: 0.37752923 | T6: 0.72638536 | U6: 0.76786985 | V6: 0.92887646 | W6: 0.59344179
A7: 3 | B7: 18951 | C7: 0.17798533 | D7: 0.070972508 | E7: 0.22072714 | F7: 0.061368793 | G7: 0.6031344 | H7: 0.20547728 | I7: 0.082739697 | J7: 0.28061844 | K7: 0.6330009 | L7: 0.67120469 | M7: 0.14674687 | N7: 0.25233497 | O7: 0.30953512 | P7: 0.69363094 | Q7: 0.38800063 | R7: 0.40884386 | S7: 0.380877 | T7: 0.72217825 | U7: 0.76798058 | V7: 0.93514854 | W7: 0.60519234
A8: 4 | B8: 17150 | C8: 0.1587172 | D8: 0.075860058 | E8: 0.2412828 | F8: 0.072944606 | G8: 0.60344023 | H8: 0.22676385 | I8: 0.083323615 | J8: 0.30005831 | K8: 0.63282799 | L8: 0.68204082 | M8: 0.15142857 | N8: 0.27241983 | O8: 0.32827988 | P8: 0.70367347 | Q8: 0.39294461 | R8: 0.43597668 | S8: 0.39072886 | T8: 0.7296793 | U8: 0.77527697 | V8: 0.94355685 | W8: 0.63049563
A9: 5 (Most deprived) | B9: 12470 | C9: 0.1468324 | D9: 0.077465918 | E9: 0.25677626 | F9: 0.087810746 | G9: 0.58348035 | H9: 0.24386528 | I9: 0.075140337 | J9: 0.30930233 | K9: 0.60922213 | L9: 0.67289495 | M9: 0.14514836 | N9: 0.28500401 | O9: 0.33464314 | P9: 0.69174018 | Q9: 0.38700882 | R9: 0.45148356 | S9: 0.3989575 | T9: 0.72052927 | U9: 0.7659984 | V9: 0.94627105 | W9: 0.65437049
A11: Notes
A12: * CVD here includes: Atrial fibrillation, heart failure, CHD and PVD
A14: Source
A15: The Health Improvement Network (THIN) 2015

Sheet 2.26
A1: Table 2.26 Percentage of stroke (CBVD) patients with each comorbidity by age band and BMI category
A2: Back to Table of Contents
A3: Age | B3: BMI category | C3: THIN base | D3: % of Stroke patients with each comorbidity by BMI category at age 65
D4: Atrial Fibrillation (AF) | E4: Heart failure | F4: Coronary Heart Disease (CHD) | G4: Peripheral Vascular Disease (PVD) | H4: Hypertension | I4: Diabetes | J4: Dementia | K4: Dementia and/or CHD | L4: Hyp and/or Dementia | M4: Hyp and/or CHD | N4: HF and/or Dementia | O4: HF and/or CHD | P4: HF and/or CHD and/or Dementia | Q4: Hyp and/or CHD and/or Dementia | R4: AF and/or CHD and/or Dementia | S4: Diabetes and/or Dementia and/or CHD | T4: Any CVD* comorbidity | U4: Any CVD* comorbidity or hypertension | V4: Any CVD* comorbidity or hypertension or dementia | W4: Any comordibity (at least 1) | X4: 3 or more comorbidities
A5: 65-74 | B5: Not obese | C5: 16682 | D5: 0.12852176 | E5: 0.045078528 | F5: 0.19248292 | G5: 0.071753986 | H5: 0.56234264 | I5: 0.16784558 | J5: 0.037165807 | K5: 0.220657 | L5: 0.57864764 | M5: 0.63805299 | N5: 0.08020621 | O5: 0.21094593 | P5: 0.23852056 | Q5: 0.65100108 | R5: 0.30937537 | S5: 0.33077569 | T5: 0.32915718 | U5: 0.69296247 | V5: 0.73012828 | W5: 0.92824601 | X5: 0.52769452
B6: Obese | C6: 8524 | D6: 0.16119193 | E6: 0.076372595 | F6: 0.26290474 | G6: 0.066635382 | H6: 0.70729704 | I6: 0.36414829 | J6: 0.032848428 | K6: 0.28566401 | L6: 0.71679962 | M6: 0.78108869 | N6: 0.10652276 | O6: 0.29317222 | P6: 0.31511028 | Q6: 0.78801032 | R6: 0.38843266 | S6: 0.51525106 | T6: 0.41037072 | U6: 0.82015486 | V6: 0.86672924 | W6: 0.97125763 | X6: 0.67280619
A7: 75+ | B7: Not obese | C7: 37329 | D7: 0.24551957 | E7: 0.093734094 | F7: 0.28430979 | G7: 0.077848322 | H7: 0.67864127 | I7: 0.18961129 | J7: 0.13536393 | K7: 0.38115138 | L7: 0.72592354 | M7: 0.76567816 | N7: 0.21760561 | O7: 0.32344826 | P7: 0.41525356 | Q7: 0.80045005 | R7: 0.52005143 | S7: 0.48351148 | T7: 0.48881567 | U7: 0.82683704 | V7: 0.86945806 | W7: 0.97607758 | X7: 0.71887808
B8: Obese | C8: 10097 | D8: 0.26562345 | E8: 0.13162325 | F8: 0.3171239 | G8: 0.07418045 | H8: 0.77666634 | I8: 0.34426067 | J8: 0.098247004 | K8: 0.38377736 | L8: 0.80093097 | M8: 0.84817272 | N8: 0.2151134 | O8: 0.37298207 | P8: 0.43379222 | Q8: 0.86590076 | R8: 0.53283153 | S8: 0.57432901 | T8: 0.53203922 | U8: 0.88887788 | V8: 0.92344261 | W8: 0.99059126 | X8: 0.8047935
A10: Notes
A11: * CVD here includes: Atrial fibrillation, heart failure, CHD and PVD
A13: Source
A14: The Health Improvement Network (THIN) 2015

Sheet 2.27
A1: Table 2.27 Incidence of cardiovascular disease (CVD), coronary heart disease (CHD), and stroke (CBVD), 2017
A2: Back to Table of Contents
A4: Region | B4: Country | D4: Incidence CVD 2017 est | E4: Incidence A/S CVD 2017 est | F4: Incidence CHD 2017 est | G4: Incidence A/S CHD 2017 est | H4: Incidence Stroke 2017 est | I4: Incidence Stroke A/S 2017
A5: GLOBAL | D5: 72721167 | E5: 922.28844 | F5: 10636538 | G5: 135.55309 | H5: 11931061 | I5: 150.53286
A6: EUROPE | D6: 18043063 | E6: 1185.9111 | F6: 3004370.2 | G6: 190.81139 | H6: 1967890.2 | I6: 130.67467
A7: EUROPE | B7: Austria | D7: 290598.35 | E7: 1656.3708 | F7: 27869.168 | G7: 150.87874 | H7: 19829.625 | I7: 117.418
A8: EUROPE | B8: Belgium | D8: 285671.77 | E8: 1278.965 | F8: 37292.14 | G8: 161.75304 | H8: 22510.696 | I8: 100.08859
A9: EUROPE | B9: Czech Republic | D9: 297252.88 | E9: 1468.8563 | F9: 44115.091 | G9: 214.86955 | H9: 28615.985 | I9: 142.52792
A10: EUROPE | B10: Denmark | D10: 141830.48 | E10: 1290.9862 | F10: 19024.671 | G10: 166.72541 | H10: 10456.153 | I10: 97.799257
A11: EUROPE | B11: Finland | D11: 173873.38 | E11: 1480.8309 | F11: 22306.28 | G11: 179.45163 | H11: 14437.591 | I11: 126.67918
A12: EUROPE | B12: France | D12: 1473394.9 | E12: 1114.5129 | F12: 176831.44 | G12: 126.22697 | H12: 110018.48 | I12: 85.021679
A13: EUROPE | B13: Germany | D13: 2559495.9 | E13: 1384.4805 | F13: 339346.73 | G13: 172.04836 | H13: 192031.72 | I13: 107.08373
A14: EUROPE | B14: Greece | D14: 277652.89 | E14: 1181.1493 | F14: 40432.598 | G14: 159.18203 | H14: 27812.945 | I14: 116.8241
A15: EUROPE | B15: Hungary | D15: 257752.82 | E15: 1371.1928 | F15: 41591.77 | G15: 212.10932 | H15: 26547.775 | I15: 141.39022
A16: EUROPE | B16: Ireland | D16: 83620.656 | E16: 1171.7634 | F16: 11023.41 | G16: 150.76179 | H16: 6597.8258 | I16: 93.847473
A17: EUROPE | B17: Italy | D17: 1645526.4 | E17: 1174.8093 | F17: 227284.73 | G17: 154.49937 | H17: 121862.94 | I17: 82.756419
A18: EUROPE | B18: Netherlands | D18: 357694.84 | E18: 1110.9204 | F18: 67552.337 | G18: 202.87778 | H18: 32571.258 | I18: 102.91885
... A28: EUROPE | B28: United Kingdom | D28: 1498058.6 | E28: 1208.8517 | F28: 288396.19 | G28: 226.28408 | H28: 107372.2 | I28: 89.242677
A29: EUROPE | B29: United Kingdom | C29: England | D29: 1251250.2 | E29: 1206.1574 | F29: 248000.12 | G29: 232.92167 | H29: 86566.755 | I29: 86.254892
A30: EUROPE | B30: United Kingdom | C30: Scotland | D30: 131073.7 | E30: 1243.4728 | F30: 23056.451 | G30: 211.70072 | H30: 11389.518 | I30: 109.42083
A31: EUROPE | B31: United Kingdom | C31: Wales | D31: 76542.204 | E31: 1183.8934 | F31: 10583.942 | G31: 156.05392 | H31: 6265.7116 | I31: 98.898577
A32: EUROPE | B32: United Kingdom | C32: Northern Ireland | D32: 39192.491 | E32: 1225.4749 | F32: 6755.6824 | G32: 204.33893 | H32: 3150.2181 | I32: 99.769069
A33: NORTH AMERICA | D33: 9362846.5 | E33: 1560.476 | F33: 1136978.4 | G33: 189.24655 | H33: 666298.05 | I33: 113.48085
A34: NORTH AMERICA | B34: Canada | D34: 873539.82 | E34: 1336.377 | F34: 91084.941 | G34: 134.03683 | H34: 65023.74 | I34: 100.4892
A35: NORTH AMERICA | B35: United States | D35: 8488509.4 | E35: 1588.2179 | F35: 1045779 | G35: 195.94269 | H35: 601161.35 | I35: 115.03001
A36: LATIN AMERICA & CARIBBEAN | D36: 3851701.6 | E36: 674.89245 | F36: 505443.94 | G36: 89.931911 | H36: 599986.51 | I36: 104.82653
A37: LATIN AMERICA & CARIBBEAN | B37: Brazil | D37: 1550188.5 | E37: 687.47266 | F37: 176968.98 | G37: 78.800512 | H37: 267329.9 | I37: 117.54377
A38: ASIA | D38: 35151913 | E38: 774.77051 | F38: 4891408.2 | G38: 110.0197 | H38: 7696374.4 | I38: 169.4412
A39: ASIA | B39: China | D39: 13540596 | E39: 731.63908 | F39: 1580843.4 | G39: 86.33305 | H39: 4257750.9 | I39: 226.40201
A40: ASIA | B40: India | D40: 7384663.7 | E40: 679.17671 | F40: 1203340.9 | G40: 118.34395 | H40: 1137075.2 | I40: 105.0322
A41: ASIA | B41: Japan | D41: 3547972.3 | E41: 1117.8064 | F41: 362133.18 | G41: 105.85135 | H41: 449535.41 | I41: 153.92985
A42: ASIA | B42: Turkey | D42: 743120.65 | E42: 851.4024 | F42: 189765.1 | G42: 216.19951 | H42: 133202.06 | I42: 152.5766
A43: ASIA | B43: United Arab Emirates | D43: 52106.149 | E43: 981.13685 | F43: 15159.589 | G43: 266.17732 | H43: 9546.025 | I43: 206.76193
A44: AFRICA | D44: 5214302.4 | E44: 796.45372 | F44: 952780.66 | G44: 171.9509 | H44: 840897.88 | I44: 137.23178
A45: AFRICA | B45: South Africa | D45: 348484.79 | E45: 781.98971 | F45: 47605.924 | G45: 112.25688 | H45: 51615.195 | I45: 118.54228
A46: AUSTRALASIA | D46: 375532.54 | E46: 787.98389 | F46: 77092.535 | G46: 158.81105 | H46: 39065.181 | I46: 82.139846
A47: AUSTRALASIA | B47: Australia | D47: 312266.54 | E47: 776.99403 | F47: 62801.335 | G47: 153.19533 | H47: 33228.18 | I47: 82.732029
A48: AUSTRALASIA | B48: New Zealand | D48: 63265.999 | E48: 847.0618 | F48: 14291.2 | G48: 188.39665 | H48: 5837.0007 | I48: 79.033157
A50: Notes: | B50: All figures are estimates. A/S = age standardised rate per 100,000 inhabitants.
B51: ICD-10 codes for cardiovascular disease (CVD) B33.2, G45-G46.8, I01-I01.9, I02.0, I05-I09.9, I11-I11.9, I20-I25.9, I28-I28.8, I30-I31.1, I31.8-I37.8, I38-I41.9, I42.1-I42.8,
B52: I43-I43.9, I47-I48.9, I51.0-I51.4, I60-I63.9, I65-I66.9, I67.0-I67.3, I67.5-I67.6, I68.0-I68.2, I69.0-I69.3, I70.2-I70.8, I71-I73.9, I77-I83.9, I86-I89.0, I89.9, I98, K75.1
B53: ICD-10 codes for coronary heart disease (CHD) I20-I25.9
B54: ICD-10 codes for stroke (CBVD) G45-G46.8, I60-I63.9, I65-I66.9, I67.0-I67.3, I67.5-I67.6, I68.1-I68.2, I69.0-I69.3
B55: Regions and countries as defined by the Global Health Data Exchange | F55: http://ghdx.healthdata.org/countries
A57: Source: | B57: Global Health Data Exchange, GBD Results Tool | E57: http://ghdx.healthdata.org/gbd-results-tool

Sheet 2.28
A1: Table 2.28 Prevalence of cardiovascular disease (CVD), coronary heart disease (CHD), and stroke (CBVD), 2017
A2: Back to Table of Contents
A4: Region | B4: Country | D4: Prevalence CVD 2017 est | E4: Prevalence A/S CVD 2017 est | F4: Prevalence CHD 2017 est | G4: Prevalence A/S CHD 2017 est | H4: Prevalence Stroke 2017 est | I4: Prevalence Stroke A/S 2017
A5: GLOBAL | D5: 4.8562095e+08 | E5: 6081.5791 | F5: 1.264515e+08 | G5: 1583.685 | H5: 1.0417874e+08 | I5: 1300.6442
A6: EUROPE | D6: 94278551 | E6: 6468.5138 | F6: 30009335 | G6: 1991.3123 | H6: 17388205 | I6: 1187.7342
A7: EUROPE | B7: Austria | D7: 1081631.6 | E7: 6545.0155 | F7: 252256.71 | G7: 1456.9641 | H7: 157170.21 | I7: 972.60406
A8: EUROPE | B8: Belgium | D8: 1415336.9 | E8: 6916.4799 | F8: 330986.51 | G8: 1502.618 | H8: 189027.74 | I8: 899.31571
A9: EUROPE | B9: Czech Republic | D9: 1634317.3 | E9: 8457.2211 | F9: 529504.41 | G9: 2650.6288 | H9: 271564.5 | I9: 1363.5582
A10: EUROPE | B10: Denmark | D10: 670671.8 | E10: 6402.4881 | F10: 169130.58 | G10: 1525.3691 | H10: 94795.57 | I10: 912.97035
A11: EUROPE | B11: Finland | D11: 696444.75 | E11: 6233.6809 | F11: 201294.38 | G11: 1729.042 | H11: 118996.88 | I11: 1097.1144
A12: EUROPE | B12: France | D12: 7967253.4 | E12: 6501.5208 | F12: 1771918.3 | G12: 1365.4006 | H12: 996828.63 | I12: 808.20259
A13: EUROPE | B13: Germany | D13: 11214341 | E13: 6607.2371 | F13: 2859126.9 | G13: 1570.8152 | H13: 1686220 | I13: 984.75806
A14: EUROPE | B14: Greece | D14: 1272696.3 | E14: 5867.4504 | F14: 344612.13 | G14: 1482.1188 | H14: 208220.76 | I14: 955.25028
A15: EUROPE | B15: Hungary | D15: 1374422.9 | E15: 7512.7636 | F15: 526503.81 | G15: 2837.3771 | H15: 273775 | I15: 1479.7621
A16: EUROPE | B16: Ireland | D16: 417115.57 | E16: 5972.0449 | F16: 107008.26 | G16: 1488.6526 | H16: 62227.417 | I16: 897.11923
A17: EUROPE | B17: Italy | D17: 7488554.2 | E17: 5683.0642 | F17: 2101869.8 | G17: 1527.814 | H17: 751493.75 | I17: 570.17224
A18: EUROPE | B18: Netherlands | D18: 1930231 | E18: 6178.1774 | F18: 596494.64 | G18: 1821.1191 | H18: 288712.67 | I18: 928.47608
... A28: EUROPE | B28: United Kingdom # | D28: 7178910.7 | E28: 6199.858 | F28: 2224181.8 | G28: 1814.082 | H28: 1015201.3 | I28: 873.45749
A29: EUROPE | B29: United Kingdom | C29: England # | D29: 6013217.6 | E29: 6225.0083 | F29: 1887709.2 | G29: 1844.8274 | H29: 814371.19 | I29: 838.06536
A30: EUROPE | B30: United Kingdom | C30: Scotland # | D30: 607916.52 | E30: 6044.154 | F30: 182254.39 | G30: 1716.3416 | H30: 113790.89 | I30: 1143.4358
A31: EUROPE | B31: United Kingdom | C31: Wales # | D31: 369300.73 | E31: 6068.7156 | F31: 97969.563 | G31: 1519.4612 | H31: 58614.753 | I31: 963.04347
A32: EUROPE | B32: United Kingdom | C32: Northern Ireland # | D32: 188475.84 | E32: 6151.9536 | F32: 56248.621 | G32: 1755.9446 | H32: 28424.448 | I32: 932.06515
A33: NORTH AMERICA | D33: 41895335 | E33: 7220.3429 | F33: 10357085 | G33: 1721.3177 | H33: 8488300.4 | I33: 1496.3405
A34: NORTH AMERICA | B34: Canada | D34: 4206803.4 | E34: 6781.297 | F34: 840370.01 | G34: 1274.1549 | H34: 709411.19 | I34: 1165.7282
A35: NORTH AMERICA | B35: United States | D35: 37681554 | E35: 7275.8002 | F35: 9514750.4 | G35: 1775.8851 | H35: 7777757.5 | I35: 1536.4604
A36: LATIN AMERICA & CARIBBEAN | D36: 33920858 | E36: 5892.5307 | F36: 8750282.7 | G36: 1532.1304 | H36: 5713417.1 | I36: 991.91765
A37: LATIN AMERICA & CARIBBEAN | B37: Brazil | D37: 13702303 | E37: 6024.9714 | F37: 3570467.5 | G37: 1563.7486 | H37: 2593370.1 | I37: 1132.9155
A38: ASIA | D38: 2.6439072e+08 | E38: 5673.2966 | F38: 64814807 | G38: 1403.0842 | H38: 63788339 | I38: 1365.9862
A39: ASIA | B39: China | D39: 1.0667035e+08 | E39: 5631.5834 | F39: 22780320 | G39: 1188.0594 | H39: 33811146 | I39: 1757.1016
A40: ASIA | B40: India | D40: 59232347 | E40: 5214.1609 | F40: 16532233 | G40: 1529.302 | H40: 9861813.9 | I40: 860.98658
A41: ASIA | B41: Japan | D41: 15645707 | E41: 5302.5966 | F41: 3759290.1 | G41: 1117.5245 | H41: 3713229.8 | I41: 1266.7958
A42: ASIA | B42: Turkey | D42: 5833806.2 | E42: 6635.7678 | F42: 1946079.6 | G42: 2228.471 | H42: 1103908.8 | I42: 1259.6184
A43: ASIA | B43: United Arab Emirates | D43: 414560.26 | E43: 6917.231 | F43: 125206.09 | G43: 2561.9044 | H43: 103891.45 | I43: 1919.5192
A44: AFRICA | D44: 44523716 | E44: 6258.2346 | F44: 11078114 | G44: 1827.2574 | H44: 7396261 | I44: 1117.4486
A45: AFRICA | B45: South Africa | D45: 2764821.4 | E45: 6059.2873 | F45: 674355.73 | G45: 1545.5224 | H45: 474814.77 | I45: 1064.0561
A46: AUSTRALASIA | D46: 2300815.3 | E46: 4946.4464 | F46: 745421.99 | G46: 1563.3395 | H46: 337099.76 | I46: 728.16561
A47: AUSTRALASIA | B47: Australia | D47: 1935264.9 | E47: 4946.1586 | F47: 616894.89 | G47: 1537.1896 | H47: 284034.28 | I47: 726.64065
A48: AUSTRALASIA | B48: New Zealand | D48: 365550.38 | E48: 4950.6584 | F48: 128527.09 | G48: 1702.4112 | H48: 53065.485 | I48: 737.65946
A51: Notes: | B51: All figures are estimates. A/S = age standardised rate per 100,000 inhabitants. | G51: # UK please check other tables in this chapter (but shown here for comparative purposes)
B52: ICD-10 codes for cardiovascular disease (CVD) B33.2, G45-G46.8, I01-I01.9, I02.0, I05-I09.9, I11-I11.9, I20-I25.9, I28-I28.8, I30-I31.1, I31.8-I37.8, I38-I41.9, I42.1-I42.8,
B53: I43-I43.9, I47-I48.9, I51.0-I51.4, I60-I63.9, I65-I66.9, I67.0-I67.3, I67.5-I67.6, I68.0-I68.2, I69.0-I69.3, I70.2-I70.8, I71-I73.9, I77-I83.9, I86-I89.0, I89.9, I98, K75.1
B54: ICD-10 codes for coronary heart disease (CHD) I20-I25.9
B55: ICD-10 codes for stroke (CBVD) G45-G46.8, I60-I63.9, I65-I66.9, I67.0-I67.3, I67.5-I67.6, I68.1-I68.2, I69.0-I69.3
B56: Regions and countries as defined by the Global Health Data Exchange | F56: http://ghdx.healthdata.org/countries
A58: Source: | B58: Global Health Data Exchange, GBD Results Tool | E58: http://ghdx.healthdata.org/gbd-results-tool
